BEGIN:VCALENDAR
VERSION:2.0
PRODID:-//43. sz. Építők SK - ECPv6.14.0//NONSGML v1.0//EN
CALSCALE:GREGORIAN
METHOD:PUBLISH
X-ORIGINAL-URL:https://www.43szepitoksk.hu
X-WR-CALDESC:Események 43. sz. Építők SK
REFRESH-INTERVAL;VALUE=DURATION:PT1H
X-Robots-Tag:noindex
X-PUBLISHED-TTL:PT1H
BEGIN:VTIMEZONE
TZID:Europe/Budapest
BEGIN:DAYLIGHT
TZOFFSETFROM:+0100
TZOFFSETTO:+0200
TZNAME:CEST
DTSTART:20200329T010000
END:DAYLIGHT
BEGIN:STANDARD
TZOFFSETFROM:+0200
TZOFFSETTO:+0100
TZNAME:CET
DTSTART:20201025T010000
END:STANDARD
END:VTIMEZONE
BEGIN:VEVENT
DTSTART;TZID=Europe/Budapest:20200924T200000
DTEND;TZID=Europe/Budapest:20200924T214500
DTSTAMP:20260425T171240
CREATED:20200908T043428Z
LAST-MODIFIED:20200923T205553Z
UID:18864-1600977600-1600983900@www.43szepitoksk.hu
SUMMARY:BLSZI.\, 6. forduló: SVÁBHEGY FC
DESCRIPTION:
URL:https://www.43szepitoksk.hu/event/edzes-510/
LOCATION:LV Sport Pénzügyőr\, Kőér utca 1/A.\, Budapest\, 1103
CATEGORIES:Bajnoki mérkőzések
ATTACH;FMTTYPE=image/jpeg:https://www.43szepitoksk.hu/wp-content/uploads/2020/09/BLSZvendegSvábhegy.jpg
END:VEVENT
END:VCALENDAR