BEGIN:VCALENDAR
VERSION:2.0
PRODID:-//43. sz. Építők SK - ECPv6.14.0//NONSGML v1.0//EN
CALSCALE:GREGORIAN
METHOD:PUBLISH
X-WR-CALNAME:43. sz. Építők SK
X-ORIGINAL-URL:https://www.43szepitoksk.hu
X-WR-CALDESC:Események 43. sz. Építők SK
REFRESH-INTERVAL;VALUE=DURATION:PT1H
X-Robots-Tag:noindex
X-PUBLISHED-TTL:PT1H
BEGIN:VTIMEZONE
TZID:Europe/Budapest
BEGIN:DAYLIGHT
TZOFFSETFROM:+0100
TZOFFSETTO:+0200
TZNAME:CEST
DTSTART:20210328T010000
END:DAYLIGHT
BEGIN:STANDARD
TZOFFSETFROM:+0200
TZOFFSETTO:+0100
TZNAME:CET
DTSTART:20211031T010000
END:STANDARD
END:VTIMEZONE
BEGIN:VEVENT
DTSTART;TZID=Europe/Budapest:20210417T153000
DTEND;TZID=Europe/Budapest:20210417T171500
DTSTAMP:20260425T054636
CREATED:20210322T055713Z
LAST-MODIFIED:20210413T064157Z
UID:20412-1618673400-1618679700@www.43szepitoksk.hu
SUMMARY:24. forduló: 1908 SZAC BUDAPEST FC (HALASZTVA)!!!
DESCRIPTION:
URL:https://www.43szepitoksk.hu/event/24-fordulo-1908-szac-budapest-fc/
LOCATION:Deák Ferenc „Bamba” Sportcentrum\, Thököly utca 5.\, Budapest\, 1183
CATEGORIES:Bajnoki mérkőzések
ATTACH;FMTTYPE=image/jpeg:https://www.43szepitoksk.hu/wp-content/uploads/2021/03/BLSZvendegSZAC.jpg
END:VEVENT
END:VCALENDAR