BEGIN:VCALENDAR
VERSION:2.0
PRODID:-//43. sz. Építők SK - ECPv6.14.0//NONSGML v1.0//EN
CALSCALE:GREGORIAN
METHOD:PUBLISH
X-WR-CALNAME:43. sz. Építők SK
X-ORIGINAL-URL:https://www.43szepitoksk.hu
X-WR-CALDESC:Események 43. sz. Építők SK
REFRESH-INTERVAL;VALUE=DURATION:PT1H
X-Robots-Tag:noindex
X-PUBLISHED-TTL:PT1H
BEGIN:VTIMEZONE
TZID:Europe/Budapest
BEGIN:DAYLIGHT
TZOFFSETFROM:+0100
TZOFFSETTO:+0200
TZNAME:CEST
DTSTART:20210328T010000
END:DAYLIGHT
BEGIN:STANDARD
TZOFFSETFROM:+0200
TZOFFSETTO:+0100
TZNAME:CET
DTSTART:20211031T010000
END:STANDARD
END:VTIMEZONE
BEGIN:VEVENT
DTSTART;TZID=Europe/Budapest:20210501T163000
DTEND;TZID=Europe/Budapest:20210501T181500
DTSTAMP:20260425T040720
CREATED:20210323T074528Z
LAST-MODIFIED:20210323T074528Z
UID:20446-1619886600-1619892900@www.43szepitoksk.hu
SUMMARY:26. forduló: KELEN SC
DESCRIPTION:
URL:https://www.43szepitoksk.hu/event/26-fordulo-kelen-sc-3/
LOCATION:Kelen pálya\, Hunyadi Mátyás utca 56.\, Budapest\, 1117
CATEGORIES:Bajnoki mérkőzések
ATTACH;FMTTYPE=image/jpeg:https://www.43szepitoksk.hu/wp-content/uploads/2021/03/BLSZvendegKelen.jpg
END:VEVENT
END:VCALENDAR