BEGIN:VCALENDAR
VERSION:2.0
PRODID:-//43. sz. Építők SK - ECPv6.14.0//NONSGML v1.0//EN
CALSCALE:GREGORIAN
METHOD:PUBLISH
X-ORIGINAL-URL:https://www.43szepitoksk.hu
X-WR-CALDESC:Események 43. sz. Építők SK
REFRESH-INTERVAL;VALUE=DURATION:PT1H
X-Robots-Tag:noindex
X-PUBLISHED-TTL:PT1H
BEGIN:VTIMEZONE
TZID:Europe/Budapest
BEGIN:DAYLIGHT
TZOFFSETFROM:+0100
TZOFFSETTO:+0200
TZNAME:CEST
DTSTART:20210328T010000
END:DAYLIGHT
BEGIN:STANDARD
TZOFFSETFROM:+0200
TZOFFSETTO:+0100
TZNAME:CET
DTSTART:20211031T010000
END:STANDARD
END:VTIMEZONE
BEGIN:VEVENT
DTSTART;TZID=Europe/Budapest:20210824T183000
DTEND;TZID=Europe/Budapest:20210824T201500
DTSTAMP:20260424T233008
CREATED:20210807T085153Z
LAST-MODIFIED:20210807T085153Z
UID:21893-1629829800-1629836100@www.43szepitoksk.hu
SUMMARY:1. forduló: THSE-SZABADKIKÖTŐ
DESCRIPTION:
URL:https://www.43szepitoksk.hu/event/1-fordulo-thse-szabadkikoto/
LOCATION:Szabadkikötő pálya\, Szabadkikötő utca 5-7.\, Budapest\, 1211
CATEGORIES:Bajnoki mérkőzések
ATTACH;FMTTYPE=image/jpeg:https://www.43szepitoksk.hu/wp-content/uploads/2021/08/BLSZvendegthse.jpg
END:VEVENT
END:VCALENDAR