BEGIN:VCALENDAR
VERSION:2.0
PRODID:-//43. sz. Építők SK - ECPv6.14.0//NONSGML v1.0//EN
CALSCALE:GREGORIAN
METHOD:PUBLISH
X-ORIGINAL-URL:https://www.43szepitoksk.hu
X-WR-CALDESC:Események 43. sz. Építők SK
REFRESH-INTERVAL;VALUE=DURATION:PT1H
X-Robots-Tag:noindex
X-PUBLISHED-TTL:PT1H
BEGIN:VTIMEZONE
TZID:Europe/Budapest
BEGIN:DAYLIGHT
TZOFFSETFROM:+0100
TZOFFSETTO:+0200
TZNAME:CEST
DTSTART:20210328T010000
END:DAYLIGHT
BEGIN:STANDARD
TZOFFSETFROM:+0200
TZOFFSETTO:+0100
TZNAME:CET
DTSTART:20211031T010000
END:STANDARD
END:VTIMEZONE
BEGIN:VEVENT
DTSTART;TZID=Europe/Budapest:20210918T100000
DTEND;TZID=Europe/Budapest:20210918T114500
DTSTAMP:20260424T220034
CREATED:20210807T150654Z
LAST-MODIFIED:20210807T150654Z
UID:21928-1631959200-1631965500@www.43szepitoksk.hu
SUMMARY:5. forduló: TESTVÉRISÉG SE
DESCRIPTION:
URL:https://www.43szepitoksk.hu/event/5-fordulo-testveriseg-se-2/
LOCATION:Barátság sporttelep\, Bánkút utca 71.\, Budapest\, 1145
CATEGORIES:Bajnoki mérkőzések
ATTACH;FMTTYPE=image/jpeg:https://www.43szepitoksk.hu/wp-content/uploads/2021/08/BLSZvendegTesi.jpg
END:VEVENT
END:VCALENDAR