BEGIN:VCALENDAR
VERSION:2.0
PRODID:-//43. sz. Építők SK - ECPv6.14.0//NONSGML v1.0//EN
CALSCALE:GREGORIAN
METHOD:PUBLISH
X-ORIGINAL-URL:https://www.43szepitoksk.hu
X-WR-CALDESC:Események 43. sz. Építők SK
REFRESH-INTERVAL;VALUE=DURATION:PT1H
X-Robots-Tag:noindex
X-PUBLISHED-TTL:PT1H
BEGIN:VTIMEZONE
TZID:Europe/Budapest
BEGIN:DAYLIGHT
TZOFFSETFROM:+0100
TZOFFSETTO:+0200
TZNAME:CEST
DTSTART:20220327T010000
END:DAYLIGHT
BEGIN:STANDARD
TZOFFSETFROM:+0200
TZOFFSETTO:+0100
TZNAME:CET
DTSTART:20221030T010000
END:STANDARD
END:VTIMEZONE
BEGIN:VEVENT
DTSTART;TZID=Europe/Budapest:20220109T104500
DTEND;TZID=Europe/Budapest:20220109T150000
DTSTAMP:20260424T154036
CREATED:20220108T171333Z
LAST-MODIFIED:20220108T171333Z
UID:23650-1641725100-1641740400@www.43szepitoksk.hu
SUMMARY:BLSZ Téli Teremtorna egyenes kieséses szakasz
DESCRIPTION:
URL:https://www.43szepitoksk.hu/event/blsz-teli-teremtorna-egyenes-kieseses-szakasz/
LOCATION:Budafoki sporcsarnok\, Promontor utca 89.\, Budapest\, 1222
CATEGORIES:Teremtorna
ATTACH;FMTTYPE=image/jpeg:https://www.43szepitoksk.hu/wp-content/uploads/2022/01/IMG_7649-scaled-e1641660338130.jpg
END:VEVENT
END:VCALENDAR