BEGIN:VCALENDAR
VERSION:2.0
PRODID:-//43. sz. Építők SK - ECPv6.14.0//NONSGML v1.0//EN
CALSCALE:GREGORIAN
METHOD:PUBLISH
X-WR-CALNAME:43. sz. Építők SK
X-ORIGINAL-URL:https://www.43szepitoksk.hu
X-WR-CALDESC:Események 43. sz. Építők SK
REFRESH-INTERVAL;VALUE=DURATION:PT1H
X-Robots-Tag:noindex
X-PUBLISHED-TTL:PT1H
BEGIN:VTIMEZONE
TZID:Europe/Budapest
BEGIN:DAYLIGHT
TZOFFSETFROM:+0100
TZOFFSETTO:+0200
TZNAME:CEST
DTSTART:20220327T010000
END:DAYLIGHT
BEGIN:STANDARD
TZOFFSETFROM:+0200
TZOFFSETTO:+0100
TZNAME:CET
DTSTART:20221030T010000
END:STANDARD
END:VTIMEZONE
BEGIN:VEVENT
DTSTART;TZID=Europe/Budapest:20220323T193000
DTEND;TZID=Europe/Budapest:20220323T213000
DTSTAMP:20260424T123307
CREATED:20220228T054718Z
LAST-MODIFIED:20220228T055601Z
UID:24290-1648063800-1648071000@www.43szepitoksk.hu
SUMMARY:Budapest Kupa 4. forduló: II. KERÜLET UFC
DESCRIPTION:
URL:https://www.43szepitoksk.hu/event/budapest-kupa-4-fordulo-ii-kerulet-ufc/
LOCATION:Panoráma Sportközpont\, Kolozsvári T. utca 11.\, Budapest\, 1023
CATEGORIES:Kupa mérkőzések
ATTACH;FMTTYPE=image/jpeg:https://www.43szepitoksk.hu/wp-content/uploads/2022/02/BLSZvendegII.KeruletUFC.jpg
END:VEVENT
END:VCALENDAR