BEGIN:VCALENDAR
VERSION:2.0
PRODID:-//43. sz. Építők SK - ECPv6.14.0//NONSGML v1.0//EN
CALSCALE:GREGORIAN
METHOD:PUBLISH
X-WR-CALNAME:43. sz. Építők SK
X-ORIGINAL-URL:https://www.43szepitoksk.hu
X-WR-CALDESC:Események 43. sz. Építők SK
REFRESH-INTERVAL;VALUE=DURATION:PT1H
X-Robots-Tag:noindex
X-PUBLISHED-TTL:PT1H
BEGIN:VTIMEZONE
TZID:Europe/Budapest
BEGIN:DAYLIGHT
TZOFFSETFROM:+0100
TZOFFSETTO:+0200
TZNAME:CEST
DTSTART:20220327T010000
END:DAYLIGHT
BEGIN:STANDARD
TZOFFSETFROM:+0200
TZOFFSETTO:+0100
TZNAME:CET
DTSTART:20221030T010000
END:STANDARD
END:VTIMEZONE
BEGIN:VEVENT
DTSTART;TZID=Europe/Budapest:20220410T163000
DTEND;TZID=Europe/Budapest:20220410T181500
DTSTAMP:20260424T110756
CREATED:20220320T122709Z
LAST-MODIFIED:20220321T062312Z
UID:24519-1649608200-1649614500@www.43szepitoksk.hu
SUMMARY:BLSZI. 23. forduló: CSEPEL FC
DESCRIPTION:
URL:https://www.43szepitoksk.hu/event/blszi-23-fordulo-csepel-fc/
LOCATION:Csepel stadion\, Béke tér 1.\, Budapest\, Pest\, 1212\, Magyarország
CATEGORIES:Bajnoki mérkőzések
ATTACH;FMTTYPE=image/jpeg:https://www.43szepitoksk.hu/wp-content/uploads/2022/03/BLSZvendegCsepel.jpg
END:VEVENT
END:VCALENDAR