BEGIN:VCALENDAR
VERSION:2.0
PRODID:-//43. sz. Építők SK - ECPv6.14.0//NONSGML v1.0//EN
CALSCALE:GREGORIAN
METHOD:PUBLISH
X-ORIGINAL-URL:https://www.43szepitoksk.hu
X-WR-CALDESC:Események 43. sz. Építők SK
REFRESH-INTERVAL;VALUE=DURATION:PT1H
X-Robots-Tag:noindex
X-PUBLISHED-TTL:PT1H
BEGIN:VTIMEZONE
TZID:Europe/Budapest
BEGIN:DAYLIGHT
TZOFFSETFROM:+0100
TZOFFSETTO:+0200
TZNAME:CEST
DTSTART:20220327T010000
END:DAYLIGHT
BEGIN:STANDARD
TZOFFSETFROM:+0200
TZOFFSETTO:+0100
TZNAME:CET
DTSTART:20221030T010000
END:STANDARD
END:VTIMEZONE
BEGIN:VEVENT
DTSTART;TZID=Europe/Budapest:20220430T160000
DTEND;TZID=Europe/Budapest:20220430T174500
DTSTAMP:20260424T095652
CREATED:20220409T063804Z
LAST-MODIFIED:20220409T064400Z
UID:24852-1651334400-1651340700@www.43szepitoksk.hu
SUMMARY:BLSZI. 26. forduló: IKARUS BSE
DESCRIPTION:
URL:https://www.43szepitoksk.hu/event/blszi-26-fordulo-ikarus-bse/
LOCATION:Ikarus Sporttelep\, Bátony utca 1-33.\, Budapest\, 1165
CATEGORIES:Bajnoki mérkőzések
ATTACH;FMTTYPE=image/jpeg:https://www.43szepitoksk.hu/wp-content/uploads/2022/04/Ika43.jpg
END:VEVENT
END:VCALENDAR