BEGIN:VCALENDAR
VERSION:2.0
PRODID:-//43. sz. Építők SK - ECPv6.14.0//NONSGML v1.0//EN
CALSCALE:GREGORIAN
METHOD:PUBLISH
X-WR-CALNAME:43. sz. Építők SK
X-ORIGINAL-URL:https://www.43szepitoksk.hu
X-WR-CALDESC:Események 43. sz. Építők SK
REFRESH-INTERVAL;VALUE=DURATION:PT1H
X-Robots-Tag:noindex
X-PUBLISHED-TTL:PT1H
BEGIN:VTIMEZONE
TZID:Europe/Budapest
BEGIN:DAYLIGHT
TZOFFSETFROM:+0100
TZOFFSETTO:+0200
TZNAME:CEST
DTSTART:20220327T010000
END:DAYLIGHT
BEGIN:STANDARD
TZOFFSETFROM:+0200
TZOFFSETTO:+0100
TZNAME:CET
DTSTART:20221030T010000
END:STANDARD
END:VTIMEZONE
BEGIN:VEVENT
DTSTART;TZID=Europe/Budapest:20220729T183000
DTEND;TZID=Europe/Budapest:20220729T201500
DTSTAMP:20260424T071142
CREATED:20220605T085818Z
LAST-MODIFIED:20220719T200109Z
UID:25577-1659119400-1659125700@www.43szepitoksk.hu
SUMMARY:Edzőmérkőzés: Felsőpakonyi KSE
DESCRIPTION:
URL:https://www.43szepitoksk.hu/event/edzomerkozes-felsopakonyi-kse-2/
LOCATION:Felsőpakonyi sportpálya\, Ócsai dűlő 1\, Felsőpakony\, 2363\, Hungary
CATEGORIES:Edzőmérkőzések
ATTACH;FMTTYPE=image/jpeg:https://www.43szepitoksk.hu/wp-content/uploads/2022/06/felsopakonyvegleges.jpg
END:VEVENT
END:VCALENDAR