BEGIN:VCALENDAR
VERSION:2.0
PRODID:-//43. sz. Építők SK - ECPv6.14.0//NONSGML v1.0//EN
CALSCALE:GREGORIAN
METHOD:PUBLISH
X-ORIGINAL-URL:https://www.43szepitoksk.hu
X-WR-CALDESC:Események 43. sz. Építők SK
REFRESH-INTERVAL;VALUE=DURATION:PT1H
X-Robots-Tag:noindex
X-PUBLISHED-TTL:PT1H
BEGIN:VTIMEZONE
TZID:Europe/Budapest
BEGIN:DAYLIGHT
TZOFFSETFROM:+0100
TZOFFSETTO:+0200
TZNAME:CEST
DTSTART:20220327T010000
END:DAYLIGHT
BEGIN:STANDARD
TZOFFSETFROM:+0200
TZOFFSETTO:+0100
TZNAME:CET
DTSTART:20221030T010000
END:STANDARD
END:VTIMEZONE
BEGIN:VEVENT
DTSTART;TZID=Europe/Budapest:20220827T163000
DTEND;TZID=Europe/Budapest:20220827T181500
DTSTAMP:20260424T055220
CREATED:20220803T055146Z
LAST-MODIFIED:20220820T104304Z
UID:26004-1661617800-1661624100@www.43szepitoksk.hu
SUMMARY:Magyar Kupa 2. forduló: FC NAGYKANIZSA
DESCRIPTION:
URL:https://www.43szepitoksk.hu/event/blszi-2-fordulo-fov-vizmuvek-sk/
LOCATION:III. Kerület TVE Sporttelep\, Kalap utca 2.\, Budapest\, 1037
CATEGORIES:Kupa mérkőzések
ATTACH;FMTTYPE=image/jpeg:https://www.43szepitoksk.hu/wp-content/uploads/2022/08/kupa-borító-mk-2.jpg
END:VEVENT
END:VCALENDAR