BEGIN:VCALENDAR
VERSION:2.0
PRODID:-//43. sz. Építők SK - ECPv6.14.0//NONSGML v1.0//EN
CALSCALE:GREGORIAN
METHOD:PUBLISH
X-ORIGINAL-URL:https://www.43szepitoksk.hu
X-WR-CALDESC:Események 43. sz. Építők SK
REFRESH-INTERVAL;VALUE=DURATION:PT1H
X-Robots-Tag:noindex
X-PUBLISHED-TTL:PT1H
BEGIN:VTIMEZONE
TZID:Europe/Budapest
BEGIN:DAYLIGHT
TZOFFSETFROM:+0100
TZOFFSETTO:+0200
TZNAME:CEST
DTSTART:20230326T010000
END:DAYLIGHT
BEGIN:STANDARD
TZOFFSETFROM:+0200
TZOFFSETTO:+0100
TZNAME:CET
DTSTART:20231029T010000
END:STANDARD
END:VTIMEZONE
BEGIN:VEVENT
DTSTART;TZID=Europe/Budapest:20230308T143000
DTEND;TZID=Europe/Budapest:20230308T161500
DTSTAMP:20260423T201413
CREATED:20230227T162059Z
LAST-MODIFIED:20230306T052745Z
UID:28284-1678285800-1678292100@www.43szepitoksk.hu
SUMMARY:Budapest Kupa 3. forduló: CSEPEL-CSEP-GÓL FC
DESCRIPTION:
URL:https://www.43szepitoksk.hu/event/budapest-kupa-3-fordulo-csep-gol-csepel-fc/
LOCATION:Csepel stadion\, Béke tér 1.\, Budapest\, Pest\, 1212\, Magyarország
CATEGORIES:Kupa mérkőzések
ATTACH;FMTTYPE=image/jpeg:https://www.43szepitoksk.hu/wp-content/uploads/2023/02/facebook-esemeny-epitok-pb-kupa.jpg
END:VEVENT
END:VCALENDAR