BEGIN:VCALENDAR
VERSION:2.0
PRODID:-//43. sz. Építők SK - ECPv6.14.0//NONSGML v1.0//EN
CALSCALE:GREGORIAN
METHOD:PUBLISH
X-ORIGINAL-URL:https://www.43szepitoksk.hu
X-WR-CALDESC:Események 43. sz. Építők SK
REFRESH-INTERVAL;VALUE=DURATION:PT1H
X-Robots-Tag:noindex
X-PUBLISHED-TTL:PT1H
BEGIN:VTIMEZONE
TZID:Europe/Budapest
BEGIN:DAYLIGHT
TZOFFSETFROM:+0100
TZOFFSETTO:+0200
TZNAME:CEST
DTSTART:20230326T010000
END:DAYLIGHT
BEGIN:STANDARD
TZOFFSETFROM:+0200
TZOFFSETTO:+0100
TZNAME:CET
DTSTART:20231029T010000
END:STANDARD
END:VTIMEZONE
BEGIN:VEVENT
DTSTART;TZID=Europe/Budapest:20230401T143000
DTEND;TZID=Europe/Budapest:20230401T161500
DTSTAMP:20260423T184107
CREATED:20230306T065427Z
LAST-MODIFIED:20230306T065542Z
UID:28389-1680359400-1680365700@www.43szepitoksk.hu
SUMMARY:BLSZI. 22. forduló: RÁKOSMENTE FC
DESCRIPTION:
URL:https://www.43szepitoksk.hu/event/blszi-22-fordulo-rakosmente-fc/
LOCATION:Újlak utcai sporttelep\, Újlak utca\, Budapest\, 1173
CATEGORIES:Bajnoki mérkőzések
ATTACH;FMTTYPE=image/jpeg:https://www.43szepitoksk.hu/wp-content/uploads/2023/03/facebook-esemeny-epitok-rksk-1.jpg
END:VEVENT
END:VCALENDAR