BEGIN:VCALENDAR
VERSION:2.0
PRODID:-//43. sz. Építők SK - ECPv6.14.0//NONSGML v1.0//EN
CALSCALE:GREGORIAN
METHOD:PUBLISH
X-ORIGINAL-URL:https://www.43szepitoksk.hu
X-WR-CALDESC:Események 43. sz. Építők SK
REFRESH-INTERVAL;VALUE=DURATION:PT1H
X-Robots-Tag:noindex
X-PUBLISHED-TTL:PT1H
BEGIN:VTIMEZONE
TZID:Europe/Budapest
BEGIN:DAYLIGHT
TZOFFSETFROM:+0100
TZOFFSETTO:+0200
TZNAME:CEST
DTSTART:20230326T010000
END:DAYLIGHT
BEGIN:STANDARD
TZOFFSETFROM:+0200
TZOFFSETTO:+0100
TZNAME:CET
DTSTART:20231029T010000
END:STANDARD
END:VTIMEZONE
BEGIN:VEVENT
DTSTART;TZID=Europe/Budapest:20230513T173000
DTEND;TZID=Europe/Budapest:20230513T191500
DTSTAMP:20260423T172135
CREATED:20230428T043338Z
LAST-MODIFIED:20230428T044015Z
UID:29043-1683999000-1684005300@www.43szepitoksk.hu
SUMMARY:BLSZI 28. forduló: CSEPEL UPSE
DESCRIPTION:
URL:https://www.43szepitoksk.hu/event/blszi-28-fordulo-csepel-upse/
LOCATION:Hollandi úti sporttelep\, Hollandi út 8-10.\, Budapest\, 1213
CATEGORIES:Bajnoki mérkőzések
ATTACH;FMTTYPE=image/jpeg:https://www.43szepitoksk.hu/wp-content/uploads/2023/04/facebook-esemeny-epitok-csepel-fc.jpg
END:VEVENT
END:VCALENDAR