BEGIN:VCALENDAR
VERSION:2.0
PRODID:-//43. sz. Építők SK - ECPv6.14.0//NONSGML v1.0//EN
CALSCALE:GREGORIAN
METHOD:PUBLISH
X-ORIGINAL-URL:https://www.43szepitoksk.hu
X-WR-CALDESC:Események 43. sz. Építők SK
REFRESH-INTERVAL;VALUE=DURATION:PT1H
X-Robots-Tag:noindex
X-PUBLISHED-TTL:PT1H
BEGIN:VTIMEZONE
TZID:Europe/Budapest
BEGIN:DAYLIGHT
TZOFFSETFROM:+0100
TZOFFSETTO:+0200
TZNAME:CEST
DTSTART:20230326T010000
END:DAYLIGHT
BEGIN:STANDARD
TZOFFSETFROM:+0200
TZOFFSETTO:+0100
TZNAME:CET
DTSTART:20231029T010000
END:STANDARD
END:VTIMEZONE
BEGIN:VEVENT
DTSTART;TZID=Europe/Budapest:20230812T120000
DTEND;TZID=Europe/Budapest:20230812T134500
DTSTAMP:20260423T124844
CREATED:20230805T165735Z
LAST-MODIFIED:20230805T165856Z
UID:29864-1691841600-1691847900@www.43szepitoksk.hu
SUMMARY:Edzőmérkőzés: Stand98
DESCRIPTION:
URL:https://www.43szepitoksk.hu/event/edzomerkozes-stand98/
LOCATION:III. Kerület TVE Sporttelep\, Kalap utca 2.\, Budapest\, 1037
CATEGORIES:Edzőmérkőzések
ATTACH;FMTTYPE=image/png:https://www.43szepitoksk.hu/wp-content/uploads/2023/08/Stand98.png
END:VEVENT
END:VCALENDAR