BEGIN:VCALENDAR
VERSION:2.0
PRODID:-//43. sz. Építők SK - ECPv6.14.0//NONSGML v1.0//EN
CALSCALE:GREGORIAN
METHOD:PUBLISH
X-WR-CALNAME:43. sz. Építők SK
X-ORIGINAL-URL:https://www.43szepitoksk.hu
X-WR-CALDESC:Események 43. sz. Építők SK
REFRESH-INTERVAL;VALUE=DURATION:PT1H
X-Robots-Tag:noindex
X-PUBLISHED-TTL:PT1H
BEGIN:VTIMEZONE
TZID:Europe/Budapest
BEGIN:DAYLIGHT
TZOFFSETFROM:+0100
TZOFFSETTO:+0200
TZNAME:CEST
DTSTART:20230326T010000
END:DAYLIGHT
BEGIN:STANDARD
TZOFFSETFROM:+0200
TZOFFSETTO:+0100
TZNAME:CET
DTSTART:20231029T010000
END:STANDARD
END:VTIMEZONE
BEGIN:VEVENT
DTSTART;TZID=Europe/Budapest:20231021T143000
DTEND;TZID=Europe/Budapest:20231021T161500
DTSTAMP:20260423T094816
CREATED:20231009T045228Z
LAST-MODIFIED:20231009T045228Z
UID:30610-1697898600-1697904900@www.43szepitoksk.hu
SUMMARY:BLSZI 10. forduló: CSEPEL TC CS.G.
DESCRIPTION:
URL:https://www.43szepitoksk.hu/event/blszi-10-fordulo-csepel-tc-cs-g/
LOCATION:Csepel stadion\, Béke tér 1.\, Budapest\, Pest\, 1212\, Magyarország
CATEGORIES:Bajnoki mérkőzések
END:VEVENT
END:VCALENDAR