BEGIN:VCALENDAR
VERSION:2.0
PRODID:-//43. sz. Építők SK - ECPv6.14.0//NONSGML v1.0//EN
CALSCALE:GREGORIAN
METHOD:PUBLISH
X-ORIGINAL-URL:https://www.43szepitoksk.hu
X-WR-CALDESC:Események 43. sz. Építők SK
REFRESH-INTERVAL;VALUE=DURATION:PT1H
X-Robots-Tag:noindex
X-PUBLISHED-TTL:PT1H
BEGIN:VTIMEZONE
TZID:Europe/Budapest
BEGIN:DAYLIGHT
TZOFFSETFROM:+0100
TZOFFSETTO:+0200
TZNAME:CEST
DTSTART:20230326T010000
END:DAYLIGHT
BEGIN:STANDARD
TZOFFSETFROM:+0200
TZOFFSETTO:+0100
TZNAME:CET
DTSTART:20231029T010000
END:STANDARD
END:VTIMEZONE
BEGIN:VEVENT
DTSTART;TZID=Europe/Budapest:20231118T110000
DTEND;TZID=Europe/Budapest:20231118T124500
DTSTAMP:20260423T080850
CREATED:20231023T164733Z
LAST-MODIFIED:20231023T164733Z
UID:30810-1700305200-1700311500@www.43szepitoksk.hu
SUMMARY:BLSZI 14. forduló: CSEPEL UFC
DESCRIPTION:
URL:https://www.43szepitoksk.hu/event/blszi-14-fordulo-csepel-ufc/
LOCATION:Hollandi úti sporttelep\, Hollandi út 8-10.\, Budapest\, 1213
CATEGORIES:Bajnoki mérkőzések
END:VEVENT
END:VCALENDAR