BEGIN:VCALENDAR
VERSION:2.0
PRODID:-//43. sz. Építők SK - ECPv6.14.0//NONSGML v1.0//EN
CALSCALE:GREGORIAN
METHOD:PUBLISH
X-ORIGINAL-URL:https://www.43szepitoksk.hu
X-WR-CALDESC:Események 43. sz. Építők SK
REFRESH-INTERVAL;VALUE=DURATION:PT1H
X-Robots-Tag:noindex
X-PUBLISHED-TTL:PT1H
BEGIN:VTIMEZONE
TZID:Europe/Budapest
BEGIN:DAYLIGHT
TZOFFSETFROM:+0100
TZOFFSETTO:+0200
TZNAME:CEST
DTSTART:20240331T010000
END:DAYLIGHT
BEGIN:STANDARD
TZOFFSETFROM:+0200
TZOFFSETTO:+0100
TZNAME:CET
DTSTART:20241027T010000
END:STANDARD
END:VTIMEZONE
BEGIN:VEVENT
DTSTART;TZID=Europe/Budapest:20240210T110000
DTEND;TZID=Europe/Budapest:20240210T124500
DTSTAMP:20260423T033159
CREATED:20231216T085227Z
LAST-MODIFIED:20240115T063557Z
UID:31285-1707562800-1707569100@www.43szepitoksk.hu
SUMMARY:Edzőmérkőzés: REAC
DESCRIPTION:
URL:https://www.43szepitoksk.hu/event/edzomerkozes-reac/
LOCATION:Budai II László stadion\, Széchenyi tér 8-10.\, Budapest\, 1151
CATEGORIES:Edzőmérkőzések
END:VEVENT
END:VCALENDAR