BEGIN:VCALENDAR
VERSION:2.0
PRODID:-//43. sz. Építők SK - ECPv6.14.0//NONSGML v1.0//EN
CALSCALE:GREGORIAN
METHOD:PUBLISH
X-WR-CALNAME:43. sz. Építők SK
X-ORIGINAL-URL:https://www.43szepitoksk.hu
X-WR-CALDESC:Események 43. sz. Építők SK
REFRESH-INTERVAL;VALUE=DURATION:PT1H
X-Robots-Tag:noindex
X-PUBLISHED-TTL:PT1H
BEGIN:VTIMEZONE
TZID:Europe/Budapest
BEGIN:DAYLIGHT
TZOFFSETFROM:+0100
TZOFFSETTO:+0200
TZNAME:CEST
DTSTART:20240331T010000
END:DAYLIGHT
BEGIN:STANDARD
TZOFFSETFROM:+0200
TZOFFSETTO:+0100
TZNAME:CET
DTSTART:20241027T010000
END:STANDARD
END:VTIMEZONE
BEGIN:VEVENT
DTSTART;TZID=Europe/Budapest:20240511T173000
DTEND;TZID=Europe/Budapest:20240511T191500
DTSTAMP:20260422T223954
CREATED:20240421T185919Z
LAST-MODIFIED:20240421T185919Z
UID:32413-1715448600-1715454900@www.43szepitoksk.hu
SUMMARY:BLSZI 28. forduló: PESTSZENTIMREI SK
DESCRIPTION:
URL:https://www.43szepitoksk.hu/event/blszi-28-fordulo-pestszentimrei-sk/
LOCATION:Pestszentimrei sporttelep\, Táncsics Mihály utca 53.\, Budapest\, 1188
CATEGORIES:Bajnoki mérkőzések
END:VEVENT
END:VCALENDAR