BEGIN:VCALENDAR
VERSION:2.0
PRODID:-//43. sz. Építők SK - ECPv6.14.0//NONSGML v1.0//EN
CALSCALE:GREGORIAN
METHOD:PUBLISH
X-WR-CALNAME:43. sz. Építők SK
X-ORIGINAL-URL:https://www.43szepitoksk.hu
X-WR-CALDESC:Események 43. sz. Építők SK
REFRESH-INTERVAL;VALUE=DURATION:PT1H
X-Robots-Tag:noindex
X-PUBLISHED-TTL:PT1H
BEGIN:VTIMEZONE
TZID:Europe/Budapest
BEGIN:DAYLIGHT
TZOFFSETFROM:+0100
TZOFFSETTO:+0200
TZNAME:CEST
DTSTART:20240331T010000
END:DAYLIGHT
BEGIN:STANDARD
TZOFFSETFROM:+0200
TZOFFSETTO:+0100
TZNAME:CET
DTSTART:20241027T010000
END:STANDARD
END:VTIMEZONE
BEGIN:VEVENT
DTSTART;TZID=Europe/Budapest:20241130T130000
DTEND;TZID=Europe/Budapest:20241130T144500
DTSTAMP:20260422T131524
CREATED:20241021T193642Z
LAST-MODIFIED:20241021T193653Z
UID:34045-1732971600-1732977900@www.43szepitoksk.hu
SUMMARY:BLSZI 5. forduló (halasztott mérkőzés): 1908 SZAC BUDAPEST FC
DESCRIPTION:
URL:https://www.43szepitoksk.hu/event/blszi-5-fordulo-halasztott-merkozes-1908-szav-budapest-fc/
LOCATION:Deák Ferenc „Bamba” Sportcentrum\, Thököly utca 5.\, Budapest\, 1183
END:VEVENT
END:VCALENDAR