BEGIN:VCALENDAR
VERSION:2.0
PRODID:-//43. sz. Építők SK - ECPv6.14.0//NONSGML v1.0//EN
CALSCALE:GREGORIAN
METHOD:PUBLISH
X-ORIGINAL-URL:https://www.43szepitoksk.hu
X-WR-CALDESC:Események 43. sz. Építők SK
REFRESH-INTERVAL;VALUE=DURATION:PT1H
X-Robots-Tag:noindex
X-PUBLISHED-TTL:PT1H
BEGIN:VTIMEZONE
TZID:Europe/Budapest
BEGIN:DAYLIGHT
TZOFFSETFROM:+0100
TZOFFSETTO:+0200
TZNAME:CEST
DTSTART:20250330T010000
END:DAYLIGHT
BEGIN:STANDARD
TZOFFSETFROM:+0200
TZOFFSETTO:+0100
TZNAME:CET
DTSTART:20251026T010000
END:STANDARD
END:VTIMEZONE
BEGIN:VEVENT
DTSTART;TZID=Europe/Budapest:20250322T190000
DTEND;TZID=Europe/Budapest:20250322T204500
DTSTAMP:20260422T071142
CREATED:20250209T104827Z
LAST-MODIFIED:20250318T092041Z
UID:34993-1742670000-1742676300@www.43szepitoksk.hu
SUMMARY:BLSZI 21. forduló: ISSIMO SE
DESCRIPTION:
URL:https://www.43szepitoksk.hu/event/blszi-21-fordulo-issimo-se/
LOCATION:Vasgolyó utcai sporttelep\, Vasgolyó utca 51.\, Budapest\, 1158
CATEGORIES:Bajnoki mérkőzések
ATTACH;FMTTYPE=image/jpeg:https://www.43szepitoksk.hu/wp-content/uploads/2025/02/Esemeny-5.jpg
END:VEVENT
END:VCALENDAR