BEGIN:VCALENDAR
VERSION:2.0
PRODID:-//43. sz. Építők SK - ECPv6.14.0//NONSGML v1.0//EN
CALSCALE:GREGORIAN
METHOD:PUBLISH
X-ORIGINAL-URL:https://www.43szepitoksk.hu
X-WR-CALDESC:Események 43. sz. Építők SK
REFRESH-INTERVAL;VALUE=DURATION:PT1H
X-Robots-Tag:noindex
X-PUBLISHED-TTL:PT1H
BEGIN:VTIMEZONE
TZID:Europe/Budapest
BEGIN:DAYLIGHT
TZOFFSETFROM:+0100
TZOFFSETTO:+0200
TZNAME:CEST
DTSTART:20250330T010000
END:DAYLIGHT
BEGIN:STANDARD
TZOFFSETFROM:+0200
TZOFFSETTO:+0100
TZNAME:CET
DTSTART:20251026T010000
END:STANDARD
END:VTIMEZONE
BEGIN:VEVENT
DTSTART;TZID=Europe/Budapest:20251101T110000
DTEND;TZID=Europe/Budapest:20251101T124500
DTSTAMP:20260421T185748
CREATED:20250928T154322Z
LAST-MODIFIED:20251026T064631Z
UID:37859-1761994800-1762001100@www.43szepitoksk.hu
SUMMARY:BLSZI 12. forduló: TESTVÉRISÉG-ÚJPALOTA SE
DESCRIPTION:
URL:https://www.43szepitoksk.hu/event/blszi-12-fordulo-testveriseg-ujpalota-se/
LOCATION:Gázművek sporttelep\, Sujtás utca 2-4.\, Budapest\, 1031
CATEGORIES:Bajnoki mérkőzések
ATTACH;FMTTYPE=image/jpeg:https://www.43szepitoksk.hu/wp-content/uploads/2025/09/Esemeny-4.jpg
END:VEVENT
END:VCALENDAR