BEGIN:VCALENDAR
VERSION:2.0
PRODID:-//43. sz. Építők SK - ECPv6.14.0//NONSGML v1.0//EN
CALSCALE:GREGORIAN
METHOD:PUBLISH
X-WR-CALNAME:43. sz. Építők SK
X-ORIGINAL-URL:https://www.43szepitoksk.hu
X-WR-CALDESC:Események 43. sz. Építők SK
REFRESH-INTERVAL;VALUE=DURATION:PT1H
X-Robots-Tag:noindex
X-PUBLISHED-TTL:PT1H
BEGIN:VTIMEZONE
TZID:Europe/Budapest
BEGIN:DAYLIGHT
TZOFFSETFROM:+0100
TZOFFSETTO:+0200
TZNAME:CEST
DTSTART:20260329T010000
END:DAYLIGHT
BEGIN:STANDARD
TZOFFSETFROM:+0200
TZOFFSETTO:+0100
TZNAME:CET
DTSTART:20261025T010000
END:STANDARD
END:VTIMEZONE
BEGIN:VEVENT
DTSTART;TZID=Europe/Budapest:20260124T110000
DTEND;TZID=Europe/Budapest:20260124T124500
DTSTAMP:20260421T152114
CREATED:20251217T090107Z
LAST-MODIFIED:20260120T132759Z
UID:38735-1769252400-1769258700@www.43szepitoksk.hu
SUMMARY:Edzőmérkőzés: III. Kerület TVE U19
DESCRIPTION:
URL:https://www.43szepitoksk.hu/event/edzomerkozes-iii-kerulet-tve-u19-5/
LOCATION:Pokorni József Sport- és Szabadidőközpont\, Szabadság út 57.\, Budapest\, 1028
CATEGORIES:Edzőmérkőzések
ATTACH;FMTTYPE=image/jpeg:https://www.43szepitoksk.hu/wp-content/uploads/2025/12/III.-Kerulet.jpg
END:VEVENT
END:VCALENDAR