BEGIN:VCALENDAR
VERSION:2.0
PRODID:-//43. sz. Építők SK - ECPv6.14.0//NONSGML v1.0//EN
CALSCALE:GREGORIAN
METHOD:PUBLISH
X-ORIGINAL-URL:https://www.43szepitoksk.hu
X-WR-CALDESC:Események 43. sz. Építők SK
REFRESH-INTERVAL;VALUE=DURATION:PT1H
X-Robots-Tag:noindex
X-PUBLISHED-TTL:PT1H
BEGIN:VTIMEZONE
TZID:Europe/Budapest
BEGIN:DAYLIGHT
TZOFFSETFROM:+0100
TZOFFSETTO:+0200
TZNAME:CEST
DTSTART:20260329T010000
END:DAYLIGHT
BEGIN:STANDARD
TZOFFSETFROM:+0200
TZOFFSETTO:+0100
TZNAME:CET
DTSTART:20261025T010000
END:STANDARD
END:VTIMEZONE
BEGIN:VEVENT
DTSTART;TZID=Europe/Budapest:20260214T080000
DTEND;TZID=Europe/Budapest:20260214T170000
DTSTAMP:20260421T134905
CREATED:20260102T110329Z
LAST-MODIFIED:20260209T172558Z
UID:38823-1771056000-1771088400@www.43szepitoksk.hu
SUMMARY:BLSZI 16. forduló: REAC
DESCRIPTION:
URL:https://www.43szepitoksk.hu/event/blszi-16-fordulo-reac/
LOCATION:REAC Szántóföld úti Sporttelep\, Szántófőld utca 3.\, Budapest\, 1151
CATEGORIES:Bajnoki mérkőzések
ATTACH;FMTTYPE=image/jpeg:https://www.43szepitoksk.hu/wp-content/uploads/2026/01/Esemeny-1.jpg
END:VEVENT
END:VCALENDAR