BEGIN:VCALENDAR
VERSION:2.0
PRODID:-//43. sz. Építők SK - ECPv6.14.0//NONSGML v1.0//EN
CALSCALE:GREGORIAN
METHOD:PUBLISH
X-WR-CALNAME:43. sz. Építők SK
X-ORIGINAL-URL:https://www.43szepitoksk.hu
X-WR-CALDESC:Események 43. sz. Építők SK
REFRESH-INTERVAL;VALUE=DURATION:PT1H
X-Robots-Tag:noindex
X-PUBLISHED-TTL:PT1H
BEGIN:VTIMEZONE
TZID:Europe/Budapest
BEGIN:DAYLIGHT
TZOFFSETFROM:+0100
TZOFFSETTO:+0200
TZNAME:CEST
DTSTART:20260329T010000
END:DAYLIGHT
BEGIN:STANDARD
TZOFFSETFROM:+0200
TZOFFSETTO:+0100
TZNAME:CET
DTSTART:20261025T010000
END:STANDARD
END:VTIMEZONE
BEGIN:VEVENT
DTSTART;TZID=Europe/Budapest:20260404T160000
DTEND;TZID=Europe/Budapest:20260404T174500
DTSTAMP:20260421T103533
CREATED:20260307T071329Z
LAST-MODIFIED:20260406T073623Z
UID:39448-1775318400-1775324700@www.43szepitoksk.hu
SUMMARY:BLSZI 23. forduló: NAGYTÉTÉNYI KOHÁSZ
DESCRIPTION:
URL:https://www.43szepitoksk.hu/event/blszi-23-fordulo-nagytetenyi-kohasz/
LOCATION:Nagytétényi Kohász sporttelep\, Angeli út 64.\, Budapest\, 1225
CATEGORIES:Bajnoki mérkőzések
ATTACH;FMTTYPE=image/jpeg:https://www.43szepitoksk.hu/wp-content/uploads/2026/03/Esemeny-1.jpg
END:VEVENT
END:VCALENDAR