BEGIN:VCALENDAR
VERSION:2.0
PRODID:-//43. sz. Építők SK - ECPv6.14.0//NONSGML v1.0//EN
CALSCALE:GREGORIAN
METHOD:PUBLISH
X-ORIGINAL-URL:https://www.43szepitoksk.hu
X-WR-CALDESC:Események 43. sz. Építők SK
REFRESH-INTERVAL;VALUE=DURATION:PT1H
X-Robots-Tag:noindex
X-PUBLISHED-TTL:PT1H
BEGIN:VTIMEZONE
TZID:Europe/Budapest
BEGIN:DAYLIGHT
TZOFFSETFROM:+0100
TZOFFSETTO:+0200
TZNAME:CEST
DTSTART:20260329T010000
END:DAYLIGHT
BEGIN:STANDARD
TZOFFSETFROM:+0200
TZOFFSETTO:+0100
TZNAME:CET
DTSTART:20261025T010000
END:STANDARD
END:VTIMEZONE
BEGIN:VEVENT
DTSTART;TZID=Europe/Budapest:20260515T193000
DTEND;TZID=Europe/Budapest:20260515T211500
DTSTAMP:20260419T162542
CREATED:20260315T071112Z
LAST-MODIFIED:20260315T071112Z
UID:39600-1778873400-1778879700@www.43szepitoksk.hu
SUMMARY:BLSZI 29. forduló: FLOTTA 2001 SE
DESCRIPTION:
URL:https://www.43szepitoksk.hu/event/blszi-29-fordulo-flotta-2001-se/
LOCATION:Vilmos Endre Sportcentrum (volt Malév pálya)\, Nagyszalontai utca 25.\, Budapest\, 1185
CATEGORIES:Bajnoki mérkőzések
END:VEVENT
END:VCALENDAR