BEGIN:VCALENDAR
VERSION:2.0
PRODID:-//43. sz. Építők SK - ECPv6.14.0//NONSGML v1.0//EN
CALSCALE:GREGORIAN
METHOD:PUBLISH
X-WR-CALNAME:43. sz. Építők SK
X-ORIGINAL-URL:https://www.43szepitoksk.hu
X-WR-CALDESC:Események 43. sz. Építők SK
REFRESH-INTERVAL;VALUE=DURATION:PT1H
X-Robots-Tag:noindex
X-PUBLISHED-TTL:PT1H
BEGIN:VTIMEZONE
TZID:Europe/Budapest
BEGIN:DAYLIGHT
TZOFFSETFROM:+0100
TZOFFSETTO:+0200
TZNAME:CEST
DTSTART:20210328T010000
END:DAYLIGHT
BEGIN:STANDARD
TZOFFSETFROM:+0200
TZOFFSETTO:+0100
TZNAME:CET
DTSTART:20211031T010000
END:STANDARD
END:VTIMEZONE
BEGIN:VEVENT
DTSTART;TZID=Europe/Budapest:20210602T193000
DTEND;TZID=Europe/Budapest:20210602T210000
DTSTAMP:20260425T005716
CREATED:20210522T065615Z
LAST-MODIFIED:20210522T065615Z
UID:21205-1622662200-1622667600@www.43szepitoksk.hu
SUMMARY:Edzés
DESCRIPTION:
URL:https://www.43szepitoksk.hu/event/edzes-595/
LOCATION:III. Kerület TVE Sporttelep\, Kalap utca 2.\, Budapest\, 1037
CATEGORIES:Edzések
ATTACH;FMTTYPE=image/jpeg:https://www.43szepitoksk.hu/wp-content/uploads/2021/01/EDZÉS.jpg
END:VEVENT
BEGIN:VEVENT
DTSTART;TZID=Europe/Budapest:20210609T193000
DTEND;TZID=Europe/Budapest:20210609T210000
DTSTAMP:20260425T005716
CREATED:20210522T065702Z
LAST-MODIFIED:20210522T065702Z
UID:21207-1623267000-1623272400@www.43szepitoksk.hu
SUMMARY:Edzés
DESCRIPTION:
URL:https://www.43szepitoksk.hu/event/edzes-596/
LOCATION:III. Kerület TVE Sporttelep\, Kalap utca 2.\, Budapest\, 1037
CATEGORIES:Edzések
ATTACH;FMTTYPE=image/jpeg:https://www.43szepitoksk.hu/wp-content/uploads/2021/01/EDZÉS.jpg
END:VEVENT
BEGIN:VEVENT
DTSTART;TZID=Europe/Budapest:20210616T193000
DTEND;TZID=Europe/Budapest:20210616T210000
DTSTAMP:20260425T005716
CREATED:20210522T065756Z
LAST-MODIFIED:20210522T065756Z
UID:21209-1623871800-1623877200@www.43szepitoksk.hu
SUMMARY:Edzés
DESCRIPTION:
URL:https://www.43szepitoksk.hu/event/edzes-597/
LOCATION:III. Kerület TVE Sporttelep\, Kalap utca 2.\, Budapest\, 1037
CATEGORIES:Edzések
ATTACH;FMTTYPE=image/jpeg:https://www.43szepitoksk.hu/wp-content/uploads/2021/01/EDZÉS.jpg
END:VEVENT
BEGIN:VEVENT
DTSTART;TZID=Europe/Budapest:20210617T180000
DTEND;TZID=Europe/Budapest:20210617T220000
DTSTAMP:20260425T005716
CREATED:20210605T070131Z
LAST-MODIFIED:20210605T070154Z
UID:21386-1623952800-1623967200@www.43szepitoksk.hu
SUMMARY:Szezonzáró Bankett 2021
DESCRIPTION:
URL:https://www.43szepitoksk.hu/event/szezonzaro-bankett/
LOCATION:Buda Gourmet Étterem\, Bécsi út 38-44.\, Budapest\, 1036
CATEGORIES:Bankett
ATTACH;FMTTYPE=image/jpeg:https://www.43szepitoksk.hu/wp-content/uploads/2021/06/bistro__4_-125-1200-5000-100.jpg
END:VEVENT
BEGIN:VEVENT
DTSTART;TZID=Europe/Budapest:20210623T193000
DTEND;TZID=Europe/Budapest:20210623T210000
DTSTAMP:20260425T005716
CREATED:20210522T065857Z
LAST-MODIFIED:20210522T065857Z
UID:21211-1624476600-1624482000@www.43szepitoksk.hu
SUMMARY:Edzés
DESCRIPTION:
URL:https://www.43szepitoksk.hu/event/edzes-598/
LOCATION:III. Kerület TVE Sporttelep\, Kalap utca 2.\, Budapest\, 1037
CATEGORIES:Edzések
ATTACH;FMTTYPE=image/jpeg:https://www.43szepitoksk.hu/wp-content/uploads/2021/01/EDZÉS.jpg
END:VEVENT
END:VCALENDAR