BEGIN:VCALENDAR
VERSION:2.0
PRODID:-//43. sz. Építők SK - ECPv6.14.0//NONSGML v1.0//EN
CALSCALE:GREGORIAN
METHOD:PUBLISH
X-WR-CALNAME:43. sz. Építők SK
X-ORIGINAL-URL:https://www.43szepitoksk.hu
X-WR-CALDESC:Események 43. sz. Építők SK
REFRESH-INTERVAL;VALUE=DURATION:PT1H
X-Robots-Tag:noindex
X-PUBLISHED-TTL:PT1H
BEGIN:VTIMEZONE
TZID:Europe/Budapest
BEGIN:DAYLIGHT
TZOFFSETFROM:+0100
TZOFFSETTO:+0200
TZNAME:CEST
DTSTART:20210328T010000
END:DAYLIGHT
BEGIN:STANDARD
TZOFFSETFROM:+0200
TZOFFSETTO:+0100
TZNAME:CET
DTSTART:20211031T010000
END:STANDARD
END:VTIMEZONE
BEGIN:VEVENT
DTSTART;TZID=Europe/Budapest:20210713T193000
DTEND;TZID=Europe/Budapest:20210713T210000
DTSTAMP:20260424T232809
CREATED:20210619T070051Z
LAST-MODIFIED:20210619T070051Z
UID:21439-1626204600-1626210000@www.43szepitoksk.hu
SUMMARY:Edzés
DESCRIPTION:
URL:https://www.43szepitoksk.hu/event/edzes-599/
LOCATION:III. Kerület TVE Sporttelep\, Kalap utca 2.\, Budapest\, 1037
CATEGORIES:Edzések
ATTACH;FMTTYPE=image/jpeg:https://www.43szepitoksk.hu/wp-content/uploads/2021/06/IMG_5797-scaled.jpg
END:VEVENT
BEGIN:VEVENT
DTSTART;TZID=Europe/Budapest:20210714T193000
DTEND;TZID=Europe/Budapest:20210714T210000
DTSTAMP:20260424T232809
CREATED:20210619T070219Z
LAST-MODIFIED:20210619T070219Z
UID:21442-1626291000-1626296400@www.43szepitoksk.hu
SUMMARY:Edzés
DESCRIPTION:
URL:https://www.43szepitoksk.hu/event/edzes-600/
LOCATION:III. Kerület TVE Sporttelep\, Kalap utca 2.\, Budapest\, 1037
CATEGORIES:Edzések
ATTACH;FMTTYPE=image/jpeg:https://www.43szepitoksk.hu/wp-content/uploads/2021/06/IMG_5797-scaled.jpg
END:VEVENT
BEGIN:VEVENT
DTSTART;TZID=Europe/Budapest:20210715T191500
DTEND;TZID=Europe/Budapest:20210715T210000
DTSTAMP:20260424T232809
CREATED:20210629T081910Z
LAST-MODIFIED:20210710T055331Z
UID:21499-1626376500-1626382800@www.43szepitoksk.hu
SUMMARY:Edzőmérkőzés: Felsőpakonyi KSE
DESCRIPTION:
URL:https://www.43szepitoksk.hu/event/edzomerkozes-felsopakonyi-kse/
LOCATION:Felsőpakonyi sporttelep\, Petőfi Sándor utca 9.\, Felsőpakony\, 2363
CATEGORIES:Edzőmérkőzések
ATTACH;FMTTYPE=image/jpeg:https://www.43szepitoksk.hu/wp-content/uploads/2021/06/felsopakonyvegleges.jpg
END:VEVENT
BEGIN:VEVENT
DTSTART;TZID=Europe/Budapest:20210720T193000
DTEND;TZID=Europe/Budapest:20210720T210000
DTSTAMP:20260424T232809
CREATED:20210701T062612Z
LAST-MODIFIED:20210701T062612Z
UID:21505-1626809400-1626814800@www.43szepitoksk.hu
SUMMARY:Edzés
DESCRIPTION:
URL:https://www.43szepitoksk.hu/event/edzes-602/
LOCATION:III. Kerület TVE Sporttelep\, Kalap utca 2.\, Budapest\, 1037
CATEGORIES:Edzések
END:VEVENT
BEGIN:VEVENT
DTSTART;TZID=Europe/Budapest:20210721T194500
DTEND;TZID=Europe/Budapest:20210721T223000
DTSTAMP:20260424T232809
CREATED:20210701T065532Z
LAST-MODIFIED:20210712T180543Z
UID:21524-1626896700-1626906600@www.43szepitoksk.hu
SUMMARY:Edzőmérkőzés: Viadukt SE-Biatorbágy
DESCRIPTION:
URL:https://www.43szepitoksk.hu/event/edzomerkozes-18/
LOCATION:III. Kerület TVE Sporttelep\, Kalap utca 2.\, Budapest\, 1037
CATEGORIES:Edzőmérkőzések
ATTACH;FMTTYPE=image/jpeg:https://www.43szepitoksk.hu/wp-content/uploads/2021/07/viadukt.jpg
END:VEVENT
BEGIN:VEVENT
DTSTART;TZID=Europe/Budapest:20210722T193000
DTEND;TZID=Europe/Budapest:20210722T210000
DTSTAMP:20260424T232809
CREATED:20210701T062725Z
LAST-MODIFIED:20210701T062725Z
UID:21507-1626982200-1626987600@www.43szepitoksk.hu
SUMMARY:Edzés
DESCRIPTION:
URL:https://www.43szepitoksk.hu/event/edzes-603/
LOCATION:III. Kerület TVE Sporttelep\, Kalap utca 2.\, Budapest\, 1037
CATEGORIES:Edzések
END:VEVENT
BEGIN:VEVENT
DTSTART;TZID=Europe/Budapest:20210723T183000
DTEND;TZID=Europe/Budapest:20210723T201500
DTSTAMP:20260424T232809
CREATED:20210701T063405Z
LAST-MODIFIED:20210710T055054Z
UID:21510-1627065000-1627071300@www.43szepitoksk.hu
SUMMARY:Edzőmérkőzés: Heréd LC
DESCRIPTION:
URL:https://www.43szepitoksk.hu/event/edzomerkozes-hered-lc-2/
LOCATION:Markó Ferenc sporttelep\, Sport utca 4.\, Heréd\, 3011
CATEGORIES:Edzőmérkőzések
ATTACH;FMTTYPE=image/jpeg:https://www.43szepitoksk.hu/wp-content/uploads/2021/07/herededzomeccs.jpg
END:VEVENT
BEGIN:VEVENT
DTSTART;TZID=Europe/Budapest:20210727T193000
DTEND;TZID=Europe/Budapest:20210727T210000
DTSTAMP:20260424T232809
CREATED:20210701T064454Z
LAST-MODIFIED:20210701T064454Z
UID:21513-1627414200-1627419600@www.43szepitoksk.hu
SUMMARY:Edzés
DESCRIPTION:
URL:https://www.43szepitoksk.hu/event/edzes-604/
LOCATION:III. Kerület TVE Sporttelep\, Kalap utca 2.\, Budapest\, 1037
CATEGORIES:Edzések
END:VEVENT
BEGIN:VEVENT
DTSTART;TZID=Europe/Budapest:20210728T183000
DTEND;TZID=Europe/Budapest:20210728T201500
DTSTAMP:20260424T232809
CREATED:20210701T064936Z
LAST-MODIFIED:20210710T054956Z
UID:21516-1627497000-1627503300@www.43szepitoksk.hu
SUMMARY:Edzőmérkőzés: Budakalászi MSE
DESCRIPTION:
URL:https://www.43szepitoksk.hu/event/edzomerkozes-ftc-u19/
LOCATION:Omszk park\, Omszk park 3.\, Budakalász\, 2011
CATEGORIES:Edzőmérkőzések
ATTACH;FMTTYPE=image/jpeg:https://www.43szepitoksk.hu/wp-content/uploads/2021/07/budakalaszedzomeccs.jpg
END:VEVENT
BEGIN:VEVENT
DTSTART;TZID=Europe/Budapest:20210729T193000
DTEND;TZID=Europe/Budapest:20210729T210000
DTSTAMP:20260424T232809
CREATED:20210701T065124Z
LAST-MODIFIED:20210701T065124Z
UID:21519-1627587000-1627592400@www.43szepitoksk.hu
SUMMARY:Edzés
DESCRIPTION:
URL:https://www.43szepitoksk.hu/event/edzes-605/
LOCATION:III. Kerület TVE Sporttelep\, Kalap utca 2.\, Budapest\, 1037
CATEGORIES:Edzések
END:VEVENT
BEGIN:VEVENT
DTSTART;TZID=Europe/Budapest:20210731T100000
DTEND;TZID=Europe/Budapest:20210731T114500
DTSTAMP:20260424T232809
CREATED:20210701T065353Z
LAST-MODIFIED:20210710T060836Z
UID:21521-1627725600-1627731900@www.43szepitoksk.hu
SUMMARY:Edzőmérkőzés: Pilisi LK
DESCRIPTION:
URL:https://www.43szepitoksk.hu/event/edzomerkozes-pilisi-lk/
LOCATION:Pilisi sporttelep\, Dózsa György út 33.\, Pilis\, 2721
CATEGORIES:Edzőmérkőzések
ATTACH;FMTTYPE=image/jpeg:https://www.43szepitoksk.hu/wp-content/uploads/2021/07/pilisedzomeccs.jpg
END:VEVENT
END:VCALENDAR