BEGIN:VCALENDAR
VERSION:2.0
PRODID:-//43. sz. Építők SK - ECPv6.14.0//NONSGML v1.0//EN
CALSCALE:GREGORIAN
METHOD:PUBLISH
X-ORIGINAL-URL:https://www.43szepitoksk.hu
X-WR-CALDESC:Események 43. sz. Építők SK
REFRESH-INTERVAL;VALUE=DURATION:PT1H
X-Robots-Tag:noindex
X-PUBLISHED-TTL:PT1H
BEGIN:VTIMEZONE
TZID:Europe/Budapest
BEGIN:DAYLIGHT
TZOFFSETFROM:+0100
TZOFFSETTO:+0200
TZNAME:CEST
DTSTART:20240331T010000
END:DAYLIGHT
BEGIN:STANDARD
TZOFFSETFROM:+0200
TZOFFSETTO:+0100
TZNAME:CET
DTSTART:20241027T010000
END:STANDARD
END:VTIMEZONE
BEGIN:VEVENT
DTSTART;TZID=Europe/Budapest:20240109T193000
DTEND;TZID=Europe/Budapest:20240109T210000
DTSTAMP:20260423T033158
CREATED:20231216T082718Z
LAST-MODIFIED:20231216T082718Z
UID:31254-1704828600-1704834000@www.43szepitoksk.hu
SUMMARY:Edzés
DESCRIPTION:
URL:https://www.43szepitoksk.hu/event/edzes-873/
LOCATION:III. Kerület TVE Sporttelep\, Kalap utca 2.\, Budapest\, 1037
CATEGORIES:Edzések
END:VEVENT
BEGIN:VEVENT
DTSTART;TZID=Europe/Budapest:20240110T193000
DTEND;TZID=Europe/Budapest:20240110T210000
DTSTAMP:20260423T033158
CREATED:20231216T082755Z
LAST-MODIFIED:20231216T082755Z
UID:31256-1704915000-1704920400@www.43szepitoksk.hu
SUMMARY:Edzés
DESCRIPTION:
URL:https://www.43szepitoksk.hu/event/edzes-874/
LOCATION:III. Kerület TVE Sporttelep\, Kalap utca 2.\, Budapest\, 1037
CATEGORIES:Edzések
END:VEVENT
BEGIN:VEVENT
DTSTART;TZID=Europe/Budapest:20240111T193000
DTEND;TZID=Europe/Budapest:20240111T210000
DTSTAMP:20260423T033158
CREATED:20231216T082833Z
LAST-MODIFIED:20231216T082833Z
UID:31258-1705001400-1705006800@www.43szepitoksk.hu
SUMMARY:Edzés
DESCRIPTION:
URL:https://www.43szepitoksk.hu/event/edzes-875/
LOCATION:III. Kerület TVE Sporttelep\, Kalap utca 2.\, Budapest\, 1037
CATEGORIES:Edzések
END:VEVENT
BEGIN:VEVENT
DTSTART;TZID=Europe/Budapest:20240116T193000
DTEND;TZID=Europe/Budapest:20240116T210000
DTSTAMP:20260423T033158
CREATED:20231216T082938Z
LAST-MODIFIED:20231216T082938Z
UID:31260-1705433400-1705438800@www.43szepitoksk.hu
SUMMARY:Edzés
DESCRIPTION:
URL:https://www.43szepitoksk.hu/event/edzes-876/
LOCATION:III. Kerület TVE Sporttelep\, Kalap utca 2.\, Budapest\, 1037
CATEGORIES:Edzések
END:VEVENT
BEGIN:VEVENT
DTSTART;TZID=Europe/Budapest:20240117T191500
DTEND;TZID=Europe/Budapest:20240117T210000
DTSTAMP:20260423T033158
CREATED:20231216T083018Z
LAST-MODIFIED:20240108T162410Z
UID:31262-1705518900-1705525200@www.43szepitoksk.hu
SUMMARY:Edzőmérkőzés: Pénzügyőr SE II
DESCRIPTION:
URL:https://www.43szepitoksk.hu/event/edzes-877/
LOCATION:III. Kerület TVE Sporttelep\, Kalap utca 2.\, Budapest\, 1037
CATEGORIES:Edzőmérkőzések
END:VEVENT
BEGIN:VEVENT
DTSTART;TZID=Europe/Budapest:20240118T193000
DTEND;TZID=Europe/Budapest:20240118T210000
DTSTAMP:20260423T033158
CREATED:20231216T083110Z
LAST-MODIFIED:20231216T083110Z
UID:31264-1705606200-1705611600@www.43szepitoksk.hu
SUMMARY:Edzés
DESCRIPTION:
URL:https://www.43szepitoksk.hu/event/edzes-878/
LOCATION:III. Kerület TVE Sporttelep\, Kalap utca 2.\, Budapest\, 1037
CATEGORIES:Edzések
END:VEVENT
BEGIN:VEVENT
DTSTART;TZID=Europe/Budapest:20240120T130000
DTEND;TZID=Europe/Budapest:20240120T144500
DTSTAMP:20260423T033158
CREATED:20231216T084117Z
LAST-MODIFIED:20240108T162440Z
UID:31279-1705755600-1705761900@www.43szepitoksk.hu
SUMMARY:Edzőmérkőzés: Felsőpakonyi KSE
DESCRIPTION:
URL:https://www.43szepitoksk.hu/event/edzomerkozes-felsopakonyi-kse-3/
LOCATION:III. Kerület TVE Sporttelep\, Kalap utca 2.\, Budapest\, 1037
CATEGORIES:Edzőmérkőzések
END:VEVENT
BEGIN:VEVENT
DTSTART;TZID=Europe/Budapest:20240123T193000
DTEND;TZID=Europe/Budapest:20240123T210000
DTSTAMP:20260423T033158
CREATED:20231216T083638Z
LAST-MODIFIED:20231216T083638Z
UID:31266-1706038200-1706043600@www.43szepitoksk.hu
SUMMARY:Edzés
DESCRIPTION:
URL:https://www.43szepitoksk.hu/event/edzes-879/
LOCATION:III. Kerület TVE Sporttelep\, Kalap utca 2.\, Budapest\, 1037
CATEGORIES:Edzések
END:VEVENT
BEGIN:VEVENT
DTSTART;TZID=Europe/Budapest:20240124T193000
DTEND;TZID=Europe/Budapest:20240124T210000
DTSTAMP:20260423T033158
CREATED:20231216T083714Z
LAST-MODIFIED:20231216T083714Z
UID:31268-1706124600-1706130000@www.43szepitoksk.hu
SUMMARY:Edzés
DESCRIPTION:
URL:https://www.43szepitoksk.hu/event/edzes-880/
LOCATION:III. Kerület TVE Sporttelep\, Kalap utca 2.\, Budapest\, 1037
CATEGORIES:Edzések
END:VEVENT
BEGIN:VEVENT
DTSTART;TZID=Europe/Budapest:20240125T193000
DTEND;TZID=Europe/Budapest:20240125T210000
DTSTAMP:20260423T033158
CREATED:20231216T083757Z
LAST-MODIFIED:20231216T083757Z
UID:31270-1706211000-1706216400@www.43szepitoksk.hu
SUMMARY:Edzés
DESCRIPTION:
URL:https://www.43szepitoksk.hu/event/edzes-881/
LOCATION:III. Kerület TVE Sporttelep\, Kalap utca 2.\, Budapest\, 1037
CATEGORIES:Edzések
END:VEVENT
BEGIN:VEVENT
DTSTART;TZID=Europe/Budapest:20240127T170000
DTEND;TZID=Europe/Budapest:20240127T184500
DTSTAMP:20260423T033158
CREATED:20231216T084610Z
LAST-MODIFIED:20240122T070815Z
UID:31281-1706374800-1706381100@www.43szepitoksk.hu
SUMMARY:Edzőmérkőzés: Budakalászi MSE
DESCRIPTION:
URL:https://www.43szepitoksk.hu/event/edzomerkozes-budakalaszi-mse/
LOCATION:III. Kerület TVE Sporttelep\, Kalap utca 2.\, Budapest\, 1037
CATEGORIES:Edzőmérkőzések
END:VEVENT
BEGIN:VEVENT
DTSTART;TZID=Europe/Budapest:20240130T193000
DTEND;TZID=Europe/Budapest:20240130T210000
DTSTAMP:20260423T033158
CREATED:20231216T083837Z
LAST-MODIFIED:20231216T083837Z
UID:31272-1706643000-1706648400@www.43szepitoksk.hu
SUMMARY:Edzés
DESCRIPTION:
URL:https://www.43szepitoksk.hu/event/edzes-882/
LOCATION:III. Kerület TVE Sporttelep\, Kalap utca 2.\, Budapest\, 1037
CATEGORIES:Edzések
END:VEVENT
BEGIN:VEVENT
DTSTART;TZID=Europe/Budapest:20240131T193000
DTEND;TZID=Europe/Budapest:20240131T210000
DTSTAMP:20260423T033158
CREATED:20231216T083916Z
LAST-MODIFIED:20231216T083916Z
UID:31274-1706729400-1706734800@www.43szepitoksk.hu
SUMMARY:Edzés
DESCRIPTION:
URL:https://www.43szepitoksk.hu/event/edzes-883/
LOCATION:III. Kerület TVE Sporttelep\, Kalap utca 2.\, Budapest\, 1037
CATEGORIES:Edzések
END:VEVENT
END:VCALENDAR