BEGIN:VCALENDAR
VERSION:2.0
PRODID:-//43. sz. Építők SK - ECPv6.14.0//NONSGML v1.0//EN
CALSCALE:GREGORIAN
METHOD:PUBLISH
X-ORIGINAL-URL:https://www.43szepitoksk.hu
X-WR-CALDESC:Események 43. sz. Építők SK
REFRESH-INTERVAL;VALUE=DURATION:PT1H
X-Robots-Tag:noindex
X-PUBLISHED-TTL:PT1H
BEGIN:VTIMEZONE
TZID:Europe/Budapest
BEGIN:DAYLIGHT
TZOFFSETFROM:+0100
TZOFFSETTO:+0200
TZNAME:CEST
DTSTART:20240331T010000
END:DAYLIGHT
BEGIN:STANDARD
TZOFFSETFROM:+0200
TZOFFSETTO:+0100
TZNAME:CET
DTSTART:20241027T010000
END:STANDARD
END:VTIMEZONE
BEGIN:VEVENT
DTSTART;TZID=Europe/Budapest:20240302T170000
DTEND;TZID=Europe/Budapest:20240302T184500
DTSTAMP:20260423T001753
CREATED:20240130T062148Z
LAST-MODIFIED:20240226T064531Z
UID:31548-1709398800-1709405100@www.43szepitoksk.hu
SUMMARY:BLSZI 18. forduló: ISSIMO SE
DESCRIPTION:
URL:https://www.43szepitoksk.hu/event/blszi-18-fordulo-issimo-se-2/
LOCATION:III. Kerület TVE Sporttelep\, Kalap utca 2.\, Budapest\, 1037
CATEGORIES:Bajnoki mérkőzések
ATTACH;FMTTYPE=image/jpeg:https://www.43szepitoksk.hu/wp-content/uploads/2024/01/esemeny.jpg
END:VEVENT
BEGIN:VEVENT
DTSTART;TZID=Europe/Budapest:20240305T193000
DTEND;TZID=Europe/Budapest:20240305T210000
DTSTAMP:20260423T001753
CREATED:20240222T064816Z
LAST-MODIFIED:20240222T064816Z
UID:31761-1709667000-1709672400@www.43szepitoksk.hu
SUMMARY:Edzés
DESCRIPTION:
URL:https://www.43szepitoksk.hu/event/edzes-897/
LOCATION:III. Kerület TVE Sporttelep\, Kalap utca 2.\, Budapest\, 1037
CATEGORIES:Edzések
END:VEVENT
BEGIN:VEVENT
DTSTART;TZID=Europe/Budapest:20240306T193000
DTEND;TZID=Europe/Budapest:20240306T210000
DTSTAMP:20260423T001753
CREATED:20240222T064900Z
LAST-MODIFIED:20240222T064900Z
UID:31763-1709753400-1709758800@www.43szepitoksk.hu
SUMMARY:Edzés
DESCRIPTION:
URL:https://www.43szepitoksk.hu/event/edzes-898/
LOCATION:III. Kerület TVE Sporttelep\, Kalap utca 2.\, Budapest\, 1037
CATEGORIES:Edzések
END:VEVENT
BEGIN:VEVENT
DTSTART;TZID=Europe/Budapest:20240307T193000
DTEND;TZID=Europe/Budapest:20240307T210000
DTSTAMP:20260423T001753
CREATED:20240222T064937Z
LAST-MODIFIED:20240222T064937Z
UID:31765-1709839800-1709845200@www.43szepitoksk.hu
SUMMARY:Edzés
DESCRIPTION:
URL:https://www.43szepitoksk.hu/event/edzes-899/
LOCATION:III. Kerület TVE Sporttelep\, Kalap utca 2.\, Budapest\, 1037
CATEGORIES:Edzések
END:VEVENT
BEGIN:VEVENT
DTSTART;TZID=Europe/Budapest:20240308T200000
DTEND;TZID=Europe/Budapest:20240308T214500
DTSTAMP:20260423T001753
CREATED:20240222T065128Z
LAST-MODIFIED:20240306T125439Z
UID:31767-1709928000-1709934300@www.43szepitoksk.hu
SUMMARY:BLSZI 19. forduló: XII. KER. SVÁBHEGY FC
DESCRIPTION:
URL:https://www.43szepitoksk.hu/event/blszi-19-fordulo-svabhegy-fc/
LOCATION:LV Sport Pénzügyőr\, Kőér utca 1/A.\, Budapest\, 1103
CATEGORIES:Bajnoki mérkőzések
END:VEVENT
BEGIN:VEVENT
DTSTART;TZID=Europe/Budapest:20240312T193000
DTEND;TZID=Europe/Budapest:20240312T210000
DTSTAMP:20260423T001753
CREATED:20240222T065204Z
LAST-MODIFIED:20240222T065204Z
UID:31769-1710271800-1710277200@www.43szepitoksk.hu
SUMMARY:Edzés
DESCRIPTION:
URL:https://www.43szepitoksk.hu/event/edzes-900/
LOCATION:III. Kerület TVE Sporttelep\, Kalap utca 2.\, Budapest\, 1037
CATEGORIES:Edzések
END:VEVENT
BEGIN:VEVENT
DTSTART;TZID=Europe/Budapest:20240313T193000
DTEND;TZID=Europe/Budapest:20240313T210000
DTSTAMP:20260423T001753
CREATED:20240222T065249Z
LAST-MODIFIED:20240222T065249Z
UID:31771-1710358200-1710363600@www.43szepitoksk.hu
SUMMARY:Edzés
DESCRIPTION:
URL:https://www.43szepitoksk.hu/event/edzes-901/
LOCATION:III. Kerület TVE Sporttelep\, Kalap utca 2.\, Budapest\, 1037
CATEGORIES:Edzések
END:VEVENT
BEGIN:VEVENT
DTSTART;TZID=Europe/Budapest:20240314T193000
DTEND;TZID=Europe/Budapest:20240314T210000
DTSTAMP:20260423T001753
CREATED:20240222T065331Z
LAST-MODIFIED:20240222T065331Z
UID:31773-1710444600-1710450000@www.43szepitoksk.hu
SUMMARY:Edzés
DESCRIPTION:
URL:https://www.43szepitoksk.hu/event/edzes-902/
LOCATION:III. Kerület TVE Sporttelep\, Kalap utca 2.\, Budapest\, 1037
CATEGORIES:Edzések
END:VEVENT
BEGIN:VEVENT
DTSTART;TZID=Europe/Budapest:20240316T170000
DTEND;TZID=Europe/Budapest:20240316T184500
DTSTAMP:20260423T001753
CREATED:20240222T065419Z
LAST-MODIFIED:20240222T065419Z
UID:31775-1710608400-1710614700@www.43szepitoksk.hu
SUMMARY:BLSZI 20. forduló: TFSE
DESCRIPTION:
URL:https://www.43szepitoksk.hu/event/blszi-20-fordulo-tfse/
LOCATION:III. Kerület TVE Sporttelep\, Kalap utca 2.\, Budapest\, 1037
CATEGORIES:Bajnoki mérkőzések
END:VEVENT
BEGIN:VEVENT
DTSTART;TZID=Europe/Budapest:20240319T193000
DTEND;TZID=Europe/Budapest:20240319T210000
DTSTAMP:20260423T001753
CREATED:20240222T065857Z
LAST-MODIFIED:20240222T065857Z
UID:31777-1710876600-1710882000@www.43szepitoksk.hu
SUMMARY:Edzés
DESCRIPTION:
URL:https://www.43szepitoksk.hu/event/edzes-903/
LOCATION:III. Kerület TVE Sporttelep\, Kalap utca 2.\, Budapest\, 1037
CATEGORIES:Edzések
END:VEVENT
BEGIN:VEVENT
DTSTART;TZID=Europe/Budapest:20240320T190000
DTEND;TZID=Europe/Budapest:20240320T204500
DTSTAMP:20260423T001753
CREATED:20240222T065959Z
LAST-MODIFIED:20240311T173519Z
UID:31779-1710961200-1710967500@www.43szepitoksk.hu
SUMMARY:Edzőmérkőzés: III. Kerület TVE Felnőtt/U19 vegyes
DESCRIPTION:
URL:https://www.43szepitoksk.hu/event/edzes-904/
LOCATION:III. Kerület TVE Sporttelep\, Kalap utca 2.\, Budapest\, 1037
CATEGORIES:Edzőmérkőzések
END:VEVENT
BEGIN:VEVENT
DTSTART;TZID=Europe/Budapest:20240321T193000
DTEND;TZID=Europe/Budapest:20240321T210000
DTSTAMP:20260423T001753
CREATED:20240222T070041Z
LAST-MODIFIED:20240222T070057Z
UID:31781-1711049400-1711054800@www.43szepitoksk.hu
SUMMARY:Edzés
DESCRIPTION:
URL:https://www.43szepitoksk.hu/event/edzes-905/
LOCATION:III. Kerület TVE Sporttelep\, Kalap utca 2.\, Budapest\, 1037
CATEGORIES:Edzések
END:VEVENT
BEGIN:VEVENT
DTSTART;TZID=Europe/Budapest:20240323T150000
DTEND;TZID=Europe/Budapest:20240323T164500
DTSTAMP:20260423T001753
CREATED:20240222T070155Z
LAST-MODIFIED:20240222T070155Z
UID:31783-1711206000-1711212300@www.43szepitoksk.hu
SUMMARY:BLSZI 21. forduló: FŐV. VÍZMŰVEK SK
DESCRIPTION:
URL:https://www.43szepitoksk.hu/event/blszi-21-fordulo-fov-vizmuvek-sk/
LOCATION:Fővárosi Vízművek Sporttelep\, Váci út 102.\, Budapest\, 1044
CATEGORIES:Bajnoki mérkőzések
END:VEVENT
BEGIN:VEVENT
DTSTART;TZID=Europe/Budapest:20240326T193000
DTEND;TZID=Europe/Budapest:20240326T210000
DTSTAMP:20260423T001753
CREATED:20240301T083042Z
LAST-MODIFIED:20240301T083042Z
UID:31861-1711481400-1711486800@www.43szepitoksk.hu
SUMMARY:Edzés
DESCRIPTION:
URL:https://www.43szepitoksk.hu/event/edzes-906/
LOCATION:III. Kerület TVE Sporttelep\, Kalap utca 2.\, Budapest\, 1037
CATEGORIES:Edzések
END:VEVENT
BEGIN:VEVENT
DTSTART;TZID=Europe/Budapest:20240327T193000
DTEND;TZID=Europe/Budapest:20240327T210000
DTSTAMP:20260423T001753
CREATED:20240301T083120Z
LAST-MODIFIED:20240301T083120Z
UID:31863-1711567800-1711573200@www.43szepitoksk.hu
SUMMARY:Edzés
DESCRIPTION:
URL:https://www.43szepitoksk.hu/event/edzes-907/
LOCATION:III. Kerület TVE Sporttelep\, Kalap utca 2.\, Budapest\, 1037
CATEGORIES:Edzések
END:VEVENT
BEGIN:VEVENT
DTSTART;TZID=Europe/Budapest:20240328T193000
DTEND;TZID=Europe/Budapest:20240328T210000
DTSTAMP:20260423T001753
CREATED:20240301T083156Z
LAST-MODIFIED:20240301T085212Z
UID:31865-1711654200-1711659600@www.43szepitoksk.hu
SUMMARY:Edzés
DESCRIPTION:
URL:https://www.43szepitoksk.hu/event/edzes-908/
LOCATION:III. Kerület TVE Sporttelep\, Kalap utca 2.\, Budapest\, 1037
CATEGORIES:Edzések
END:VEVENT
BEGIN:VEVENT
DTSTART;TZID=Europe/Budapest:20240330T170000
DTEND;TZID=Europe/Budapest:20240330T184500
DTSTAMP:20260423T001753
CREATED:20240301T085922Z
LAST-MODIFIED:20240301T095644Z
UID:31867-1711818000-1711824300@www.43szepitoksk.hu
SUMMARY:BLSZI 22. forduló: 1908 SZAC BUDAPEST FC
DESCRIPTION:
URL:https://www.43szepitoksk.hu/event/blszi-22-fordulo-1908-szac-budapest-fc/
LOCATION:III. Kerület TVE Sporttelep\, Kalap utca 2.\, Budapest\, 1037
CATEGORIES:Bajnoki mérkőzések
END:VEVENT
END:VCALENDAR