BEGIN:VCALENDAR
VERSION:2.0
PRODID:-//43. sz. Építők SK - ECPv6.14.0//NONSGML v1.0//EN
CALSCALE:GREGORIAN
METHOD:PUBLISH
X-ORIGINAL-URL:https://www.43szepitoksk.hu
X-WR-CALDESC:Események 43. sz. Építők SK
REFRESH-INTERVAL;VALUE=DURATION:PT1H
X-Robots-Tag:noindex
X-PUBLISHED-TTL:PT1H
BEGIN:VTIMEZONE
TZID:Europe/Budapest
BEGIN:DAYLIGHT
TZOFFSETFROM:+0100
TZOFFSETTO:+0200
TZNAME:CEST
DTSTART:20250330T010000
END:DAYLIGHT
BEGIN:STANDARD
TZOFFSETFROM:+0200
TZOFFSETTO:+0100
TZNAME:CET
DTSTART:20251026T010000
END:STANDARD
END:VTIMEZONE
BEGIN:VEVENT
DTSTART;TZID=Europe/Budapest:20251101T110000
DTEND;TZID=Europe/Budapest:20251101T124500
DTSTAMP:20260421T171420
CREATED:20250928T154322Z
LAST-MODIFIED:20251026T064631Z
UID:37859-1761994800-1762001100@www.43szepitoksk.hu
SUMMARY:BLSZI 12. forduló: TESTVÉRISÉG-ÚJPALOTA SE
DESCRIPTION:
URL:https://www.43szepitoksk.hu/event/blszi-12-fordulo-testveriseg-ujpalota-se/
LOCATION:Gázművek sporttelep\, Sujtás utca 2-4.\, Budapest\, 1031
CATEGORIES:Bajnoki mérkőzések
ATTACH;FMTTYPE=image/jpeg:https://www.43szepitoksk.hu/wp-content/uploads/2025/09/Esemeny-4.jpg
END:VEVENT
BEGIN:VEVENT
DTSTART;TZID=Europe/Budapest:20251103T190000
DTEND;TZID=Europe/Budapest:20251103T203000
DTSTAMP:20260421T171420
CREATED:20251102T130719Z
LAST-MODIFIED:20251102T182744Z
UID:38349-1762196400-1762201800@www.43szepitoksk.hu
SUMMARY:Edzés
DESCRIPTION:
URL:https://www.43szepitoksk.hu/event/edzes-1108/
LOCATION:Gázművek sporttelep\, Sujtás utca 2-4.\, Budapest\, 1031
CATEGORIES:Edzések
END:VEVENT
BEGIN:VEVENT
DTSTART;TZID=Europe/Budapest:20251104T190000
DTEND;TZID=Europe/Budapest:20251104T203000
DTSTAMP:20260421T171420
CREATED:20251102T182628Z
LAST-MODIFIED:20251102T182806Z
UID:38015-1762282800-1762288200@www.43szepitoksk.hu
SUMMARY:Edzés
DESCRIPTION:
URL:https://www.43szepitoksk.hu/event/edzes-1109/
LOCATION:Gázművek sporttelep\, Sujtás utca 2-4.\, Budapest\, 1031
CATEGORIES:Edzések
END:VEVENT
BEGIN:VEVENT
DTSTART;TZID=Europe/Budapest:20251105T190000
DTEND;TZID=Europe/Budapest:20251105T203000
DTSTAMP:20260421T171420
CREATED:20251018T065105Z
LAST-MODIFIED:20251102T182705Z
UID:38062-1762369200-1762374600@www.43szepitoksk.hu
SUMMARY:Edzés
DESCRIPTION:
URL:https://www.43szepitoksk.hu/event/edzes-1104/
LOCATION:Gázművek sporttelep\, Sujtás utca 2-4.\, Budapest\, 1031
CATEGORIES:Edzések
END:VEVENT
BEGIN:VEVENT
DTSTART;TZID=Europe/Budapest:20251107T203000
DTEND;TZID=Europe/Budapest:20251107T221500
DTSTAMP:20260421T171420
CREATED:20251018T070226Z
LAST-MODIFIED:20251103T053419Z
UID:38066-1762547400-1762553700@www.43szepitoksk.hu
SUMMARY:12. forduló: LUDOVIKA SE
DESCRIPTION:
URL:https://www.43szepitoksk.hu/event/12-fordulo-ludovika-se/
LOCATION:BVSC edzőpálya\, Tatai út 79-85.\, Budapest\, 1143
CATEGORIES:Bajnoki mérkőzések
ATTACH;FMTTYPE=image/jpeg:https://www.43szepitoksk.hu/wp-content/uploads/2025/10/Esemeny.jpg
END:VEVENT
BEGIN:VEVENT
DTSTART;TZID=Europe/Budapest:20251111T190000
DTEND;TZID=Europe/Budapest:20251111T203000
DTSTAMP:20260421T171420
CREATED:20251018T065844Z
LAST-MODIFIED:20251102T182918Z
UID:38064-1762887600-1762893000@www.43szepitoksk.hu
SUMMARY:Edzés
DESCRIPTION:
URL:https://www.43szepitoksk.hu/event/edzes-1105/
LOCATION:Gázművek sporttelep\, Sujtás utca 2-4.\, Budapest\, 1031
CATEGORIES:Edzések
END:VEVENT
BEGIN:VEVENT
DTSTART;TZID=Europe/Budapest:20251112T190000
DTEND;TZID=Europe/Budapest:20251112T203000
DTSTAMP:20260421T171420
CREATED:20251018T070419Z
LAST-MODIFIED:20251102T182949Z
UID:38069-1762974000-1762979400@www.43szepitoksk.hu
SUMMARY:Edzés
DESCRIPTION:
URL:https://www.43szepitoksk.hu/event/edzes-1106/
LOCATION:Gázművek sporttelep\, Sujtás utca 2-4.\, Budapest\, 1031
CATEGORIES:Edzések
END:VEVENT
BEGIN:VEVENT
DTSTART;TZID=Europe/Budapest:20251114T190000
DTEND;TZID=Europe/Budapest:20251114T203000
DTSTAMP:20260421T171420
CREATED:20251018T070458Z
LAST-MODIFIED:20251102T183012Z
UID:38071-1763146800-1763152200@www.43szepitoksk.hu
SUMMARY:Edzés
DESCRIPTION:
URL:https://www.43szepitoksk.hu/event/edzes-1107/
LOCATION:Gázművek sporttelep\, Sujtás utca 2-4.\, Budapest\, 1031
CATEGORIES:Edzések
END:VEVENT
BEGIN:VEVENT
DTSTART;TZID=Europe/Budapest:20251115T110000
DTEND;TZID=Europe/Budapest:20251115T124500
DTSTAMP:20260421T171420
CREATED:20251102T183207Z
LAST-MODIFIED:20251110T071444Z
UID:38354-1763204400-1763210700@www.43szepitoksk.hu
SUMMARY:BLSZI 14. forduló: FLOTTA 2001 SE
DESCRIPTION:
URL:https://www.43szepitoksk.hu/event/blszi-14-fordulo-flotta-2001-se/
LOCATION:Gázművek sporttelep\, Sujtás utca 2-4.\, Budapest\, 1031
CATEGORIES:Bajnoki mérkőzések
ATTACH;FMTTYPE=image/jpeg:https://www.43szepitoksk.hu/wp-content/uploads/2025/11/Esemeny.jpg
END:VEVENT
BEGIN:VEVENT
DTSTART;TZID=Europe/Budapest:20251118T193000
DTEND;TZID=Europe/Budapest:20251118T210000
DTSTAMP:20260421T171420
CREATED:20251102T183249Z
LAST-MODIFIED:20251102T183249Z
UID:38356-1763494200-1763499600@www.43szepitoksk.hu
SUMMARY:Edzés
DESCRIPTION:
URL:https://www.43szepitoksk.hu/event/edzes-1110/
LOCATION:III. Kerület TVE Sporttelep\, Kalap utca 2.\, Budapest\, 1037
CATEGORIES:Edzések
END:VEVENT
BEGIN:VEVENT
DTSTART;TZID=Europe/Budapest:20251119T193000
DTEND;TZID=Europe/Budapest:20251119T210000
DTSTAMP:20260421T171420
CREATED:20251102T183317Z
LAST-MODIFIED:20251102T183317Z
UID:38358-1763580600-1763586000@www.43szepitoksk.hu
SUMMARY:Edzés
DESCRIPTION:
URL:https://www.43szepitoksk.hu/event/edzes-1111/
LOCATION:III. Kerület TVE Sporttelep\, Kalap utca 2.\, Budapest\, 1037
CATEGORIES:Edzések
END:VEVENT
BEGIN:VEVENT
DTSTART;TZID=Europe/Budapest:20251120T193000
DTEND;TZID=Europe/Budapest:20251120T210000
DTSTAMP:20260421T171420
CREATED:20251102T183349Z
LAST-MODIFIED:20251102T183349Z
UID:38360-1763667000-1763672400@www.43szepitoksk.hu
SUMMARY:Edzés
DESCRIPTION:
URL:https://www.43szepitoksk.hu/event/edzes-1112/
LOCATION:III. Kerület TVE Sporttelep\, Kalap utca 2.\, Budapest\, 1037
CATEGORIES:Edzések
END:VEVENT
BEGIN:VEVENT
DTSTART;TZID=Europe/Budapest:20251122T130000
DTEND;TZID=Europe/Budapest:20251122T144500
DTSTAMP:20260421T171420
CREATED:20251102T183527Z
LAST-MODIFIED:20251117T212338Z
UID:38362-1763816400-1763822700@www.43szepitoksk.hu
SUMMARY:BLSZI 15. forduló: 1908 SZAC BUDAPEST FC
DESCRIPTION:
URL:https://www.43szepitoksk.hu/event/blszi-15-fordulo-1908-szac-budapest-fc/
LOCATION:SZAC sporttelep\, Thököly utca 5.\, Budapest\, 1183
CATEGORIES:Bajnoki mérkőzések
ATTACH;FMTTYPE=image/jpeg:https://www.43szepitoksk.hu/wp-content/uploads/2025/11/Esemeny-1.jpg
END:VEVENT
BEGIN:VEVENT
DTSTART;TZID=Europe/Budapest:20251124T193000
DTEND;TZID=Europe/Budapest:20251124T210000
DTSTAMP:20260421T171420
CREATED:20251102T183703Z
LAST-MODIFIED:20251117T135949Z
UID:38368-1764012600-1764018000@www.43szepitoksk.hu
SUMMARY:Edzés
DESCRIPTION:
URL:https://www.43szepitoksk.hu/event/edzes-1115/
LOCATION:III. Kerület TVE Sporttelep\, Kalap utca 2.\, Budapest\, 1037
CATEGORIES:Edzések
END:VEVENT
BEGIN:VEVENT
DTSTART;TZID=Europe/Budapest:20251125T193000
DTEND;TZID=Europe/Budapest:20251125T210000
DTSTAMP:20260421T171420
CREATED:20251102T183556Z
LAST-MODIFIED:20251102T183556Z
UID:38364-1764099000-1764104400@www.43szepitoksk.hu
SUMMARY:Edzés
DESCRIPTION:
URL:https://www.43szepitoksk.hu/event/edzes-1113/
LOCATION:III. Kerület TVE Sporttelep\, Kalap utca 2.\, Budapest\, 1037
CATEGORIES:Bajnoki mérkőzések
END:VEVENT
BEGIN:VEVENT
DTSTART;TZID=Europe/Budapest:20251126T193000
DTEND;TZID=Europe/Budapest:20251126T210000
DTSTAMP:20260421T171420
CREATED:20251102T183631Z
LAST-MODIFIED:20251102T183631Z
UID:38366-1764185400-1764190800@www.43szepitoksk.hu
SUMMARY:Edzés
DESCRIPTION:
URL:https://www.43szepitoksk.hu/event/edzes-1114/
LOCATION:III. Kerület TVE Sporttelep\, Kalap utca 2.\, Budapest\, 1037
CATEGORIES:Edzések
END:VEVENT
BEGIN:VEVENT
DTSTART;TZID=Europe/Budapest:20251128T190000
DTEND;TZID=Europe/Budapest:20251128T204500
DTSTAMP:20260421T171420
CREATED:20251102T183845Z
LAST-MODIFIED:20251122T062745Z
UID:38370-1764356400-1764362700@www.43szepitoksk.hu
SUMMARY:BLSZI 2. forduló: FŐVÁROSI VÍZMŰVEK SK
DESCRIPTION:
URL:https://www.43szepitoksk.hu/event/blszi-2-fordulo-fovarosi-vizmuvek-sk/
LOCATION:Fővárosi Vízművek Sporttelep\, Váci út 102.\, Budapest\, 1044
CATEGORIES:Bajnoki mérkőzések
ATTACH;FMTTYPE=image/jpeg:https://www.43szepitoksk.hu/wp-content/uploads/2025/11/Meccsnap.jpg
END:VEVENT
END:VCALENDAR