BEGIN:VCALENDAR
VERSION:2.0
PRODID:-//43. sz. Építők SK - ECPv6.14.0//NONSGML v1.0//EN
CALSCALE:GREGORIAN
METHOD:PUBLISH
X-WR-CALNAME:43. sz. Építők SK
X-ORIGINAL-URL:https://www.43szepitoksk.hu
X-WR-CALDESC:Események 43. sz. Építők SK
REFRESH-INTERVAL;VALUE=DURATION:PT1H
X-Robots-Tag:noindex
X-PUBLISHED-TTL:PT1H
BEGIN:VTIMEZONE
TZID:Europe/Budapest
BEGIN:DAYLIGHT
TZOFFSETFROM:+0100
TZOFFSETTO:+0200
TZNAME:CEST
DTSTART:20200329T010000
END:DAYLIGHT
BEGIN:STANDARD
TZOFFSETFROM:+0200
TZOFFSETTO:+0100
TZNAME:CET
DTSTART:20201025T010000
END:STANDARD
END:VTIMEZONE
BEGIN:VEVENT
DTSTART;TZID=Europe/Budapest:20200111T130000
DTEND;TZID=Europe/Budapest:20200111T163000
DTSTAMP:20260426T054800
CREATED:20191216T182419Z
LAST-MODIFIED:20191216T183539Z
UID:17019-1578747600-1578760200@www.43szepitoksk.hu
SUMMARY:Téli Teremtorna 2019 középdöntő
DESCRIPTION:
URL:https://www.43szepitoksk.hu/event/teli-teremtorna-2019-kozepdonto/
LOCATION:Budafoki sporcsarnok\, Promontor utca 89.\, Budapest\, 1222
CATEGORIES:Teremtorna
ATTACH;FMTTYPE=image/jpeg:https://www.43szepitoksk.hu/wp-content/uploads/2019/10/blsz_logo-2013.jpg
END:VEVENT
BEGIN:VEVENT
DTSTART;TZID=Europe/Budapest:20200112T121500
DTEND;TZID=Europe/Budapest:20200112T163000
DTSTAMP:20260426T054800
CREATED:20200111T174948Z
LAST-MODIFIED:20200111T184125Z
UID:17122-1578831300-1578846600@www.43szepitoksk.hu
SUMMARY:BLSZ Téli Teremtorna 2020 döntő
DESCRIPTION:
URL:https://www.43szepitoksk.hu/event/blsz-teli-teremtorna-2020-donto/
LOCATION:Budafoki sporcsarnok\, Promontor utca 89.\, Budapest\, 1222
CATEGORIES:Teremtorna
ATTACH;FMTTYPE=image/jpeg:https://www.43szepitoksk.hu/wp-content/uploads/2019/10/blsz_logo-2013.jpg
END:VEVENT
BEGIN:VEVENT
DTSTART;TZID=Europe/Budapest:20200115T193000
DTEND;TZID=Europe/Budapest:20200115T210000
DTSTAMP:20260426T054800
CREATED:20191129T072033Z
LAST-MODIFIED:20191219T214752Z
UID:16835-1579116600-1579122000@www.43szepitoksk.hu
SUMMARY:Edzés
DESCRIPTION:
URL:https://www.43szepitoksk.hu/event/edzes-434/
LOCATION:III. Kerület TVE Sporttelep\, Kalap utca 2.\, Budapest\, 1037
CATEGORIES:Edzések
ATTACH;FMTTYPE=image/jpeg:https://www.43szepitoksk.hu/wp-content/uploads/2019/11/IMG_0893.jpg
END:VEVENT
BEGIN:VEVENT
DTSTART;TZID=Europe/Budapest:20200116T193000
DTEND;TZID=Europe/Budapest:20200116T210000
DTSTAMP:20260426T054800
CREATED:20191129T072730Z
LAST-MODIFIED:20191219T214726Z
UID:16838-1579203000-1579208400@www.43szepitoksk.hu
SUMMARY:Edzés
DESCRIPTION:
URL:https://www.43szepitoksk.hu/event/edzes-435/
LOCATION:III. Kerület TVE Sporttelep\, Kalap utca 2.\, Budapest\, 1037
CATEGORIES:Edzések
ATTACH;FMTTYPE=image/jpeg:https://www.43szepitoksk.hu/wp-content/uploads/2019/11/IMG_0893.jpg
END:VEVENT
BEGIN:VEVENT
DTSTART;TZID=Europe/Budapest:20200119T140000
DTEND;TZID=Europe/Budapest:20200119T154500
DTSTAMP:20260426T054800
CREATED:20191129T142918Z
LAST-MODIFIED:20191226T092933Z
UID:16882-1579442400-1579448700@www.43szepitoksk.hu
SUMMARY:Edzőmérkőzés: Szentendrei VSE (PM1)
DESCRIPTION:
URL:https://www.43szepitoksk.hu/event/edzomerkozes-szentendrei-vse-pm1/
LOCATION:Dunakanyar sporttelep\, Kőzúzó utca 1.\, Szentendre\, 2000
CATEGORIES:Edzőmérkőzések
ATTACH;FMTTYPE=image/jpeg:https://www.43szepitoksk.hu/wp-content/uploads/2019/11/Edzőmérkőzés.szentendre.jpg
END:VEVENT
BEGIN:VEVENT
DTSTART;TZID=Europe/Budapest:20200121T193000
DTEND;TZID=Europe/Budapest:20200121T210000
DTSTAMP:20260426T054800
CREATED:20191129T072815Z
LAST-MODIFIED:20191219T214701Z
UID:16840-1579635000-1579640400@www.43szepitoksk.hu
SUMMARY:Edzés
DESCRIPTION:
URL:https://www.43szepitoksk.hu/event/edzes-436/
LOCATION:III. Kerület TVE Sporttelep\, Kalap utca 2.\, Budapest\, 1037
CATEGORIES:Edzések
ATTACH;FMTTYPE=image/jpeg:https://www.43szepitoksk.hu/wp-content/uploads/2019/11/IMG_0893.jpg
END:VEVENT
BEGIN:VEVENT
DTSTART;TZID=Europe/Budapest:20200122T193000
DTEND;TZID=Europe/Budapest:20200122T210000
DTSTAMP:20260426T054800
CREATED:20191129T072900Z
LAST-MODIFIED:20191219T214636Z
UID:16842-1579721400-1579726800@www.43szepitoksk.hu
SUMMARY:Edzés
DESCRIPTION:
URL:https://www.43szepitoksk.hu/event/edzes-437/
LOCATION:III. Kerület TVE Sporttelep\, Kalap utca 2.\, Budapest\, 1037
CATEGORIES:Edzések
ATTACH;FMTTYPE=image/jpeg:https://www.43szepitoksk.hu/wp-content/uploads/2019/11/IMG_0893.jpg
END:VEVENT
BEGIN:VEVENT
DTSTART;TZID=Europe/Budapest:20200123T193000
DTEND;TZID=Europe/Budapest:20200123T210000
DTSTAMP:20260426T054800
CREATED:20191129T072943Z
LAST-MODIFIED:20191219T214610Z
UID:16844-1579807800-1579813200@www.43szepitoksk.hu
SUMMARY:Edzés
DESCRIPTION:
URL:https://www.43szepitoksk.hu/event/edzes-438/
LOCATION:III. Kerület TVE Sporttelep\, Kalap utca 2.\, Budapest\, 1037
CATEGORIES:Edzések
ATTACH;FMTTYPE=image/jpeg:https://www.43szepitoksk.hu/wp-content/uploads/2019/11/IMG_0893.jpg
END:VEVENT
BEGIN:VEVENT
DTSTART;TZID=Europe/Budapest:20200125T163000
DTEND;TZID=Europe/Budapest:20200125T181500
DTSTAMP:20260426T054800
CREATED:20191226T093408Z
LAST-MODIFIED:20200121T122552Z
UID:17063-1579969800-1579976100@www.43szepitoksk.hu
SUMMARY:Edzőmérkőzés: Vasas KA (U19)
DESCRIPTION:
URL:https://www.43szepitoksk.hu/event/edzomerkozes-vasas-ka-u19/
LOCATION:Mészöly Kálmán műfüves pálya\, Fáy utca 58.\, Budapest\, 1139
CATEGORIES:Edzőmérkőzések
ATTACH;FMTTYPE=image/jpeg:https://www.43szepitoksk.hu/wp-content/uploads/2019/12/Edzőmérkőzés.vasasu19.jpg
END:VEVENT
BEGIN:VEVENT
DTSTART;TZID=Europe/Budapest:20200128T193000
DTEND;TZID=Europe/Budapest:20200128T210000
DTSTAMP:20260426T054800
CREATED:20191129T074409Z
LAST-MODIFIED:20191219T214545Z
UID:16846-1580239800-1580245200@www.43szepitoksk.hu
SUMMARY:Edzés
DESCRIPTION:
URL:https://www.43szepitoksk.hu/event/edzes-439/
LOCATION:III. Kerület TVE Sporttelep\, Kalap utca 2.\, Budapest\, 1037
CATEGORIES:Edzések
ATTACH;FMTTYPE=image/jpeg:https://www.43szepitoksk.hu/wp-content/uploads/2019/11/IMG_0893.jpg
END:VEVENT
BEGIN:VEVENT
DTSTART;TZID=Europe/Budapest:20200129T193000
DTEND;TZID=Europe/Budapest:20200129T211500
DTSTAMP:20260426T054800
CREATED:20191129T074447Z
LAST-MODIFIED:20200116T160657Z
UID:16848-1580326200-1580332500@www.43szepitoksk.hu
SUMMARY:Edzőmérkőzés: TFSE (BLSZ2)
DESCRIPTION:
URL:https://www.43szepitoksk.hu/event/edzes-440/
LOCATION:Budafoki MTE Sporttelep (műfüves pálya)\, Promontor utca 89.\, Budapest\, 1222
CATEGORIES:Edzőmérkőzések
ATTACH;FMTTYPE=image/jpeg:https://www.43szepitoksk.hu/wp-content/uploads/2019/11/Edzőmérkőzés.vendégTF-1.jpg
END:VEVENT
BEGIN:VEVENT
DTSTART;TZID=Europe/Budapest:20200130T193000
DTEND;TZID=Europe/Budapest:20200130T210000
DTSTAMP:20260426T054800
CREATED:20191129T074537Z
LAST-MODIFIED:20191219T214453Z
UID:16850-1580412600-1580418000@www.43szepitoksk.hu
SUMMARY:Edzés
DESCRIPTION:
URL:https://www.43szepitoksk.hu/event/edzes-441/
LOCATION:III. Kerület TVE Sporttelep\, Kalap utca 2.\, Budapest\, 1037
CATEGORIES:Edzések
ATTACH;FMTTYPE=image/jpeg:https://www.43szepitoksk.hu/wp-content/uploads/2019/11/IMG_0893.jpg
END:VEVENT
BEGIN:VEVENT
DTSTART;TZID=Europe/Budapest:20200201T170000
DTEND;TZID=Europe/Budapest:20200201T184500
DTSTAMP:20260426T054800
CREATED:20191129T075046Z
LAST-MODIFIED:20200131T151013Z
UID:16854-1580576400-1580582700@www.43szepitoksk.hu
SUMMARY:Edzőmérkőzés: MTK U17
DESCRIPTION:
URL:https://www.43szepitoksk.hu/event/edzomerkozes-dunaharaszti-mtk-nb3/
LOCATION:III. Kerület TVE Sporttelep\, Kalap utca 2.\, Budapest\, 1037
CATEGORIES:Edzőmérkőzések
ATTACH;FMTTYPE=image/jpeg:https://www.43szepitoksk.hu/wp-content/uploads/2019/11/Edzőmérkőzés.mtk_.jpg
END:VEVENT
BEGIN:VEVENT
DTSTART;TZID=Europe/Budapest:20200204T193000
DTEND;TZID=Europe/Budapest:20200204T210000
DTSTAMP:20260426T054800
CREATED:20191129T074856Z
LAST-MODIFIED:20191219T214333Z
UID:16852-1580844600-1580850000@www.43szepitoksk.hu
SUMMARY:Edzés
DESCRIPTION:
URL:https://www.43szepitoksk.hu/event/edzes-442/
LOCATION:III. Kerület TVE Sporttelep\, Kalap utca 2.\, Budapest\, 1037
CATEGORIES:Edzések
ATTACH;FMTTYPE=image/jpeg:https://www.43szepitoksk.hu/wp-content/uploads/2019/11/IMG_0893.jpg
END:VEVENT
BEGIN:VEVENT
DTSTART;TZID=Europe/Budapest:20200205T193000
DTEND;TZID=Europe/Budapest:20200205T211500
DTSTAMP:20260426T054800
CREATED:20191129T144205Z
LAST-MODIFIED:20200118T073317Z
UID:16886-1580931000-1580937300@www.43szepitoksk.hu
SUMMARY:Edzőmérkőzés: Unione FC (BLSZ1)
DESCRIPTION:
URL:https://www.43szepitoksk.hu/event/edzomerkozes-unione-fc-blsz1-2/
LOCATION:III. Kerület TVE Sporttelep\, Kalap utca 2.\, Budapest\, 1037
CATEGORIES:Edzőmérkőzések
ATTACH;FMTTYPE=image/jpeg:https://www.43szepitoksk.hu/wp-content/uploads/2019/11/Edzőmérkőzés.unione.jpg
END:VEVENT
BEGIN:VEVENT
DTSTART;TZID=Europe/Budapest:20200206T193000
DTEND;TZID=Europe/Budapest:20200206T210000
DTSTAMP:20260426T054800
CREATED:20191129T075312Z
LAST-MODIFIED:20191219T214257Z
UID:16860-1581017400-1581022800@www.43szepitoksk.hu
SUMMARY:Edzés
DESCRIPTION:
URL:https://www.43szepitoksk.hu/event/edzes-445/
LOCATION:III. Kerület TVE Sporttelep\, Kalap utca 2.\, Budapest\, 1037
CATEGORIES:Edzések
ATTACH;FMTTYPE=image/jpeg:https://www.43szepitoksk.hu/wp-content/uploads/2019/11/IMG_0893.jpg
END:VEVENT
BEGIN:VEVENT
DTSTART;TZID=Europe/Budapest:20200208T140000
DTEND;TZID=Europe/Budapest:20200208T154500
DTSTAMP:20260426T054800
CREATED:20191129T075552Z
LAST-MODIFIED:20200131T145635Z
UID:16862-1581170400-1581176700@www.43szepitoksk.hu
SUMMARY:Edzőmérkőzés: Soroksár SC (U19)
DESCRIPTION:
URL:https://www.43szepitoksk.hu/event/edzomerkozes-soroksar-sc-u19/
LOCATION:Soroksári sporttelep\, Haraszti út 26.\, Budapest\, 1239
CATEGORIES:Edzőmérkőzések
ATTACH;FMTTYPE=image/jpeg:https://www.43szepitoksk.hu/wp-content/uploads/2019/11/Edzőmérkőzés.soroksár.jpg
END:VEVENT
BEGIN:VEVENT
DTSTART;TZID=Europe/Budapest:20200211T193000
DTEND;TZID=Europe/Budapest:20200211T210000
DTSTAMP:20260426T054800
CREATED:20191129T075635Z
LAST-MODIFIED:20191219T214232Z
UID:16864-1581449400-1581454800@www.43szepitoksk.hu
SUMMARY:Edzés
DESCRIPTION:
URL:https://www.43szepitoksk.hu/event/edzes-446/
LOCATION:III. Kerület TVE Sporttelep\, Kalap utca 2.\, Budapest\, 1037
CATEGORIES:Edzések
ATTACH;FMTTYPE=image/jpeg:https://www.43szepitoksk.hu/wp-content/uploads/2019/11/IMG_0893.jpg
END:VEVENT
BEGIN:VEVENT
DTSTART;TZID=Europe/Budapest:20200212T193000
DTEND;TZID=Europe/Budapest:20200212T211500
DTSTAMP:20260426T054800
CREATED:20191129T075818Z
LAST-MODIFIED:20200118T073247Z
UID:16866-1581535800-1581542100@www.43szepitoksk.hu
SUMMARY:Edzőmérkőzés: THSE-Szabadkikötő (NB3)
DESCRIPTION:
URL:https://www.43szepitoksk.hu/event/edzes-447/
LOCATION:III. Kerület TVE Sporttelep\, Kalap utca 2.\, Budapest\, 1037
CATEGORIES:Edzőmérkőzések
ATTACH;FMTTYPE=image/jpeg:https://www.43szepitoksk.hu/wp-content/uploads/2019/11/Edzőmérkőzés.thse_.jpg
END:VEVENT
BEGIN:VEVENT
DTSTART;TZID=Europe/Budapest:20200213T193000
DTEND;TZID=Europe/Budapest:20200213T210000
DTSTAMP:20260426T054800
CREATED:20191129T080530Z
LAST-MODIFIED:20191219T214146Z
UID:16872-1581622200-1581627600@www.43szepitoksk.hu
SUMMARY:Edzés
DESCRIPTION:
URL:https://www.43szepitoksk.hu/event/edzes-449/
LOCATION:III. Kerület TVE Sporttelep\, Kalap utca 2.\, Budapest\, 1037
CATEGORIES:Edzések
ATTACH;FMTTYPE=image/jpeg:https://www.43szepitoksk.hu/wp-content/uploads/2019/11/IMG_0893.jpg
END:VEVENT
BEGIN:VEVENT
DTSTART;TZID=Europe/Budapest:20200215T170000
DTEND;TZID=Europe/Budapest:20200215T184500
DTSTAMP:20260426T054800
CREATED:20191129T075901Z
LAST-MODIFIED:20200205T220155Z
UID:16868-1581786000-1581792300@www.43szepitoksk.hu
SUMMARY:Budapest Kupa 3. forduló: CSEP-GÓL FC
DESCRIPTION:
URL:https://www.43szepitoksk.hu/event/edzes-448/
LOCATION:Budafoki MTE Sporttelep (műfüves pálya)\, Promontor utca 89.\, Budapest\, 1222
CATEGORIES:Kupa mérkőzések
ATTACH;FMTTYPE=image/jpeg:https://www.43szepitoksk.hu/wp-content/uploads/2018/02/Budapest-Kupa-3.jpg
END:VEVENT
BEGIN:VEVENT
DTSTART;TZID=Europe/Budapest:20200218T193000
DTEND;TZID=Europe/Budapest:20200218T210000
DTSTAMP:20260426T054800
CREATED:20191129T080615Z
LAST-MODIFIED:20191219T214049Z
UID:16874-1582054200-1582059600@www.43szepitoksk.hu
SUMMARY:Edzés
DESCRIPTION:
URL:https://www.43szepitoksk.hu/event/edzes-450/
LOCATION:III. Kerület TVE Sporttelep\, Kalap utca 2.\, Budapest\, 1037
CATEGORIES:Edzések
ATTACH;FMTTYPE=image/jpeg:https://www.43szepitoksk.hu/wp-content/uploads/2019/11/IMG_0893.jpg
END:VEVENT
BEGIN:VEVENT
DTSTART;TZID=Europe/Budapest:20200219T193000
DTEND;TZID=Europe/Budapest:20200219T210000
DTSTAMP:20260426T054800
CREATED:20191129T080657Z
LAST-MODIFIED:20200219T154915Z
UID:16876-1582140600-1582146000@www.43szepitoksk.hu
SUMMARY:Edzés
DESCRIPTION:
URL:https://www.43szepitoksk.hu/event/edzes-451/
LOCATION:III. Kerület TVE Sporttelep\, Kalap utca 2.\, Budapest\, 1037
CATEGORIES:Edzések
ATTACH;FMTTYPE=image/jpeg:https://www.43szepitoksk.hu/wp-content/uploads/2019/11/LUKÁCS.jpg
END:VEVENT
BEGIN:VEVENT
DTSTART;TZID=Europe/Budapest:20200220T193000
DTEND;TZID=Europe/Budapest:20200220T210000
DTSTAMP:20260426T054800
CREATED:20191129T080731Z
LAST-MODIFIED:20191219T213955Z
UID:16878-1582227000-1582232400@www.43szepitoksk.hu
SUMMARY:Edzés
DESCRIPTION:
URL:https://www.43szepitoksk.hu/event/edzes-452/
LOCATION:III. Kerület TVE Sporttelep\, Kalap utca 2.\, Budapest\, 1037
CATEGORIES:Edzések
ATTACH;FMTTYPE=image/jpeg:https://www.43szepitoksk.hu/wp-content/uploads/2019/11/IMG_0893.jpg
END:VEVENT
BEGIN:VEVENT
DTSTART;TZID=Europe/Budapest:20200222T170000
DTEND;TZID=Europe/Budapest:20200222T184500
DTSTAMP:20260426T054800
CREATED:20191129T080844Z
LAST-MODIFIED:20200209T090253Z
UID:16880-1582390800-1582397100@www.43szepitoksk.hu
SUMMARY:16. forduló: FŐVÁROSI VÍZMŰVEK SK
DESCRIPTION:
URL:https://www.43szepitoksk.hu/event/16-fordulo-fovarosi-vizmuvek-sk/
LOCATION:III. Kerület TVE\, Kalap utca 2.\, Budapest\, 1037
CATEGORIES:Bajnoki mérkőzések
ATTACH;FMTTYPE=image/jpeg:https://www.43szepitoksk.hu/wp-content/uploads/2019/11/vizhazaiv.jpg
END:VEVENT
BEGIN:VEVENT
DTSTART;TZID=Europe/Budapest:20200225T193000
DTEND;TZID=Europe/Budapest:20200225T210000
DTSTAMP:20260426T054800
CREATED:20200202T075053Z
LAST-MODIFIED:20200202T075053Z
UID:17238-1582659000-1582664400@www.43szepitoksk.hu
SUMMARY:Edzés
DESCRIPTION:
URL:https://www.43szepitoksk.hu/event/edzes-453/
LOCATION:III. Kerület TVE Sporttelep\, Kalap utca 2.\, Budapest\, 1037
CATEGORIES:Edzések
ATTACH;FMTTYPE=image/jpeg:https://www.43szepitoksk.hu/wp-content/uploads/2019/12/IMG_3070.jpg
END:VEVENT
BEGIN:VEVENT
DTSTART;TZID=Europe/Budapest:20200226T193000
DTEND;TZID=Europe/Budapest:20200226T210000
DTSTAMP:20260426T054800
CREATED:20200202T075145Z
LAST-MODIFIED:20200202T075145Z
UID:17240-1582745400-1582750800@www.43szepitoksk.hu
SUMMARY:Edzés
DESCRIPTION:
URL:https://www.43szepitoksk.hu/event/edzes-454/
LOCATION:III. Kerület TVE Sporttelep\, Kalap utca 2.\, Budapest\, 1037
ATTACH;FMTTYPE=image/jpeg:https://www.43szepitoksk.hu/wp-content/uploads/2019/12/IMG_3070.jpg
END:VEVENT
BEGIN:VEVENT
DTSTART;TZID=Europe/Budapest:20200227T193000
DTEND;TZID=Europe/Budapest:20200227T210000
DTSTAMP:20260426T054800
CREATED:20200202T075228Z
LAST-MODIFIED:20200202T075228Z
UID:17242-1582831800-1582837200@www.43szepitoksk.hu
SUMMARY:Edzés
DESCRIPTION:
URL:https://www.43szepitoksk.hu/event/edzes-455/
LOCATION:III. Kerület TVE Sporttelep\, Kalap utca 2.\, Budapest\, 1037
CATEGORIES:Edzések
ATTACH;FMTTYPE=image/jpeg:https://www.43szepitoksk.hu/wp-content/uploads/2019/12/IMG_3070.jpg
END:VEVENT
BEGIN:VEVENT
DTSTART;TZID=Europe/Budapest:20200229T110000
DTEND;TZID=Europe/Budapest:20200229T124500
DTSTAMP:20260426T054800
CREATED:20200202T075905Z
LAST-MODIFIED:20200224T133825Z
UID:17244-1582974000-1582980300@www.43szepitoksk.hu
SUMMARY:17. forduló: ASR GÁZGYÁR HALASZTVA!!!
DESCRIPTION:
URL:https://www.43szepitoksk.hu/event/17-fordulo-asr-gazgyar/
LOCATION:Gázművek sporttelep\, Sujtás utca 2-4.\, Budapest\, 1031
CATEGORIES:Bajnoki mérkőzések
ATTACH;FMTTYPE=image/jpeg:https://www.43szepitoksk.hu/wp-content/uploads/2020/02/gazvendegv.jpg
END:VEVENT
BEGIN:VEVENT
DTSTART;TZID=Europe/Budapest:20200303T193000
DTEND;TZID=Europe/Budapest:20200303T210000
DTSTAMP:20260426T054800
CREATED:20200202T080000Z
LAST-MODIFIED:20200202T080000Z
UID:17247-1583263800-1583269200@www.43szepitoksk.hu
SUMMARY:Edzés
DESCRIPTION:
URL:https://www.43szepitoksk.hu/event/edzes-456/
LOCATION:III. Kerület TVE Sporttelep\, Kalap utca 2.\, Budapest\, 1037
CATEGORIES:Edzések
ATTACH;FMTTYPE=image/jpeg:https://www.43szepitoksk.hu/wp-content/uploads/2019/12/IMG_3070.jpg
END:VEVENT
END:VCALENDAR