BEGIN:VCALENDAR
VERSION:2.0
PRODID:-//43. sz. Építők SK - ECPv6.14.0//NONSGML v1.0//EN
CALSCALE:GREGORIAN
METHOD:PUBLISH
X-WR-CALNAME:43. sz. Építők SK
X-ORIGINAL-URL:https://www.43szepitoksk.hu
X-WR-CALDESC:Események 43. sz. Építők SK
REFRESH-INTERVAL;VALUE=DURATION:PT1H
X-Robots-Tag:noindex
X-PUBLISHED-TTL:PT1H
BEGIN:VTIMEZONE
TZID:Europe/Budapest
BEGIN:DAYLIGHT
TZOFFSETFROM:+0100
TZOFFSETTO:+0200
TZNAME:CEST
DTSTART:20200329T010000
END:DAYLIGHT
BEGIN:STANDARD
TZOFFSETFROM:+0200
TZOFFSETTO:+0100
TZNAME:CET
DTSTART:20201025T010000
END:STANDARD
END:VTIMEZONE
BEGIN:VEVENT
DTSTART;TZID=Europe/Budapest:20200701T193000
DTEND;TZID=Europe/Budapest:20200701T210000
DTSTAMP:20260425T202437
CREATED:20200612T071207Z
LAST-MODIFIED:20200612T071207Z
UID:18191-1593631800-1593637200@www.43szepitoksk.hu
SUMMARY:Edzés
DESCRIPTION:
URL:https://www.43szepitoksk.hu/event/edzes-494/
LOCATION:III. Kerület TVE Sporttelep\, Kalap utca 2.\, Budapest\, 1037
CATEGORIES:Edzések
ATTACH;FMTTYPE=image/jpeg:https://www.43szepitoksk.hu/wp-content/uploads/2020/05/IMG_1493.jpg
END:VEVENT
BEGIN:VEVENT
DTSTART;TZID=Europe/Budapest:20200707T193000
DTEND;TZID=Europe/Budapest:20200707T193000
DTSTAMP:20260425T202437
CREATED:20200612T071249Z
LAST-MODIFIED:20200612T071249Z
UID:18193-1594150200-1594150200@www.43szepitoksk.hu
SUMMARY:Edzés
DESCRIPTION:
URL:https://www.43szepitoksk.hu/event/edzes-495/
LOCATION:III. Kerület TVE Sporttelep\, Kalap utca 2.\, Budapest\, 1037
CATEGORIES:Edzések
ATTACH;FMTTYPE=image/jpeg:https://www.43szepitoksk.hu/wp-content/uploads/2020/05/IMG_1493.jpg
END:VEVENT
BEGIN:VEVENT
DTSTART;TZID=Europe/Budapest:20200708T080000
DTEND;TZID=Europe/Budapest:20200708T170000
DTSTAMP:20260425T202437
CREATED:20200604T081609Z
LAST-MODIFIED:20200604T081609Z
UID:18127-1594195200-1594227600@www.43szepitoksk.hu
SUMMARY:Edzés
DESCRIPTION:
URL:https://www.43szepitoksk.hu/event/edzes-485/
LOCATION:III. Kerület TVE Sporttelep\, Kalap utca 2.\, Budapest\, 1037
CATEGORIES:Edzések
ATTACH;FMTTYPE=image/jpeg:https://www.43szepitoksk.hu/wp-content/uploads/2020/05/IMG_1493.jpg
END:VEVENT
BEGIN:VEVENT
DTSTART;TZID=Europe/Budapest:20200710T191500
DTEND;TZID=Europe/Budapest:20200710T210000
DTSTAMP:20260425T202437
CREATED:20200604T081724Z
LAST-MODIFIED:20200626T070554Z
UID:18129-1594408500-1594414800@www.43szepitoksk.hu
SUMMARY:Edzőmérkőzés: Viadukt SE-Biatorbágy (Pm1)
DESCRIPTION:
URL:https://www.43szepitoksk.hu/event/edzomerkozes-viadukt-se-biatorbagy-pm1/
LOCATION:Iharos sporttelep\, Iharos út\, Biatorbágy\, 2051
CATEGORIES:Edzőmérkőzések
ATTACH;FMTTYPE=image/jpeg:https://www.43szepitoksk.hu/wp-content/uploads/2020/06/Edzőmérkőzés.vendégViadukt.jpg
END:VEVENT
BEGIN:VEVENT
DTSTART;TZID=Europe/Budapest:20200714T193000
DTEND;TZID=Europe/Budapest:20200714T210000
DTSTAMP:20260425T202437
CREATED:20200601T072431Z
LAST-MODIFIED:20200601T072431Z
UID:18101-1594755000-1594760400@www.43szepitoksk.hu
SUMMARY:Edzés
DESCRIPTION:
URL:https://www.43szepitoksk.hu/event/edzes-476/
LOCATION:III. Kerület TVE Sporttelep\, Kalap utca 2.\, Budapest\, 1037
CATEGORIES:Edzések
ATTACH;FMTTYPE=image/jpeg:https://www.43szepitoksk.hu/wp-content/uploads/2020/05/IMG_1493.jpg
END:VEVENT
BEGIN:VEVENT
DTSTART;TZID=Europe/Budapest:20200715T191500
DTEND;TZID=Europe/Budapest:20200715T210000
DTSTAMP:20260425T202437
CREATED:20200601T072532Z
LAST-MODIFIED:20200611T164952Z
UID:18103-1594840500-1594846800@www.43szepitoksk.hu
SUMMARY:Edzőmérkőzés: Dunaharaszti MTK (NB3)
DESCRIPTION:
URL:https://www.43szepitoksk.hu/event/edzes-477/
LOCATION:DMTK sportpálya\, Mindszenty József utca 16.\, Dunaharaszti\, 2330
CATEGORIES:Edzőmérkőzések
ATTACH;FMTTYPE=image/jpeg:https://www.43szepitoksk.hu/wp-content/uploads/2020/06/Edzőmérkőzés.vendégdunaharaszti.jpg
END:VEVENT
BEGIN:VEVENT
DTSTART;TZID=Europe/Budapest:20200716T193000
DTEND;TZID=Europe/Budapest:20200716T210000
DTSTAMP:20260425T202437
CREATED:20200601T072623Z
LAST-MODIFIED:20200601T072623Z
UID:18105-1594927800-1594933200@www.43szepitoksk.hu
SUMMARY:Edzés
DESCRIPTION:
URL:https://www.43szepitoksk.hu/event/edzes-478/
LOCATION:III. Kerület TVE Sporttelep\, Kalap utca 2.\, Budapest\, 1037
CATEGORIES:Edzések
ATTACH;FMTTYPE=image/jpeg:https://www.43szepitoksk.hu/wp-content/uploads/2020/05/IMG_1493.jpg
END:VEVENT
BEGIN:VEVENT
DTSTART;TZID=Europe/Budapest:20200717T191500
DTEND;TZID=Europe/Budapest:20200717T210000
DTSTAMP:20260425T202437
CREATED:20200612T150851Z
LAST-MODIFIED:20200612T151716Z
UID:18199-1595013300-1595019600@www.43szepitoksk.hu
SUMMARY:Edzőmérkőzés: RAFC (Blsz2)
DESCRIPTION:
URL:https://www.43szepitoksk.hu/event/edzomerkozes-rafc-blsz2/
LOCATION:III. Kerület TVE Sporttelep\, Kalap utca 2.\, Budapest\, 1037
CATEGORIES:Edzőmérkőzések
ATTACH;FMTTYPE=image/jpeg:https://www.43szepitoksk.hu/wp-content/uploads/2020/06/Edzőmérkőzés.hazaiRafc.jpg
END:VEVENT
BEGIN:VEVENT
DTSTART;TZID=Europe/Budapest:20200721T193000
DTEND;TZID=Europe/Budapest:20200721T210000
DTSTAMP:20260425T202437
CREATED:20200601T072744Z
LAST-MODIFIED:20200601T073652Z
UID:18107-1595359800-1595365200@www.43szepitoksk.hu
SUMMARY:Edzés
DESCRIPTION:
URL:https://www.43szepitoksk.hu/event/edzes-479/
LOCATION:III. Kerület TVE Sporttelep\, Kalap utca 2.\, Budapest\, 1037
CATEGORIES:Edzések
ATTACH;FMTTYPE=image/jpeg:https://www.43szepitoksk.hu/wp-content/uploads/2020/05/IMG_1493.jpg
END:VEVENT
BEGIN:VEVENT
DTSTART;TZID=Europe/Budapest:20200722T190000
DTEND;TZID=Europe/Budapest:20200722T204500
DTSTAMP:20260425T202437
CREATED:20200601T073829Z
LAST-MODIFIED:20200721T072107Z
UID:18109-1595444400-1595450700@www.43szepitoksk.hu
SUMMARY:Edzőmérkőzés: Unione FC (Blsz1)
DESCRIPTION:
URL:https://www.43szepitoksk.hu/event/edzes-480/
LOCATION:III. Kerület TVE Sporttelep\, Kalap utca 2.\, Budapest\, 1037
CATEGORIES:Edzőmérkőzések
ATTACH;FMTTYPE=image/jpeg:https://www.43szepitoksk.hu/wp-content/uploads/2020/06/Edzőmérkőzés.unione.jpg
END:VEVENT
BEGIN:VEVENT
DTSTART;TZID=Europe/Budapest:20200723T193000
DTEND;TZID=Europe/Budapest:20200723T210000
DTSTAMP:20260425T202437
CREATED:20200601T073959Z
LAST-MODIFIED:20200601T073959Z
UID:18111-1595532600-1595538000@www.43szepitoksk.hu
SUMMARY:Edzés
DESCRIPTION:
URL:https://www.43szepitoksk.hu/event/edzes-481/
LOCATION:III. Kerület TVE Sporttelep\, Kalap utca 2.\, Budapest\, 1037
CATEGORIES:Edzések
ATTACH;FMTTYPE=image/jpeg:https://www.43szepitoksk.hu/wp-content/uploads/2020/05/IMG_1493.jpg
END:VEVENT
BEGIN:VEVENT
DTSTART;TZID=Europe/Budapest:20200725T093000
DTEND;TZID=Europe/Budapest:20200725T111500
DTSTAMP:20260425T202437
CREATED:20200601T075019Z
LAST-MODIFIED:20200611T163455Z
UID:18120-1595669400-1595675700@www.43szepitoksk.hu
SUMMARY:Edzőmérkőzés: Vasas KA (U19)
DESCRIPTION:
URL:https://www.43szepitoksk.hu/event/edzomerkozes-tfse-blsz2/
LOCATION:Angyalföldi sportközpont\, Rozsnyai utca 4.\, Budapest\, 1139
CATEGORIES:Edzőmérkőzések
ATTACH;FMTTYPE=image/jpeg:https://www.43szepitoksk.hu/wp-content/uploads/2020/06/Edzőmérkőzés.vasasu19.jpg
END:VEVENT
BEGIN:VEVENT
DTSTART;TZID=Europe/Budapest:20200728T193000
DTEND;TZID=Europe/Budapest:20200728T210000
DTSTAMP:20260425T202437
CREATED:20200601T074133Z
LAST-MODIFIED:20200612T150755Z
UID:18113-1595964600-1595970000@www.43szepitoksk.hu
SUMMARY:Edzőmérkőzés: TFSE (Blsz2)
DESCRIPTION:
URL:https://www.43szepitoksk.hu/event/edzes-482/
LOCATION:III. Kerület TVE Sporttelep\, Kalap utca 2.\, Budapest\, 1037
CATEGORIES:Edzőmérkőzések
ATTACH;FMTTYPE=image/jpeg:https://www.43szepitoksk.hu/wp-content/uploads/2020/06/Edzőmérkőzés.vendégTF.jpg
END:VEVENT
BEGIN:VEVENT
DTSTART;TZID=Europe/Budapest:20200729T193000
DTEND;TZID=Europe/Budapest:20200729T210000
DTSTAMP:20260425T202437
CREATED:20200601T074216Z
LAST-MODIFIED:20200601T074216Z
UID:18115-1596051000-1596056400@www.43szepitoksk.hu
SUMMARY:Edzés
DESCRIPTION:
URL:https://www.43szepitoksk.hu/event/edzes-483/
LOCATION:III. Kerület TVE Sporttelep\, Kalap utca 2.\, Budapest\, 1037
CATEGORIES:Edzések
ATTACH;FMTTYPE=image/jpeg:https://www.43szepitoksk.hu/wp-content/uploads/2020/05/IMG_1493.jpg
END:VEVENT
BEGIN:VEVENT
DTSTART;TZID=Europe/Budapest:20200730T193000
DTEND;TZID=Europe/Budapest:20200730T210000
DTSTAMP:20260425T202437
CREATED:20200601T074304Z
LAST-MODIFIED:20200601T074304Z
UID:18117-1596137400-1596142800@www.43szepitoksk.hu
SUMMARY:Edzés
DESCRIPTION:
URL:https://www.43szepitoksk.hu/event/edzes-484/
LOCATION:III. Kerület TVE Sporttelep\, Kalap utca 2.\, Budapest\, 1037
CATEGORIES:Edzések
ATTACH;FMTTYPE=image/jpeg:https://www.43szepitoksk.hu/wp-content/uploads/2020/05/IMG_1493.jpg
END:VEVENT
BEGIN:VEVENT
DTSTART;TZID=Europe/Budapest:20200804T193000
DTEND;TZID=Europe/Budapest:20200804T210000
DTSTAMP:20260425T202437
CREATED:20200604T140200Z
LAST-MODIFIED:20200604T140200Z
UID:18140-1596569400-1596574800@www.43szepitoksk.hu
SUMMARY:Edzés
DESCRIPTION:
URL:https://www.43szepitoksk.hu/event/edzes-486/
LOCATION:III. Kerület TVE Sporttelep\, Kalap utca 2.\, Budapest\, 1037
CATEGORIES:Edzések
ATTACH;FMTTYPE=image/jpeg:https://www.43szepitoksk.hu/wp-content/uploads/2020/05/IMG_1493.jpg
END:VEVENT
BEGIN:VEVENT
DTSTART;TZID=Europe/Budapest:20200805T191500
DTEND;TZID=Europe/Budapest:20200805T210000
DTSTAMP:20260425T202437
CREATED:20200604T140329Z
LAST-MODIFIED:20200730T061021Z
UID:18142-1596654900-1596661200@www.43szepitoksk.hu
SUMMARY:Edzőmérkőzés: Törökbálinti TC (Pm1)
DESCRIPTION:
URL:https://www.43szepitoksk.hu/event/edzomerkozes-torokbalinti-tc-pm1/
LOCATION:Törökbálinti sporttelep\, Alsóerdősor utca 15.\, Törökbálint\, 2045
CATEGORIES:Edzőmérkőzések
ATTACH;FMTTYPE=image/jpeg:https://www.43szepitoksk.hu/wp-content/uploads/2020/06/Edzőmérkőzés.vendégtörökbálint.jpg
END:VEVENT
BEGIN:VEVENT
DTSTART;TZID=Europe/Budapest:20200806T193000
DTEND;TZID=Europe/Budapest:20200806T210000
DTSTAMP:20260425T202437
CREATED:20200604T140412Z
LAST-MODIFIED:20200604T140412Z
UID:18145-1596742200-1596747600@www.43szepitoksk.hu
SUMMARY:Edzés
DESCRIPTION:
URL:https://www.43szepitoksk.hu/event/edzes-487/
LOCATION:III. Kerület TVE Sporttelep\, Kalap utca 2.\, Budapest\, 1037
CATEGORIES:Edzések
ATTACH;FMTTYPE=image/jpeg:https://www.43szepitoksk.hu/wp-content/uploads/2020/05/IMG_1493.jpg
END:VEVENT
BEGIN:VEVENT
DTSTART;TZID=Europe/Budapest:20200811T193000
DTEND;TZID=Europe/Budapest:20200811T210000
DTSTAMP:20260425T202437
CREATED:20200604T140710Z
LAST-MODIFIED:20200604T140822Z
UID:18150-1597174200-1597179600@www.43szepitoksk.hu
SUMMARY:Edzés
DESCRIPTION:
URL:https://www.43szepitoksk.hu/event/edzes-488/
LOCATION:III. Kerület TVE Sporttelep\, Kalap utca 2.\, Budapest\, 1037
CATEGORIES:Edzések
ATTACH;FMTTYPE=image/jpeg:https://www.43szepitoksk.hu/wp-content/uploads/2020/05/IMG_1493.jpg
END:VEVENT
BEGIN:VEVENT
DTSTART;TZID=Europe/Budapest:20200812T173000
DTEND;TZID=Europe/Budapest:20200812T191500
DTSTAMP:20260425T202437
CREATED:20200604T140503Z
LAST-MODIFIED:20200803T193718Z
UID:18147-1597253400-1597259700@www.43szepitoksk.hu
SUMMARY:MK selejtező 2. forduló: Ikarus FK
DESCRIPTION:
URL:https://www.43szepitoksk.hu/event/mk-selejtezo-2-fordulo/
LOCATION:Ikarus Sporttelep\, Bátony utca 1-33.\, Budapest\, 1165
CATEGORIES:Kupa mérkőzések
ATTACH;FMTTYPE=image/jpeg:https://www.43szepitoksk.hu/wp-content/uploads/2020/06/Ika43mk.jpg
END:VEVENT
BEGIN:VEVENT
DTSTART;TZID=Europe/Budapest:20200813T193000
DTEND;TZID=Europe/Budapest:20200813T210000
DTSTAMP:20260425T202437
CREATED:20200604T140950Z
LAST-MODIFIED:20200604T140950Z
UID:18154-1597347000-1597352400@www.43szepitoksk.hu
SUMMARY:Edzés
DESCRIPTION:
URL:https://www.43szepitoksk.hu/event/edzes-490/
LOCATION:III. Kerület TVE Sporttelep\, Kalap utca 2.\, Budapest\, 1037
CATEGORIES:Edzések
ATTACH;FMTTYPE=image/jpeg:https://www.43szepitoksk.hu/wp-content/uploads/2020/05/IMG_1493.jpg
END:VEVENT
BEGIN:VEVENT
DTSTART;TZID=Europe/Budapest:20200818T193000
DTEND;TZID=Europe/Budapest:20200818T210000
DTSTAMP:20260425T202437
CREATED:20200604T141204Z
LAST-MODIFIED:20200604T141204Z
UID:18158-1597779000-1597784400@www.43szepitoksk.hu
SUMMARY:Edzés
DESCRIPTION:
URL:https://www.43szepitoksk.hu/event/edzes-491/
LOCATION:III. Kerület TVE Sporttelep\, Kalap utca 2.\, Budapest\, 1037
CATEGORIES:Edzések
ATTACH;FMTTYPE=image/jpeg:https://www.43szepitoksk.hu/wp-content/uploads/2020/05/IMG_1493.jpg
END:VEVENT
BEGIN:VEVENT
DTSTART;TZID=Europe/Budapest:20200819T193000
DTEND;TZID=Europe/Budapest:20200819T211500
DTSTAMP:20260425T202437
CREATED:20200604T141059Z
LAST-MODIFIED:20200813T150135Z
UID:18156-1597865400-1597871700@www.43szepitoksk.hu
SUMMARY:MK selejtező 3. forduló: 1908 SZAC Budapest
DESCRIPTION:
URL:https://www.43szepitoksk.hu/event/mk-selejtezo-3-fordulo/
LOCATION:III. Kerület TVE Sporttelep\, Kalap utca 2.\, Budapest\, 1037
CATEGORIES:Kupa mérkőzések
ATTACH;FMTTYPE=image/jpeg:https://www.43szepitoksk.hu/wp-content/uploads/2020/06/BLSZhazaiszacMK.jpg
END:VEVENT
BEGIN:VEVENT
DTSTART;TZID=Europe/Budapest:20200823T170000
DTEND;TZID=Europe/Budapest:20200823T184500
DTSTAMP:20260425T202437
CREATED:20200604T141355Z
LAST-MODIFIED:20200804T203244Z
UID:18162-1598202000-1598208300@www.43szepitoksk.hu
SUMMARY:BLSZI. 1. forduló: ASR GÁZGYÁR
DESCRIPTION:
URL:https://www.43szepitoksk.hu/event/bajnoki-rajt-blszi-1-fordulo/
LOCATION:Gázművek sporttelep\, Sujtás utca 2-4.\, Budapest\, 1031
CATEGORIES:Bajnoki mérkőzések
ATTACH;FMTTYPE=image/jpeg:https://www.43szepitoksk.hu/wp-content/uploads/2020/06/gazvendeg.jpg
END:VEVENT
BEGIN:VEVENT
DTSTART;TZID=Europe/Budapest:20200825T193000
DTEND;TZID=Europe/Budapest:20200825T210000
DTSTAMP:20260425T202437
CREATED:20200724T053328Z
LAST-MODIFIED:20200724T053328Z
UID:18397-1598383800-1598389200@www.43szepitoksk.hu
SUMMARY:Edzés
DESCRIPTION:
URL:https://www.43szepitoksk.hu/event/edzes-496/
LOCATION:III. Kerület TVE Sporttelep\, Kalap utca 2.\, Budapest\, 1037
CATEGORIES:Edzések
ATTACH;FMTTYPE=image/jpeg:https://www.43szepitoksk.hu/wp-content/uploads/2020/05/IMG_1493.jpg
END:VEVENT
BEGIN:VEVENT
DTSTART;TZID=Europe/Budapest:20200826T170000
DTEND;TZID=Europe/Budapest:20200826T184500
DTSTAMP:20260425T202437
CREATED:20200724T061833Z
LAST-MODIFIED:20200822T085323Z
UID:18399-1598461200-1598467500@www.43szepitoksk.hu
SUMMARY:MK selejtező 4. forduló: FŐV. VÍZMŰVEK SK
DESCRIPTION:
URL:https://www.43szepitoksk.hu/event/edzes-497/
LOCATION:Fővárosi Vízművek Sporttelep\, Váci út 102.\, Budapest\, 1044
CATEGORIES:Kupa mérkőzések
ATTACH;FMTTYPE=image/jpeg:https://www.43szepitoksk.hu/wp-content/uploads/2020/07/BLSZvendegVízMK.jpg
END:VEVENT
BEGIN:VEVENT
DTSTART;TZID=Europe/Budapest:20200827T193000
DTEND;TZID=Europe/Budapest:20200827T210000
DTSTAMP:20260425T202437
CREATED:20200819T074637Z
LAST-MODIFIED:20200822T085432Z
UID:18599-1598556600-1598562000@www.43szepitoksk.hu
SUMMARY:Edzés
DESCRIPTION:
URL:https://www.43szepitoksk.hu/event/edzes-501/
LOCATION:III. Kerület TVE Sporttelep\, Kalap utca 2.\, Budapest\, 1037
CATEGORIES:Edzések
ATTACH;FMTTYPE=image/jpeg:https://www.43szepitoksk.hu/wp-content/uploads/2020/05/IMG_1493.jpg
END:VEVENT
BEGIN:VEVENT
DTSTART;TZID=Europe/Budapest:20200830T170000
DTEND;TZID=Europe/Budapest:20200830T170000
DTSTAMP:20260425T202437
CREATED:20200803T173944Z
LAST-MODIFIED:20200804T203343Z
UID:18464-1598806800-1598806800@www.43szepitoksk.hu
SUMMARY:BLSZI. 2. forduló: KÖZTERÜLET SK
DESCRIPTION:
URL:https://www.43szepitoksk.hu/event/blszi-2-fordulo-kozterulet-sk/
LOCATION:III. Kerület TVE Sporttelep\, Kalap utca 2.\, Budapest\, 1037
CATEGORIES:Bajnoki mérkőzések
ATTACH;FMTTYPE=image/jpeg:https://www.43szepitoksk.hu/wp-content/uploads/2020/08/BLSZhazaiközterület.jpg
END:VEVENT
BEGIN:VEVENT
DTSTART;TZID=Europe/Budapest:20200901T193000
DTEND;TZID=Europe/Budapest:20200901T210000
DTSTAMP:20260425T202437
CREATED:20200806T063009Z
LAST-MODIFIED:20200806T063009Z
UID:18493-1598988600-1598994000@www.43szepitoksk.hu
SUMMARY:Edzés
DESCRIPTION:
URL:https://www.43szepitoksk.hu/event/edzes-498/
LOCATION:III. Kerület TVE Sporttelep\, Kalap utca 2.\, Budapest\, 1037
CATEGORIES:Edzések
ATTACH;FMTTYPE=image/jpeg:https://www.43szepitoksk.hu/wp-content/uploads/2020/05/IMG_1493.jpg
END:VEVENT
BEGIN:VEVENT
DTSTART;TZID=Europe/Budapest:20200902T193000
DTEND;TZID=Europe/Budapest:20200902T210000
DTSTAMP:20260425T202437
CREATED:20200806T063054Z
LAST-MODIFIED:20200806T063054Z
UID:18495-1599075000-1599080400@www.43szepitoksk.hu
SUMMARY:Edzés
DESCRIPTION:
URL:https://www.43szepitoksk.hu/event/edzes-499/
LOCATION:III. Kerület TVE Sporttelep\, Kalap utca 2.\, Budapest\, 1037
CATEGORIES:Edzések
ATTACH;FMTTYPE=image/jpeg:https://www.43szepitoksk.hu/wp-content/uploads/2020/05/IMG_1493.jpg
END:VEVENT
END:VCALENDAR