BEGIN:VCALENDAR
VERSION:2.0
PRODID:-//43. sz. Építők SK - ECPv6.14.0//NONSGML v1.0//EN
CALSCALE:GREGORIAN
METHOD:PUBLISH
X-WR-CALNAME:43. sz. Építők SK
X-ORIGINAL-URL:https://www.43szepitoksk.hu
X-WR-CALDESC:Események 43. sz. Építők SK
REFRESH-INTERVAL;VALUE=DURATION:PT1H
X-Robots-Tag:noindex
X-PUBLISHED-TTL:PT1H
BEGIN:VTIMEZONE
TZID:Europe/Budapest
BEGIN:DAYLIGHT
TZOFFSETFROM:+0100
TZOFFSETTO:+0200
TZNAME:CEST
DTSTART:20200329T010000
END:DAYLIGHT
BEGIN:STANDARD
TZOFFSETFROM:+0200
TZOFFSETTO:+0100
TZNAME:CET
DTSTART:20201025T010000
END:STANDARD
END:VTIMEZONE
BEGIN:VEVENT
DTSTART;TZID=Europe/Budapest:20200910T193000
DTEND;TZID=Europe/Budapest:20200910T210000
DTSTAMP:20260425T185123
CREATED:20200908T035847Z
LAST-MODIFIED:20200908T040155Z
UID:18842-1599766200-1599771600@www.43szepitoksk.hu
SUMMARY:Edzés
DESCRIPTION:
URL:https://www.43szepitoksk.hu/event/edzes-504/
LOCATION:III. Kerület TVE Sporttelep\, Kalap utca 2.\, Budapest\, 1037
CATEGORIES:Edzések
ATTACH;FMTTYPE=image/jpeg:https://www.43szepitoksk.hu/wp-content/uploads/2020/09/IMG_1489.jpg
END:VEVENT
BEGIN:VEVENT
DTSTART;TZID=Europe/Budapest:20200912T170000
DTEND;TZID=Europe/Budapest:20200912T184500
DTSTAMP:20260425T185123
CREATED:20200908T040033Z
LAST-MODIFIED:20200908T040033Z
UID:18844-1599930000-1599936300@www.43szepitoksk.hu
SUMMARY:BLSZI.\, 4. forduló: BUDAFOKI MTE II
DESCRIPTION:
URL:https://www.43szepitoksk.hu/event/blszi-4-fordulo-budafoki-mte-ii/
LOCATION:III. Kerület TVE Sporttelep\, Kalap utca 2.\, Budapest\, 1037
CATEGORIES:Bajnoki mérkőzések
ATTACH;FMTTYPE=image/jpeg:https://www.43szepitoksk.hu/wp-content/uploads/2020/09/BLSZhazaiBMTE.jpg
END:VEVENT
BEGIN:VEVENT
DTSTART;TZID=Europe/Budapest:20200915T190000
DTEND;TZID=Europe/Budapest:20200915T210000
DTSTAMP:20260425T185123
CREATED:20200908T040122Z
LAST-MODIFIED:20200908T040122Z
UID:18847-1600196400-1600203600@www.43szepitoksk.hu
SUMMARY:Edzés
DESCRIPTION:
URL:https://www.43szepitoksk.hu/event/edzes-505/
LOCATION:III. Kerület TVE Sporttelep\, Kalap utca 2.\, Budapest\, 1037
CATEGORIES:Edzések
ATTACH;FMTTYPE=image/jpeg:https://www.43szepitoksk.hu/wp-content/uploads/2020/09/IMG_1489.jpg
END:VEVENT
BEGIN:VEVENT
DTSTART;TZID=Europe/Budapest:20200916T193000
DTEND;TZID=Europe/Budapest:20200916T210000
DTSTAMP:20260425T185123
CREATED:20200908T040453Z
LAST-MODIFIED:20200908T040453Z
UID:18849-1600284600-1600290000@www.43szepitoksk.hu
SUMMARY:Edzés
DESCRIPTION:
URL:https://www.43szepitoksk.hu/event/edzes-506/
LOCATION:III. Kerület TVE Sporttelep\, Kalap utca 2.\, Budapest\, 1037
CATEGORIES:Edzések
ATTACH;FMTTYPE=image/jpeg:https://www.43szepitoksk.hu/wp-content/uploads/2020/09/IMG_1489.jpg
END:VEVENT
BEGIN:VEVENT
DTSTART;TZID=Europe/Budapest:20200917T193000
DTEND;TZID=Europe/Budapest:20200917T210000
DTSTAMP:20260425T185123
CREATED:20200908T040548Z
LAST-MODIFIED:20200908T040548Z
UID:18851-1600371000-1600376400@www.43szepitoksk.hu
SUMMARY:Edzés
DESCRIPTION:
URL:https://www.43szepitoksk.hu/event/edzes-507/
LOCATION:III. Kerület TVE Sporttelep\, Kalap utca 2.\, Budapest\, 1037
CATEGORIES:Edzések
ATTACH;FMTTYPE=image/jpeg:https://www.43szepitoksk.hu/wp-content/uploads/2020/09/IMG_1489.jpg
END:VEVENT
BEGIN:VEVENT
DTSTART;TZID=Europe/Budapest:20200919T150000
DTEND;TZID=Europe/Budapest:20200919T164500
DTSTAMP:20260425T185123
CREATED:20200908T041450Z
LAST-MODIFIED:20200911T101540Z
UID:18853-1600527600-1600533900@www.43szepitoksk.hu
SUMMARY:Magyar Kupa 6. forduló: MTK BUDAPEST FC
DESCRIPTION:
URL:https://www.43szepitoksk.hu/event/magyar-kupa-fotabla/
LOCATION:III. Kerület TVE Sporttelep\, Kalap utca 2.\, Budapest\, 1037
CATEGORIES:Kupa mérkőzések
ATTACH;FMTTYPE=image/jpeg:https://www.43szepitoksk.hu/wp-content/uploads/2020/09/MK43MTK2-e1600013280614.jpg
END:VEVENT
BEGIN:VEVENT
DTSTART;TZID=Europe/Budapest:20200922T193000
DTEND;TZID=Europe/Budapest:20200922T210000
DTSTAMP:20260425T185123
CREATED:20200908T043244Z
LAST-MODIFIED:20200908T043304Z
UID:18860-1600803000-1600808400@www.43szepitoksk.hu
SUMMARY:Edzés
DESCRIPTION:
URL:https://www.43szepitoksk.hu/event/edzes-508/
LOCATION:III. Kerület TVE Sporttelep\, Kalap utca 2.\, Budapest\, 1037
CATEGORIES:Edzések
ATTACH;FMTTYPE=image/jpeg:https://www.43szepitoksk.hu/wp-content/uploads/2020/09/IMG_1489.jpg
END:VEVENT
BEGIN:VEVENT
DTSTART;TZID=Europe/Budapest:20200923T193000
DTEND;TZID=Europe/Budapest:20200923T210000
DTSTAMP:20260425T185123
CREATED:20200908T043339Z
LAST-MODIFIED:20200908T043339Z
UID:18862-1600889400-1600894800@www.43szepitoksk.hu
SUMMARY:Edzés
DESCRIPTION:
URL:https://www.43szepitoksk.hu/event/edzes-509/
LOCATION:III. Kerület TVE Sporttelep\, Kalap utca 2.\, Budapest\, 1037
CATEGORIES:Edzések
ATTACH;FMTTYPE=image/jpeg:https://www.43szepitoksk.hu/wp-content/uploads/2020/09/IMG_1489.jpg
END:VEVENT
BEGIN:VEVENT
DTSTART;TZID=Europe/Budapest:20200924T200000
DTEND;TZID=Europe/Budapest:20200924T214500
DTSTAMP:20260425T185123
CREATED:20200908T043428Z
LAST-MODIFIED:20200923T205553Z
UID:18864-1600977600-1600983900@www.43szepitoksk.hu
SUMMARY:BLSZI.\, 6. forduló: SVÁBHEGY FC
DESCRIPTION:
URL:https://www.43szepitoksk.hu/event/edzes-510/
LOCATION:LV Sport Pénzügyőr\, Kőér utca 1/A.\, Budapest\, 1103
CATEGORIES:Bajnoki mérkőzések
ATTACH;FMTTYPE=image/jpeg:https://www.43szepitoksk.hu/wp-content/uploads/2020/09/BLSZvendegSvábhegy.jpg
END:VEVENT
BEGIN:VEVENT
DTSTART;TZID=Europe/Budapest:20200929T193000
DTEND;TZID=Europe/Budapest:20200929T210000
DTSTAMP:20260425T185123
CREATED:20200923T044523Z
LAST-MODIFIED:20200923T044523Z
UID:18995-1601407800-1601413200@www.43szepitoksk.hu
SUMMARY:Edzés
DESCRIPTION:
URL:https://www.43szepitoksk.hu/event/edzes-511/
LOCATION:III. Kerület TVE Sporttelep\, Kalap utca 2.\, Budapest\, 1037
CATEGORIES:Edzések
ATTACH;FMTTYPE=image/jpeg:https://www.43szepitoksk.hu/wp-content/uploads/2020/05/IMG_1493.jpg
END:VEVENT
BEGIN:VEVENT
DTSTART;TZID=Europe/Budapest:20200930T190000
DTEND;TZID=Europe/Budapest:20200930T204500
DTSTAMP:20260425T185123
CREATED:20200923T044614Z
LAST-MODIFIED:20200928T065211Z
UID:18997-1601492400-1601498700@www.43szepitoksk.hu
SUMMARY:Budapest Kupa 2. forduló: CSEPEL UP SE
DESCRIPTION:
URL:https://www.43szepitoksk.hu/event/edzes-512/
LOCATION:III. Kerület TVE Sporttelep\, Kalap utca 2.\, Budapest\, 1037
CATEGORIES:Kupa mérkőzések
ATTACH;FMTTYPE=image/jpeg:https://www.43szepitoksk.hu/wp-content/uploads/2020/09/BLSZvendegCsepelUP.jpg
END:VEVENT
BEGIN:VEVENT
DTSTART;TZID=Europe/Budapest:20201001T193000
DTEND;TZID=Europe/Budapest:20201001T210000
DTSTAMP:20260425T185123
CREATED:20200923T044744Z
LAST-MODIFIED:20200923T044744Z
UID:18999-1601580600-1601586000@www.43szepitoksk.hu
SUMMARY:Edzés
DESCRIPTION:
URL:https://www.43szepitoksk.hu/event/edzes-513/
LOCATION:III. Kerület TVE Sporttelep\, Kalap utca 2.\, Budapest\, 1037
CATEGORIES:Edzések
ATTACH;FMTTYPE=image/jpeg:https://www.43szepitoksk.hu/wp-content/uploads/2020/05/IMG_1493.jpg
END:VEVENT
BEGIN:VEVENT
DTSTART;TZID=Europe/Budapest:20201004T150000
DTEND;TZID=Europe/Budapest:20201004T164500
DTSTAMP:20260425T185123
CREATED:20200923T045212Z
LAST-MODIFIED:20200923T045212Z
UID:19001-1601823600-1601829900@www.43szepitoksk.hu
SUMMARY:BLSZI. 7. forduló: IKARUS FK
DESCRIPTION:
URL:https://www.43szepitoksk.hu/event/blszi-7-fordulo-ikarus-fk/
LOCATION:Ikarus Sporttelep\, Bátony utca 1-33.\, Budapest\, 1165
CATEGORIES:Bajnoki mérkőzések
ATTACH;FMTTYPE=image/jpeg:https://www.43szepitoksk.hu/wp-content/uploads/2020/09/Ika43.jpg
END:VEVENT
BEGIN:VEVENT
DTSTART;TZID=Europe/Budapest:20201006T193000
DTEND;TZID=Europe/Budapest:20201006T210000
DTSTAMP:20260425T185123
CREATED:20200923T045527Z
LAST-MODIFIED:20200923T045527Z
UID:19004-1602012600-1602018000@www.43szepitoksk.hu
SUMMARY:Edzés
DESCRIPTION:
URL:https://www.43szepitoksk.hu/event/edzes-514/
LOCATION:III. Kerület TVE Sporttelep\, Kalap utca 2.\, Budapest\, 1037
CATEGORIES:Edzések
ATTACH;FMTTYPE=image/jpeg:https://www.43szepitoksk.hu/wp-content/uploads/2020/06/IMG_1484.jpg
END:VEVENT
BEGIN:VEVENT
DTSTART;TZID=Europe/Budapest:20201007T193000
DTEND;TZID=Europe/Budapest:20201007T193000
DTSTAMP:20260425T185123
CREATED:20200923T045647Z
LAST-MODIFIED:20200923T045647Z
UID:19006-1602099000-1602099000@www.43szepitoksk.hu
SUMMARY:Edzés
DESCRIPTION:
URL:https://www.43szepitoksk.hu/event/edzes-515/
LOCATION:III. Kerület TVE Sporttelep\, Kalap utca 2.\, Budapest\, 1037
CATEGORIES:Edzések
ATTACH;FMTTYPE=image/jpeg:https://www.43szepitoksk.hu/wp-content/uploads/2020/06/IMG_1484.jpg
END:VEVENT
BEGIN:VEVENT
DTSTART;TZID=Europe/Budapest:20201008T193000
DTEND;TZID=Europe/Budapest:20201008T210000
DTSTAMP:20260425T185123
CREATED:20200923T045742Z
LAST-MODIFIED:20200923T045742Z
UID:19008-1602185400-1602190800@www.43szepitoksk.hu
SUMMARY:Edzés
DESCRIPTION:
URL:https://www.43szepitoksk.hu/event/edzes-516/
LOCATION:III. Kerület TVE Sporttelep\, Kalap utca 2.\, Budapest\, 1037
CATEGORIES:Edzések
ATTACH;FMTTYPE=image/jpeg:https://www.43szepitoksk.hu/wp-content/uploads/2020/06/IMG_1484.jpg
END:VEVENT
BEGIN:VEVENT
DTSTART;TZID=Europe/Budapest:20201010T150000
DTEND;TZID=Europe/Budapest:20201010T164500
DTSTAMP:20260425T185123
CREATED:20200923T050041Z
LAST-MODIFIED:20201010T084113Z
UID:19010-1602342000-1602348300@www.43szepitoksk.hu
SUMMARY:BLSZI. 8. forduló: FŐV. VÍZMŰVEK SK HALASZTVA!!!
DESCRIPTION:
URL:https://www.43szepitoksk.hu/event/blszi-8-fordulo-fov-vizmuvek-sk/
LOCATION:III. Kerület TVE Sporttelep\, Kalap utca 2.\, Budapest\, 1037
CATEGORIES:Bajnoki mérkőzések
ATTACH;FMTTYPE=image/jpeg:https://www.43szepitoksk.hu/wp-content/uploads/2020/09/BLSZvendegVíz.jpg
END:VEVENT
BEGIN:VEVENT
DTSTART;TZID=Europe/Budapest:20201013T193000
DTEND;TZID=Europe/Budapest:20201013T210000
DTSTAMP:20260425T185123
CREATED:20201012T035351Z
LAST-MODIFIED:20201012T035429Z
UID:19099-1602617400-1602622800@www.43szepitoksk.hu
SUMMARY:Edzés
DESCRIPTION:
URL:https://www.43szepitoksk.hu/event/edzes-517/
LOCATION:III. Kerület TVE Sporttelep\, Kalap utca 2.\, Budapest\, 1037
CATEGORIES:Edzések
ATTACH;FMTTYPE=image/jpeg:https://www.43szepitoksk.hu/wp-content/uploads/2020/08/117861843_808314843268958_1785172633421677442_n.jpg
END:VEVENT
BEGIN:VEVENT
DTSTART;TZID=Europe/Budapest:20201014T193000
DTEND;TZID=Europe/Budapest:20201014T210000
DTSTAMP:20260425T185123
CREATED:20201012T035547Z
LAST-MODIFIED:20201012T035547Z
UID:19101-1602703800-1602709200@www.43szepitoksk.hu
SUMMARY:Edzés
DESCRIPTION:
URL:https://www.43szepitoksk.hu/event/edzes-518/
LOCATION:III. Kerület TVE Sporttelep\, Kalap utca 2.\, Budapest\, 1037
CATEGORIES:Edzések
ATTACH;FMTTYPE=image/jpeg:https://www.43szepitoksk.hu/wp-content/uploads/2020/08/117861843_808314843268958_1785172633421677442_n.jpg
END:VEVENT
BEGIN:VEVENT
DTSTART;TZID=Europe/Budapest:20201015T193000
DTEND;TZID=Europe/Budapest:20201015T210000
DTSTAMP:20260425T185123
CREATED:20201012T040329Z
LAST-MODIFIED:20201012T040329Z
UID:19103-1602790200-1602795600@www.43szepitoksk.hu
SUMMARY:Edzés
DESCRIPTION:
URL:https://www.43szepitoksk.hu/event/edzes-519/
LOCATION:III. Kerület TVE Sporttelep\, Kalap utca 2.\, Budapest\, 1037
CATEGORIES:Edzések
ATTACH;FMTTYPE=image/jpeg:https://www.43szepitoksk.hu/wp-content/uploads/2020/08/117861843_808314843268958_1785172633421677442_n.jpg
END:VEVENT
BEGIN:VEVENT
DTSTART;TZID=Europe/Budapest:20201020T203000
DTEND;TZID=Europe/Budapest:20201020T213000
DTSTAMP:20260425T185123
CREATED:20201012T040441Z
LAST-MODIFIED:20201012T040441Z
UID:19105-1603225800-1603229400@www.43szepitoksk.hu
SUMMARY:Edzés
DESCRIPTION:
URL:https://www.43szepitoksk.hu/event/edzes-520/
LOCATION:III. Kerület TVE Sporttelep\, Kalap utca 2.\, Budapest\, 1037
CATEGORIES:Edzések
ATTACH;FMTTYPE=image/jpeg:https://www.43szepitoksk.hu/wp-content/uploads/2020/08/117861843_808314843268958_1785172633421677442_n.jpg
END:VEVENT
BEGIN:VEVENT
DTSTART;TZID=Europe/Budapest:20201021T203000
DTEND;TZID=Europe/Budapest:20201021T210000
DTSTAMP:20260425T185123
CREATED:20201012T040547Z
LAST-MODIFIED:20201012T040547Z
UID:19107-1603312200-1603314000@www.43szepitoksk.hu
SUMMARY:Edzés
DESCRIPTION:
URL:https://www.43szepitoksk.hu/event/edzes-521/
LOCATION:III. Kerület TVE Sporttelep\, Kalap utca 2.\, Budapest\, 1037
CATEGORIES:Edzések
ATTACH;FMTTYPE=image/jpeg:https://www.43szepitoksk.hu/wp-content/uploads/2020/08/117861843_808314843268958_1785172633421677442_n.jpg
END:VEVENT
BEGIN:VEVENT
DTSTART;TZID=Europe/Budapest:20201022T203000
DTEND;TZID=Europe/Budapest:20201022T210000
DTSTAMP:20260425T185123
CREATED:20201012T040639Z
LAST-MODIFIED:20201012T040639Z
UID:19109-1603398600-1603400400@www.43szepitoksk.hu
SUMMARY:Edzés
DESCRIPTION:
URL:https://www.43szepitoksk.hu/event/edzes-522/
LOCATION:III. Kerület TVE Sporttelep\, Kalap utca 2.\, Budapest\, 1037
CATEGORIES:Edzések
ATTACH;FMTTYPE=image/jpeg:https://www.43szepitoksk.hu/wp-content/uploads/2020/08/117861843_808314843268958_1785172633421677442_n.jpg
END:VEVENT
BEGIN:VEVENT
DTSTART;TZID=Europe/Budapest:20201024T170000
DTEND;TZID=Europe/Budapest:20201024T184500
DTSTAMP:20260425T185123
CREATED:20201017T084354Z
LAST-MODIFIED:20201017T084354Z
UID:19111-1603558800-1603565100@www.43szepitoksk.hu
SUMMARY:BLSZI. 10. forduló: REAC
DESCRIPTION:
URL:https://www.43szepitoksk.hu/event/blszi-10-fordulo-reac/
LOCATION:Budai II László stadion\, Széchenyi tér 8-10.\, Budapest\, 1151
CATEGORIES:Bajnoki mérkőzések
ATTACH;FMTTYPE=image/jpeg:https://www.43szepitoksk.hu/wp-content/uploads/2020/10/BLSZvendegREAC.jpg
END:VEVENT
BEGIN:VEVENT
DTSTART;TZID=Europe/Budapest:20201027T193000
DTEND;TZID=Europe/Budapest:20201027T210000
DTSTAMP:20260425T185123
CREATED:20201017T084755Z
LAST-MODIFIED:20201017T084755Z
UID:19114-1603827000-1603832400@www.43szepitoksk.hu
SUMMARY:Edzés
DESCRIPTION:
URL:https://www.43szepitoksk.hu/event/edzes-523/
LOCATION:III. Kerület TVE Sporttelep\, Kalap utca 2.\, Budapest\, 1037
CATEGORIES:Edzések
ATTACH;FMTTYPE=image/jpeg:https://www.43szepitoksk.hu/wp-content/uploads/2020/08/117861843_808314843268958_1785172633421677442_n.jpg
END:VEVENT
BEGIN:VEVENT
DTSTART;TZID=Europe/Budapest:20201028T193000
DTEND;TZID=Europe/Budapest:20201028T210000
DTSTAMP:20260425T185123
CREATED:20201017T084837Z
LAST-MODIFIED:20201017T084949Z
UID:19116-1603913400-1603918800@www.43szepitoksk.hu
SUMMARY:Edzés
DESCRIPTION:
URL:https://www.43szepitoksk.hu/event/edzes-524/
LOCATION:III. Kerület TVE Sporttelep\, Kalap utca 2.\, Budapest\, 1037
CATEGORIES:Edzések
ATTACH;FMTTYPE=image/jpeg:https://www.43szepitoksk.hu/wp-content/uploads/2020/08/117861843_808314843268958_1785172633421677442_n.jpg
END:VEVENT
BEGIN:VEVENT
DTSTART;TZID=Europe/Budapest:20201029T193000
DTEND;TZID=Europe/Budapest:20201029T210000
DTSTAMP:20260425T185123
CREATED:20201017T084922Z
LAST-MODIFIED:20201017T084922Z
UID:19118-1603999800-1604005200@www.43szepitoksk.hu
SUMMARY:Edzés
DESCRIPTION:
URL:https://www.43szepitoksk.hu/event/edzes-525/
LOCATION:III. Kerület TVE Sporttelep\, Kalap utca 2.\, Budapest\, 1037
CATEGORIES:Edzések
ATTACH;FMTTYPE=image/jpeg:https://www.43szepitoksk.hu/wp-content/uploads/2020/08/117861843_808314843268958_1785172633421677442_n.jpg
END:VEVENT
BEGIN:VEVENT
DTSTART;TZID=Europe/Budapest:20201031T183000
DTEND;TZID=Europe/Budapest:20201031T201500
DTSTAMP:20260425T185123
CREATED:20201017T085111Z
LAST-MODIFIED:20201025T102953Z
UID:19120-1604169000-1604175300@www.43szepitoksk.hu
SUMMARY:BLSZI. 11. forduló: KELEN SC
DESCRIPTION:
URL:https://www.43szepitoksk.hu/event/blszi-11-fordulo-rafc/
LOCATION:III. Kerület TVE Sporttelep\, Kalap utca 2.\, Budapest\, 1037
CATEGORIES:Bajnoki mérkőzések
ATTACH;FMTTYPE=image/jpeg:https://www.43szepitoksk.hu/wp-content/uploads/2020/10/BLSZhazaiKelen.jpg
END:VEVENT
BEGIN:VEVENT
DTSTART;TZID=Europe/Budapest:20201103T193000
DTEND;TZID=Europe/Budapest:20201103T210000
DTSTAMP:20260425T185123
CREATED:20201028T060944Z
LAST-MODIFIED:20201028T060944Z
UID:19160-1604431800-1604437200@www.43szepitoksk.hu
SUMMARY:Edzés
DESCRIPTION:
URL:https://www.43szepitoksk.hu/event/edzes-526/
LOCATION:III. Kerület TVE Sporttelep\, Kalap utca 2.\, Budapest\, 1037
CATEGORIES:Edzések
ATTACH;FMTTYPE=image/jpeg:https://www.43szepitoksk.hu/wp-content/uploads/2020/10/122589426_439001277063858_5336035820748392912_n.jpg
END:VEVENT
BEGIN:VEVENT
DTSTART;TZID=Europe/Budapest:20201104T193000
DTEND;TZID=Europe/Budapest:20201104T210000
DTSTAMP:20260425T185123
CREATED:20201028T061026Z
LAST-MODIFIED:20201028T061026Z
UID:19163-1604518200-1604523600@www.43szepitoksk.hu
SUMMARY:Edzés
DESCRIPTION:
URL:https://www.43szepitoksk.hu/event/edzes-527/
LOCATION:III. Kerület TVE Sporttelep\, Kalap utca 2.\, Budapest\, 1037
CATEGORIES:Edzések
ATTACH;FMTTYPE=image/jpeg:https://www.43szepitoksk.hu/wp-content/uploads/2020/10/122589426_439001277063858_5336035820748392912_n.jpg
END:VEVENT
END:VCALENDAR