BEGIN:VCALENDAR
VERSION:2.0
PRODID:-//43. sz. Építők SK - ECPv6.14.0//NONSGML v1.0//EN
CALSCALE:GREGORIAN
METHOD:PUBLISH
X-WR-CALNAME:43. sz. Építők SK
X-ORIGINAL-URL:https://www.43szepitoksk.hu
X-WR-CALDESC:Események 43. sz. Építők SK
REFRESH-INTERVAL;VALUE=DURATION:PT1H
X-Robots-Tag:noindex
X-PUBLISHED-TTL:PT1H
BEGIN:VTIMEZONE
TZID:Europe/Budapest
BEGIN:DAYLIGHT
TZOFFSETFROM:+0100
TZOFFSETTO:+0200
TZNAME:CEST
DTSTART:20200329T010000
END:DAYLIGHT
BEGIN:STANDARD
TZOFFSETFROM:+0200
TZOFFSETTO:+0100
TZNAME:CET
DTSTART:20201025T010000
END:STANDARD
BEGIN:DAYLIGHT
TZOFFSETFROM:+0100
TZOFFSETTO:+0200
TZNAME:CEST
DTSTART:20210328T010000
END:DAYLIGHT
BEGIN:STANDARD
TZOFFSETFROM:+0200
TZOFFSETTO:+0100
TZNAME:CET
DTSTART:20211031T010000
END:STANDARD
END:VTIMEZONE
BEGIN:VEVENT
DTSTART;TZID=Europe/Budapest:20201028T193000
DTEND;TZID=Europe/Budapest:20201028T210000
DTSTAMP:20260425T153444
CREATED:20201017T084837Z
LAST-MODIFIED:20201017T084949Z
UID:19116-1603913400-1603918800@www.43szepitoksk.hu
SUMMARY:Edzés
DESCRIPTION:
URL:https://www.43szepitoksk.hu/event/edzes-524/
LOCATION:III. Kerület TVE Sporttelep\, Kalap utca 2.\, Budapest\, 1037
CATEGORIES:Edzések
ATTACH;FMTTYPE=image/jpeg:https://www.43szepitoksk.hu/wp-content/uploads/2020/08/117861843_808314843268958_1785172633421677442_n.jpg
END:VEVENT
BEGIN:VEVENT
DTSTART;TZID=Europe/Budapest:20201029T193000
DTEND;TZID=Europe/Budapest:20201029T210000
DTSTAMP:20260425T153444
CREATED:20201017T084922Z
LAST-MODIFIED:20201017T084922Z
UID:19118-1603999800-1604005200@www.43szepitoksk.hu
SUMMARY:Edzés
DESCRIPTION:
URL:https://www.43szepitoksk.hu/event/edzes-525/
LOCATION:III. Kerület TVE Sporttelep\, Kalap utca 2.\, Budapest\, 1037
CATEGORIES:Edzések
ATTACH;FMTTYPE=image/jpeg:https://www.43szepitoksk.hu/wp-content/uploads/2020/08/117861843_808314843268958_1785172633421677442_n.jpg
END:VEVENT
BEGIN:VEVENT
DTSTART;TZID=Europe/Budapest:20201031T183000
DTEND;TZID=Europe/Budapest:20201031T201500
DTSTAMP:20260425T153444
CREATED:20201017T085111Z
LAST-MODIFIED:20201025T102953Z
UID:19120-1604169000-1604175300@www.43szepitoksk.hu
SUMMARY:BLSZI. 11. forduló: KELEN SC
DESCRIPTION:
URL:https://www.43szepitoksk.hu/event/blszi-11-fordulo-rafc/
LOCATION:III. Kerület TVE Sporttelep\, Kalap utca 2.\, Budapest\, 1037
CATEGORIES:Bajnoki mérkőzések
ATTACH;FMTTYPE=image/jpeg:https://www.43szepitoksk.hu/wp-content/uploads/2020/10/BLSZhazaiKelen.jpg
END:VEVENT
BEGIN:VEVENT
DTSTART;TZID=Europe/Budapest:20201103T193000
DTEND;TZID=Europe/Budapest:20201103T210000
DTSTAMP:20260425T153444
CREATED:20201028T060944Z
LAST-MODIFIED:20201028T060944Z
UID:19160-1604431800-1604437200@www.43szepitoksk.hu
SUMMARY:Edzés
DESCRIPTION:
URL:https://www.43szepitoksk.hu/event/edzes-526/
LOCATION:III. Kerület TVE Sporttelep\, Kalap utca 2.\, Budapest\, 1037
CATEGORIES:Edzések
ATTACH;FMTTYPE=image/jpeg:https://www.43szepitoksk.hu/wp-content/uploads/2020/10/122589426_439001277063858_5336035820748392912_n.jpg
END:VEVENT
BEGIN:VEVENT
DTSTART;TZID=Europe/Budapest:20201104T193000
DTEND;TZID=Europe/Budapest:20201104T210000
DTSTAMP:20260425T153444
CREATED:20201028T061026Z
LAST-MODIFIED:20201028T061026Z
UID:19163-1604518200-1604523600@www.43szepitoksk.hu
SUMMARY:Edzés
DESCRIPTION:
URL:https://www.43szepitoksk.hu/event/edzes-527/
LOCATION:III. Kerület TVE Sporttelep\, Kalap utca 2.\, Budapest\, 1037
CATEGORIES:Edzések
ATTACH;FMTTYPE=image/jpeg:https://www.43szepitoksk.hu/wp-content/uploads/2020/10/122589426_439001277063858_5336035820748392912_n.jpg
END:VEVENT
BEGIN:VEVENT
DTSTART;TZID=Europe/Budapest:20201105T193000
DTEND;TZID=Europe/Budapest:20201105T210000
DTSTAMP:20260425T153444
CREATED:20201028T061427Z
LAST-MODIFIED:20201028T061713Z
UID:19165-1604604600-1604610000@www.43szepitoksk.hu
SUMMARY:Edzés
DESCRIPTION:
URL:https://www.43szepitoksk.hu/event/edzes-528/
LOCATION:III. Kerület TVE Sporttelep\, Kalap utca 2.\, Budapest\, 1037
CATEGORIES:Edzések
ATTACH;FMTTYPE=image/jpeg:https://www.43szepitoksk.hu/wp-content/uploads/2020/10/122589426_439001277063858_5336035820748392912_n.jpg
END:VEVENT
BEGIN:VEVENT
DTSTART;TZID=Europe/Budapest:20201107T130000
DTEND;TZID=Europe/Budapest:20201107T144500
DTSTAMP:20260425T153444
CREATED:20201028T061943Z
LAST-MODIFIED:20201106T094301Z
UID:19167-1604754000-1604760300@www.43szepitoksk.hu
SUMMARY:11. forduló: RAFC
DESCRIPTION:
URL:https://www.43szepitoksk.hu/event/11-fordulo-rafc/
LOCATION:Zavadszky Gábor UP központ (RTK pálya)\, Péceli út 144.\, Budapest\, 1171
CATEGORIES:Bajnoki mérkőzések
ATTACH;FMTTYPE=image/jpeg:https://www.43szepitoksk.hu/wp-content/uploads/2020/10/BLSZvendegRAFC.jpg
END:VEVENT
BEGIN:VEVENT
DTSTART;TZID=Europe/Budapest:20201110T193000
DTEND;TZID=Europe/Budapest:20201110T210000
DTSTAMP:20260425T153444
CREATED:20201028T062032Z
LAST-MODIFIED:20201028T062032Z
UID:19169-1605036600-1605042000@www.43szepitoksk.hu
SUMMARY:Edzés
DESCRIPTION:
URL:https://www.43szepitoksk.hu/event/edzes-529/
LOCATION:III. Kerület TVE Sporttelep\, Kalap utca 2.\, Budapest\, 1037
CATEGORIES:Edzések
ATTACH;FMTTYPE=image/jpeg:https://www.43szepitoksk.hu/wp-content/uploads/2020/10/122589426_439001277063858_5336035820748392912_n.jpg
END:VEVENT
BEGIN:VEVENT
DTSTART;TZID=Europe/Budapest:20201111T194500
DTEND;TZID=Europe/Budapest:20201111T223000
DTSTAMP:20260425T153444
CREATED:20201028T062201Z
LAST-MODIFIED:20201111T131006Z
UID:19171-1605123900-1605133800@www.43szepitoksk.hu
SUMMARY:5. forduló: CSEPEL SC ELMARADT!
DESCRIPTION:
URL:https://www.43szepitoksk.hu/event/5-fordulo-csepel-sc/
LOCATION:III. Kerület TVE Sporttelep\, Kalap utca 2.\, Budapest\, 1037
CATEGORIES:Bajnoki mérkőzések
ATTACH;FMTTYPE=image/jpeg:https://www.43szepitoksk.hu/wp-content/uploads/2020/10/BLSZhazaiCsepel.jpg
END:VEVENT
BEGIN:VEVENT
DTSTART;TZID=Europe/Budapest:20201112T193000
DTEND;TZID=Europe/Budapest:20201112T210000
DTSTAMP:20260425T153444
CREATED:20201028T062243Z
LAST-MODIFIED:20201028T062243Z
UID:19173-1605209400-1605214800@www.43szepitoksk.hu
SUMMARY:Edzés
DESCRIPTION:
URL:https://www.43szepitoksk.hu/event/edzes-530/
LOCATION:III. Kerület TVE Sporttelep\, Kalap utca 2.\, Budapest\, 1037
CATEGORIES:Edzések
ATTACH;FMTTYPE=image/jpeg:https://www.43szepitoksk.hu/wp-content/uploads/2020/10/122589426_439001277063858_5336035820748392912_n.jpg
END:VEVENT
BEGIN:VEVENT
DTSTART;TZID=Europe/Budapest:20201115T170000
DTEND;TZID=Europe/Budapest:20201115T184500
DTSTAMP:20260425T153444
CREATED:20201028T062402Z
LAST-MODIFIED:20201112T205928Z
UID:19175-1605459600-1605465900@www.43szepitoksk.hu
SUMMARY:12. forduló: TESTVÉRISÉG SE
DESCRIPTION:
URL:https://www.43szepitoksk.hu/event/12-fordulo-testveriseg-se/
LOCATION:III. Kerület TVE Sporttelep\, Kalap utca 2.\, Budapest\, 1037
CATEGORIES:Bajnoki mérkőzések
ATTACH;FMTTYPE=image/jpeg:https://www.43szepitoksk.hu/wp-content/uploads/2020/10/BLSZhazaiTesi.jpg
END:VEVENT
BEGIN:VEVENT
DTSTART;TZID=Europe/Budapest:20201117T193000
DTEND;TZID=Europe/Budapest:20201117T210000
DTSTAMP:20260425T153444
CREATED:20201112T065818Z
LAST-MODIFIED:20201112T065818Z
UID:19240-1605641400-1605646800@www.43szepitoksk.hu
SUMMARY:Edzés
DESCRIPTION:
URL:https://www.43szepitoksk.hu/event/edzes-531/
LOCATION:III. Kerület TVE Sporttelep\, Kalap utca 2.\, Budapest\, 1037
CATEGORIES:Edzések
ATTACH;FMTTYPE=image/jpeg:https://www.43szepitoksk.hu/wp-content/uploads/2020/09/IMG_1489.jpg
END:VEVENT
BEGIN:VEVENT
DTSTART;TZID=Europe/Budapest:20201118T193000
DTEND;TZID=Europe/Budapest:20201118T211500
DTSTAMP:20260425T153444
CREATED:20201112T070129Z
LAST-MODIFIED:20201112T070129Z
UID:19242-1605727800-1605734100@www.43szepitoksk.hu
SUMMARY:9. forduló: 1908 SZAC BUDAPEST
DESCRIPTION:
URL:https://www.43szepitoksk.hu/event/9-fordulo-1908-szac-budapest/
LOCATION:III. Kerület TVE Sporttelep\, Kalap utca 2.\, Budapest\, 1037
CATEGORIES:Bajnoki mérkőzések
ATTACH;FMTTYPE=image/jpeg:https://www.43szepitoksk.hu/wp-content/uploads/2020/11/BLSZhazaiszac.jpg
END:VEVENT
BEGIN:VEVENT
DTSTART;TZID=Europe/Budapest:20201119T193000
DTEND;TZID=Europe/Budapest:20201119T210000
DTSTAMP:20260425T153444
CREATED:20201112T070223Z
LAST-MODIFIED:20201112T070223Z
UID:19245-1605814200-1605819600@www.43szepitoksk.hu
SUMMARY:Edzés
DESCRIPTION:
URL:https://www.43szepitoksk.hu/event/edzes-532/
LOCATION:III. Kerület TVE Sporttelep\, Kalap utca 2.\, Budapest\, 1037
CATEGORIES:Edzések
ATTACH;FMTTYPE=image/jpeg:https://www.43szepitoksk.hu/wp-content/uploads/2020/09/IMG_1489.jpg
END:VEVENT
BEGIN:VEVENT
DTSTART;TZID=Europe/Budapest:20201121T170000
DTEND;TZID=Europe/Budapest:20201121T184500
DTSTAMP:20260425T153444
CREATED:20201112T070409Z
LAST-MODIFIED:20201112T071758Z
UID:19247-1605978000-1605984300@www.43szepitoksk.hu
SUMMARY:14. forduló: CSEP-GÓL FC
DESCRIPTION:
URL:https://www.43szepitoksk.hu/event/14-fordulo-csep-gol-fc-2/
LOCATION:III. Kerület TVE Sporttelep\, Kalap utca 2.\, Budapest\, 1037
CATEGORIES:Bajnoki mérkőzések
ATTACH;FMTTYPE=image/jpeg:https://www.43szepitoksk.hu/wp-content/uploads/2020/11/BLSZhazaiCsep-gól.jpg
END:VEVENT
BEGIN:VEVENT
DTSTART;TZID=Europe/Budapest:20201124T193000
DTEND;TZID=Europe/Budapest:20201124T210000
DTSTAMP:20260425T153444
CREATED:20201120T145907Z
LAST-MODIFIED:20201120T145907Z
UID:19337-1606246200-1606251600@www.43szepitoksk.hu
SUMMARY:Edzés
DESCRIPTION:
URL:https://www.43szepitoksk.hu/event/edzes-533/
LOCATION:III. Kerület TVE Sporttelep\, Kalap utca 2.\, Budapest\, 1037
CATEGORIES:Edzések
ATTACH;FMTTYPE=image/jpeg:https://www.43szepitoksk.hu/wp-content/uploads/2020/10/122589426_439001277063858_5336035820748392912_n.jpg
END:VEVENT
BEGIN:VEVENT
DTSTART;TZID=Europe/Budapest:20201125T193000
DTEND;TZID=Europe/Budapest:20201125T210000
DTSTAMP:20260425T153444
CREATED:20201120T145953Z
LAST-MODIFIED:20201120T145953Z
UID:19339-1606332600-1606338000@www.43szepitoksk.hu
SUMMARY:Edzés
DESCRIPTION:
URL:https://www.43szepitoksk.hu/event/edzes-534/
LOCATION:III. Kerület TVE Sporttelep\, Kalap utca 2.\, Budapest\, 1037
CATEGORIES:Edzések
ATTACH;FMTTYPE=image/jpeg:https://www.43szepitoksk.hu/wp-content/uploads/2020/10/122589426_439001277063858_5336035820748392912_n.jpg
END:VEVENT
BEGIN:VEVENT
DTSTART;TZID=Europe/Budapest:20201126T193000
DTEND;TZID=Europe/Budapest:20201126T210000
DTSTAMP:20260425T153444
CREATED:20201120T150037Z
LAST-MODIFIED:20201120T150037Z
UID:19341-1606419000-1606424400@www.43szepitoksk.hu
SUMMARY:Edzés
DESCRIPTION:
URL:https://www.43szepitoksk.hu/event/edzes-535/
LOCATION:III. Kerület TVE Sporttelep\, Kalap utca 2.\, Budapest\, 1037
CATEGORIES:Edzések
ATTACH;FMTTYPE=image/jpeg:https://www.43szepitoksk.hu/wp-content/uploads/2020/10/122589426_439001277063858_5336035820748392912_n.jpg
END:VEVENT
BEGIN:VEVENT
DTSTART;TZID=Europe/Budapest:20201128T170000
DTEND;TZID=Europe/Budapest:20201128T184500
DTSTAMP:20260425T153444
CREATED:20201120T150258Z
LAST-MODIFIED:20201120T151328Z
UID:19343-1606582800-1606589100@www.43szepitoksk.hu
SUMMARY:BLSZI.\, 15. forduló: PÉNZÜGYŐR SE
DESCRIPTION:
URL:https://www.43szepitoksk.hu/event/blszi-15-fordulo-penzugyor-se/
LOCATION:III. Kerület TVE Sporttelep\, Kalap utca 2.\, Budapest\, 1037
CATEGORIES:Bajnoki mérkőzések
ATTACH;FMTTYPE=image/jpeg:https://www.43szepitoksk.hu/wp-content/uploads/2020/11/BLSZhazai.pénzügyőr.jpg
END:VEVENT
BEGIN:VEVENT
DTSTART;TZID=Europe/Budapest:20210112T193000
DTEND;TZID=Europe/Budapest:20210112T210000
DTSTAMP:20260425T153444
CREATED:20201214T174703Z
LAST-MODIFIED:20201214T174703Z
UID:19454-1610479800-1610485200@www.43szepitoksk.hu
SUMMARY:Edzés
DESCRIPTION:
URL:https://www.43szepitoksk.hu/event/edzes-536/
LOCATION:III. Kerület TVE Sporttelep\, Kalap utca 2.\, Budapest\, 1037
CATEGORIES:Edzések
ATTACH;FMTTYPE=image/jpeg:https://www.43szepitoksk.hu/wp-content/uploads/2020/11/IMG_2813-e1605515713243.jpg
END:VEVENT
BEGIN:VEVENT
DTSTART;TZID=Europe/Budapest:20210113T193000
DTEND;TZID=Europe/Budapest:20210113T210000
DTSTAMP:20260425T153444
CREATED:20201214T174827Z
LAST-MODIFIED:20201214T174827Z
UID:19456-1610566200-1610571600@www.43szepitoksk.hu
SUMMARY:Edzés
DESCRIPTION:
URL:https://www.43szepitoksk.hu/event/edzes-537/
LOCATION:III. Kerület TVE Sporttelep\, Kalap utca 2.\, Budapest\, 1037
CATEGORIES:Edzések
ATTACH;FMTTYPE=image/jpeg:https://www.43szepitoksk.hu/wp-content/uploads/2020/11/IMG_2813-e1605515713243.jpg
END:VEVENT
BEGIN:VEVENT
DTSTART;TZID=Europe/Budapest:20210114T193000
DTEND;TZID=Europe/Budapest:20210114T210000
DTSTAMP:20260425T153444
CREATED:20201214T174914Z
LAST-MODIFIED:20201214T174914Z
UID:19458-1610652600-1610658000@www.43szepitoksk.hu
SUMMARY:Edzés
DESCRIPTION:
URL:https://www.43szepitoksk.hu/event/edzes-538/
LOCATION:III. Kerület TVE Sporttelep\, Kalap utca 2.\, Budapest\, 1037
CATEGORIES:Edzések
ATTACH;FMTTYPE=image/jpeg:https://www.43szepitoksk.hu/wp-content/uploads/2020/11/IMG_2813-e1605515713243.jpg
END:VEVENT
BEGIN:VEVENT
DTSTART;TZID=Europe/Budapest:20210116T123000
DTEND;TZID=Europe/Budapest:20210116T141500
DTSTAMP:20260425T153444
CREATED:20210101T103610Z
LAST-MODIFIED:20210108T055226Z
UID:19495-1610800200-1610806500@www.43szepitoksk.hu
SUMMARY:Edzőmérkőzés: BVSC-Zugló (NB3)
DESCRIPTION:
URL:https://www.43szepitoksk.hu/event/edzomerkozes-bvsc-zuglo-nb3/
LOCATION:BVSC edzőpálya\, Tatai út 79-85.\, Budapest\, 1143
CATEGORIES:Edzőmérkőzések
ATTACH;FMTTYPE=image/jpeg:https://www.43szepitoksk.hu/wp-content/uploads/2021/01/Edzőmérkőzés.vendégBVSC-1.jpg
END:VEVENT
BEGIN:VEVENT
DTSTART;TZID=Europe/Budapest:20210119T193000
DTEND;TZID=Europe/Budapest:20210119T210000
DTSTAMP:20260425T153444
CREATED:20210101T103148Z
LAST-MODIFIED:20210101T103148Z
UID:19497-1611084600-1611090000@www.43szepitoksk.hu
SUMMARY:Edzés
DESCRIPTION:
URL:https://www.43szepitoksk.hu/event/edzes-539/
LOCATION:III. Kerület TVE Sporttelep\, Kalap utca 2.\, Budapest\, 1037
CATEGORIES:Edzések
ATTACH;FMTTYPE=image/jpeg:https://www.43szepitoksk.hu/wp-content/uploads/2020/11/IMG_2813-e1605515713243.jpg
END:VEVENT
BEGIN:VEVENT
DTSTART;TZID=Europe/Budapest:20210120T193000
DTEND;TZID=Europe/Budapest:20210120T211500
DTSTAMP:20260425T153444
CREATED:20210101T103236Z
LAST-MODIFIED:20210107T053943Z
UID:19499-1611171000-1611177300@www.43szepitoksk.hu
SUMMARY:Edzőmérkőzés: TFSE (Blsz2)
DESCRIPTION:
URL:https://www.43szepitoksk.hu/event/edzes-540/
LOCATION:III. Kerület TVE Sporttelep\, Kalap utca 2.\, Budapest\, 1037
CATEGORIES:Edzőmérkőzések
ATTACH;FMTTYPE=image/jpeg:https://www.43szepitoksk.hu/wp-content/uploads/2021/01/Edzőmérkőzés.hazaiTF.jpg
END:VEVENT
BEGIN:VEVENT
DTSTART;TZID=Europe/Budapest:20210121T193000
DTEND;TZID=Europe/Budapest:20210121T210000
DTSTAMP:20260425T153444
CREATED:20210101T103330Z
LAST-MODIFIED:20210101T103330Z
UID:19501-1611257400-1611262800@www.43szepitoksk.hu
SUMMARY:Edzés
DESCRIPTION:
URL:https://www.43szepitoksk.hu/event/edzes-541/
LOCATION:III. Kerület TVE Sporttelep\, Kalap utca 2.\, Budapest\, 1037
CATEGORIES:Edzések
ATTACH;FMTTYPE=image/jpeg:https://www.43szepitoksk.hu/wp-content/uploads/2020/11/IMG_2813-e1605515713243.jpg
END:VEVENT
BEGIN:VEVENT
DTSTART;TZID=Europe/Budapest:20210121T193000
DTEND;TZID=Europe/Budapest:20210121T210000
DTSTAMP:20260425T153444
CREATED:20210121T123548Z
LAST-MODIFIED:20210121T123548Z
UID:19638-1611257400-1611262800@www.43szepitoksk.hu
SUMMARY:Edzés
DESCRIPTION:
URL:https://www.43szepitoksk.hu/event/edzes-550/
LOCATION:III. Kerület TVE Sporttelep\, Kalap utca 2.\, Budapest\, 1037
CATEGORIES:Edzések
ATTACH;FMTTYPE=image/jpeg:https://www.43szepitoksk.hu/wp-content/uploads/2021/01/EDZÉS.jpg
END:VEVENT
BEGIN:VEVENT
DTSTART;TZID=Europe/Budapest:20210121T193000
DTEND;TZID=Europe/Budapest:20210121T210000
DTSTAMP:20260425T153444
CREATED:20210121T123622Z
LAST-MODIFIED:20210121T123622Z
UID:19640-1611257400-1611262800@www.43szepitoksk.hu
SUMMARY:Edzés
DESCRIPTION:
URL:https://www.43szepitoksk.hu/event/edzes-551/
LOCATION:III. Kerület TVE Sporttelep\, Kalap utca 2.\, Budapest\, 1037
CATEGORIES:Edzések
ATTACH;FMTTYPE=image/jpeg:https://www.43szepitoksk.hu/wp-content/uploads/2021/01/EDZÉS.jpg
END:VEVENT
BEGIN:VEVENT
DTSTART;TZID=Europe/Budapest:20210123T180000
DTEND;TZID=Europe/Budapest:20210123T194500
DTSTAMP:20260425T153444
CREATED:20210101T103536Z
LAST-MODIFIED:20210117T095442Z
UID:19504-1611424800-1611431100@www.43szepitoksk.hu
SUMMARY:Edzőmérkőzés: II. Kerület UFC
DESCRIPTION:
URL:https://www.43szepitoksk.hu/event/edzomerkozes-17/
LOCATION:Panoráma Sportközpont\, Kolozsvári T. utca 11.\, Budapest\, 1023
CATEGORIES:Edzőmérkőzések
ATTACH;FMTTYPE=image/jpeg:https://www.43szepitoksk.hu/wp-content/uploads/2021/01/Edzőmérkőzés.vendégII.Kerület.jpg
END:VEVENT
BEGIN:VEVENT
DTSTART;TZID=Europe/Budapest:20210126T193000
DTEND;TZID=Europe/Budapest:20210126T210000
DTSTAMP:20260425T153444
CREATED:20210102T090344Z
LAST-MODIFIED:20210102T090344Z
UID:19509-1611689400-1611694800@www.43szepitoksk.hu
SUMMARY:Edzés
DESCRIPTION:
URL:https://www.43szepitoksk.hu/event/edzes-542/
LOCATION:III. Kerület TVE Sporttelep\, Kalap utca 2.\, Budapest\, 1037
ATTACH;FMTTYPE=image/jpeg:https://www.43szepitoksk.hu/wp-content/uploads/2020/11/IMG_2813-e1605515713243.jpg
END:VEVENT
END:VCALENDAR