BEGIN:VCALENDAR
VERSION:2.0
PRODID:-//43. sz. Építők SK - ECPv6.14.0//NONSGML v1.0//EN
CALSCALE:GREGORIAN
METHOD:PUBLISH
X-WR-CALNAME:43. sz. Építők SK
X-ORIGINAL-URL:https://www.43szepitoksk.hu
X-WR-CALDESC:Események 43. sz. Építők SK
REFRESH-INTERVAL;VALUE=DURATION:PT1H
X-Robots-Tag:noindex
X-PUBLISHED-TTL:PT1H
BEGIN:VTIMEZONE
TZID:Europe/Budapest
BEGIN:DAYLIGHT
TZOFFSETFROM:+0100
TZOFFSETTO:+0200
TZNAME:CEST
DTSTART:20220327T010000
END:DAYLIGHT
BEGIN:STANDARD
TZOFFSETFROM:+0200
TZOFFSETTO:+0100
TZNAME:CET
DTSTART:20221030T010000
END:STANDARD
END:VTIMEZONE
BEGIN:VEVENT
DTSTART;TZID=Europe/Budapest:20220111T193000
DTEND;TZID=Europe/Budapest:20220111T210000
DTSTAMP:20260424T185037
CREATED:20220104T061344Z
LAST-MODIFIED:20220104T061344Z
UID:23627-1641929400-1641934800@www.43szepitoksk.hu
SUMMARY:Edzés
DESCRIPTION:
URL:https://www.43szepitoksk.hu/event/edzes-659/
LOCATION:III. Kerület TVE Sporttelep\, Kalap utca 2.\, Budapest\, 1037
CATEGORIES:Edzések
ATTACH;FMTTYPE=image/jpeg:https://www.43szepitoksk.hu/wp-content/uploads/2021/10/IMG_5756-scaled.jpg
END:VEVENT
BEGIN:VEVENT
DTSTART;TZID=Europe/Budapest:20220112T193000
DTEND;TZID=Europe/Budapest:20220112T210000
DTSTAMP:20260424T185037
CREATED:20211130T060634Z
LAST-MODIFIED:20211130T060634Z
UID:23514-1642015800-1642021200@www.43szepitoksk.hu
SUMMARY:Edzés
DESCRIPTION:
URL:https://www.43szepitoksk.hu/event/edzes-657/
LOCATION:III. Kerület TVE Sporttelep\, Kalap utca 2.\, Budapest\, 1037
CATEGORIES:Edzések
ATTACH;FMTTYPE=image/jpeg:https://www.43szepitoksk.hu/wp-content/uploads/2021/10/IMG_5756-scaled.jpg
END:VEVENT
BEGIN:VEVENT
DTSTART;TZID=Europe/Budapest:20220113T193000
DTEND;TZID=Europe/Budapest:20220113T210000
DTSTAMP:20260424T185037
CREATED:20211130T060731Z
LAST-MODIFIED:20211130T060802Z
UID:23516-1642102200-1642107600@www.43szepitoksk.hu
SUMMARY:Edzés
DESCRIPTION:
URL:https://www.43szepitoksk.hu/event/edzes-658/
LOCATION:III. Kerület TVE Sporttelep\, Kalap utca 2.\, Budapest\, 1037
CATEGORIES:Edzések
ATTACH;FMTTYPE=image/jpeg:https://www.43szepitoksk.hu/wp-content/uploads/2021/10/IMG_5756-scaled.jpg
END:VEVENT
BEGIN:VEVENT
DTSTART;TZID=Europe/Budapest:20220115T130000
DTEND;TZID=Europe/Budapest:20220115T144500
DTSTAMP:20260424T185037
CREATED:20211209T070710Z
LAST-MODIFIED:20220110T132703Z
UID:23551-1642251600-1642257900@www.43szepitoksk.hu
SUMMARY:Edzőmérkőzés: CSO-KI Sport
DESCRIPTION:
URL:https://www.43szepitoksk.hu/event/edzomerkozes-cso-ki-sport/
LOCATION:III. Kerület TVE Sporttelep\, Kalap utca 2.\, Budapest\, 1037
CATEGORIES:Edzőmérkőzések
ATTACH;FMTTYPE=image/jpeg:https://www.43szepitoksk.hu/wp-content/uploads/2021/12/Edzomerkozes.hazaicso-ki.jpg
END:VEVENT
BEGIN:VEVENT
DTSTART;TZID=Europe/Budapest:20220118T193000
DTEND;TZID=Europe/Budapest:20220118T210000
DTSTAMP:20260424T185037
CREATED:20211128T163759Z
LAST-MODIFIED:20211128T163759Z
UID:23485-1642534200-1642539600@www.43szepitoksk.hu
SUMMARY:Edzés
DESCRIPTION:
URL:https://www.43szepitoksk.hu/event/edzes-653/
LOCATION:III. Kerület TVE Sporttelep\, Kalap utca 2.\, Budapest\, 1037
CATEGORIES:Edzések
ATTACH;FMTTYPE=image/jpeg:https://www.43szepitoksk.hu/wp-content/uploads/2021/10/IMG_5756-scaled.jpg
END:VEVENT
BEGIN:VEVENT
DTSTART;TZID=Europe/Budapest:20220119T200000
DTEND;TZID=Europe/Budapest:20220119T214500
DTSTAMP:20260424T185037
CREATED:20211128T163843Z
LAST-MODIFIED:20220117T160911Z
UID:23487-1642622400-1642628700@www.43szepitoksk.hu
SUMMARY:Edzőmérkőzés: UFC Gyömrő
DESCRIPTION:
URL:https://www.43szepitoksk.hu/event/edzes-654/
LOCATION:Gyömrői műfüves pálya\, Mendei út 1.\, Gyömrő\, 2230
CATEGORIES:Edzőmérkőzések
ATTACH;FMTTYPE=image/jpeg:https://www.43szepitoksk.hu/wp-content/uploads/2021/11/Edzomerkozes.hazaiGyomro.jpg
END:VEVENT
BEGIN:VEVENT
DTSTART;TZID=Europe/Budapest:20220120T193000
DTEND;TZID=Europe/Budapest:20220120T210000
DTSTAMP:20260424T185037
CREATED:20211128T163925Z
LAST-MODIFIED:20211128T163925Z
UID:23489-1642707000-1642712400@www.43szepitoksk.hu
SUMMARY:Edzés
DESCRIPTION:
URL:https://www.43szepitoksk.hu/event/edzes-655/
LOCATION:III. Kerület TVE Sporttelep\, Kalap utca 2.\, Budapest\, 1037
CATEGORIES:Edzések
ATTACH;FMTTYPE=image/jpeg:https://www.43szepitoksk.hu/wp-content/uploads/2021/10/IMG_5756-scaled.jpg
END:VEVENT
BEGIN:VEVENT
DTSTART;TZID=Europe/Budapest:20220122T110000
DTEND;TZID=Europe/Budapest:20220122T124500
DTSTAMP:20260424T185037
CREATED:20211209T070956Z
LAST-MODIFIED:20220119T114955Z
UID:23555-1642849200-1642855500@www.43szepitoksk.hu
SUMMARY:Edzőmérkőzés: Viadukt SE-Biatorbágy
DESCRIPTION:
URL:https://www.43szepitoksk.hu/event/edzomerkozes-kisujszallas-se/
LOCATION:Viadukt SE műfű\, Iharos dűlő 7.\, Biatorbágy\, 2051
CATEGORIES:Edzőmérkőzések
ATTACH;FMTTYPE=image/jpeg:https://www.43szepitoksk.hu/wp-content/uploads/2021/12/Edzomerkozes.vendegViadukt.jpg
END:VEVENT
BEGIN:VEVENT
DTSTART;TZID=Europe/Budapest:20220125T193000
DTEND;TZID=Europe/Budapest:20220125T210000
DTSTAMP:20260424T185037
CREATED:20211128T164024Z
LAST-MODIFIED:20211128T164024Z
UID:23491-1643139000-1643144400@www.43szepitoksk.hu
SUMMARY:Edzés
DESCRIPTION:
URL:https://www.43szepitoksk.hu/event/edzes-656/
LOCATION:III. Kerület TVE Sporttelep\, Kalap utca 2.\, Budapest\, 1037
CATEGORIES:Edzések
ATTACH;FMTTYPE=image/jpeg:https://www.43szepitoksk.hu/wp-content/uploads/2021/10/IMG_5756-scaled.jpg
END:VEVENT
BEGIN:VEVENT
DTSTART;TZID=Europe/Budapest:20220126T170000
DTEND;TZID=Europe/Budapest:20220126T170000
DTSTAMP:20260424T185037
CREATED:20211128T164207Z
LAST-MODIFIED:20211128T164207Z
UID:23493-1643216400-1643216400@www.43szepitoksk.hu
SUMMARY:Edzőtábor
DESCRIPTION:
URL:https://www.43szepitoksk.hu/event/edzotabor-6/
LOCATION:Mátraházi Edzőtábor\, Kékes-alja út 3.\, Mátraháza\, 3233
CATEGORIES:Edzőtábor
ATTACH;FMTTYPE=image/jpeg:https://www.43szepitoksk.hu/wp-content/uploads/2021/11/unnamed.jpg
END:VEVENT
BEGIN:VEVENT
DTSTART;VALUE=DATE:20220127
DTEND;VALUE=DATE:20220128
DTSTAMP:20260424T185037
CREATED:20211128T164256Z
LAST-MODIFIED:20211128T164256Z
UID:23496-1643241600-1643327999@www.43szepitoksk.hu
SUMMARY:Edzőtábor
DESCRIPTION:
URL:https://www.43szepitoksk.hu/event/edzotabor-7/
LOCATION:Mátraházi Edzőtábor\, Kékes-alja út 3.\, Mátraháza\, 3233
CATEGORIES:Edzőmérkőzések
ATTACH;FMTTYPE=image/jpeg:https://www.43szepitoksk.hu/wp-content/uploads/2021/11/unnamed.jpg
END:VEVENT
BEGIN:VEVENT
DTSTART;VALUE=DATE:20220128
DTEND;VALUE=DATE:20220129
DTSTAMP:20260424T185037
CREATED:20211128T164340Z
LAST-MODIFIED:20211209T081245Z
UID:23498-1643328000-1643414399@www.43szepitoksk.hu
SUMMARY:Edzőtábor\, edzőmérkőzés: Gyöngyösi AK
DESCRIPTION:
URL:https://www.43szepitoksk.hu/event/edzotabor-8/
LOCATION:Mátraházi Edzőtábor\, Kékes-alja út 3.\, Mátraháza\, 3233
CATEGORIES:Edzőtábor
ATTACH;FMTTYPE=image/jpeg:https://www.43szepitoksk.hu/wp-content/uploads/2021/11/unnamed.jpg
END:VEVENT
BEGIN:VEVENT
DTSTART;VALUE=DATE:20220129
DTEND;VALUE=DATE:20220130
DTSTAMP:20260424T185037
CREATED:20211128T164417Z
LAST-MODIFIED:20211128T164417Z
UID:23500-1643414400-1643500799@www.43szepitoksk.hu
SUMMARY:Edzőtábor
DESCRIPTION:
URL:https://www.43szepitoksk.hu/event/edzotabor-9/
LOCATION:Mátraházi Edzőtábor\, Kékes-alja út 3.\, Mátraháza\, 3233
CATEGORIES:Edzőtábor
ATTACH;FMTTYPE=image/jpeg:https://www.43szepitoksk.hu/wp-content/uploads/2021/11/unnamed.jpg
END:VEVENT
BEGIN:VEVENT
DTSTART;VALUE=DATE:20220130
DTEND;VALUE=DATE:20220131
DTSTAMP:20260424T185037
CREATED:20211128T164452Z
LAST-MODIFIED:20220128T055159Z
UID:23502-1643500800-1643587199@www.43szepitoksk.hu
SUMMARY:Edzőtábor
DESCRIPTION:
URL:https://www.43szepitoksk.hu/event/edzotabor-10/
LOCATION:Mátraházi Edzőtábor\, Kékes-alja út 3.\, Mátraháza\, 3233
CATEGORIES:Edzőtábor
ATTACH;FMTTYPE=image/jpeg:https://www.43szepitoksk.hu/wp-content/uploads/2021/11/unnamed.jpg
END:VEVENT
BEGIN:VEVENT
DTSTART;TZID=Europe/Budapest:20220201T193000
DTEND;TZID=Europe/Budapest:20220201T210000
DTSTAMP:20260424T185037
CREATED:20220117T190940Z
LAST-MODIFIED:20220117T190940Z
UID:23735-1643743800-1643749200@www.43szepitoksk.hu
SUMMARY:Edzés
DESCRIPTION:
URL:https://www.43szepitoksk.hu/event/edzes-660/
LOCATION:III. Kerület TVE Sporttelep\, Kalap utca 2.\, Budapest\, 1037
CATEGORIES:Edzések
ATTACH;FMTTYPE=image/jpeg:https://www.43szepitoksk.hu/wp-content/uploads/2021/10/IMG_5756-scaled.jpg
END:VEVENT
BEGIN:VEVENT
DTSTART;TZID=Europe/Budapest:20220202T193000
DTEND;TZID=Europe/Budapest:20220202T210000
DTSTAMP:20260424T185037
CREATED:20220117T191403Z
LAST-MODIFIED:20220131T131518Z
UID:23740-1643830200-1643835600@www.43szepitoksk.hu
SUMMARY:Edzés
DESCRIPTION:
URL:https://www.43szepitoksk.hu/event/edzes-661/
LOCATION:III. Kerület TVE Sporttelep\, Kalap utca 2.\, Budapest\, 1037
CATEGORIES:Edzések
ATTACH;FMTTYPE=image/jpeg:https://www.43szepitoksk.hu/wp-content/uploads/2021/10/IMG_5756-scaled.jpg
END:VEVENT
BEGIN:VEVENT
DTSTART;TZID=Europe/Budapest:20220203T193000
DTEND;TZID=Europe/Budapest:20220203T211500
DTSTAMP:20260424T185037
CREATED:20220131T131444Z
LAST-MODIFIED:20220131T131548Z
UID:23737-1643916600-1643922900@www.43szepitoksk.hu
SUMMARY:Edzőmérkőzés: Csömör KSK
DESCRIPTION:
URL:https://www.43szepitoksk.hu/event/edzomerkozes-csomor-ksk/
LOCATION:III. Kerület TVE\, Kalap utca 2.\, Budapest\, 1037
CATEGORIES:Edzőmérkőzések
ATTACH;FMTTYPE=image/jpeg:https://www.43szepitoksk.hu/wp-content/uploads/2022/01/Edzomerkozes.hazaikicsomor.jpg
END:VEVENT
BEGIN:VEVENT
DTSTART;TZID=Europe/Budapest:20220205T150000
DTEND;TZID=Europe/Budapest:20220205T164500
DTSTAMP:20260424T185037
CREATED:20220117T192205Z
LAST-MODIFIED:20220131T131401Z
UID:23742-1644073200-1644079500@www.43szepitoksk.hu
SUMMARY:Edzőmérkőzés: Budakalász MSE
DESCRIPTION:
URL:https://www.43szepitoksk.hu/event/edzomerkozes-budakalasz-mse/
LOCATION:III. Kerület TVE Sporttelep\, Kalap utca 2.\, Budapest\, 1037
CATEGORIES:Edzőmérkőzések
ATTACH;FMTTYPE=image/jpeg:https://www.43szepitoksk.hu/wp-content/uploads/2022/01/Edzomerkozes.hazaiBudakalasz.jpg
END:VEVENT
BEGIN:VEVENT
DTSTART;TZID=Europe/Budapest:20220208T193000
DTEND;TZID=Europe/Budapest:20220208T210000
DTSTAMP:20260424T185037
CREATED:20220120T071120Z
LAST-MODIFIED:20220128T055052Z
UID:23760-1644348600-1644354000@www.43szepitoksk.hu
SUMMARY:Edzés
DESCRIPTION:
URL:https://www.43szepitoksk.hu/event/edzes-662/
LOCATION:III. Kerület TVE Sporttelep\, Kalap utca 2.\, Budapest\, 1037
CATEGORIES:Edzések
ATTACH;FMTTYPE=image/jpeg:https://www.43szepitoksk.hu/wp-content/uploads/2021/10/IMG_5756-scaled.jpg
END:VEVENT
BEGIN:VEVENT
DTSTART;TZID=Europe/Budapest:20220209T190000
DTEND;TZID=Europe/Budapest:20220209T204500
DTSTAMP:20260424T185037
CREATED:20220120T071301Z
LAST-MODIFIED:20220128T055021Z
UID:23762-1644433200-1644439500@www.43szepitoksk.hu
SUMMARY:Edzőmérkőzés: Unione FC
DESCRIPTION:
URL:https://www.43szepitoksk.hu/event/edzomerkozes-unione-fc-3/
LOCATION:III. Kerület TVE Sporttelep\, Kalap utca 2.\, Budapest\, 1037
CATEGORIES:Edzőmérkőzések
ATTACH;FMTTYPE=image/jpeg:https://www.43szepitoksk.hu/wp-content/uploads/2022/01/Edzomerkozes.unione.jpg
END:VEVENT
BEGIN:VEVENT
DTSTART;TZID=Europe/Budapest:20220210T193000
DTEND;TZID=Europe/Budapest:20220210T210000
DTSTAMP:20260424T185037
CREATED:20220120T071356Z
LAST-MODIFIED:20220120T072228Z
UID:23765-1644521400-1644526800@www.43szepitoksk.hu
SUMMARY:Edzés
DESCRIPTION:
URL:https://www.43szepitoksk.hu/event/edzes-663/
LOCATION:III. Kerület TVE Sporttelep\, Kalap utca 2.\, Budapest\, 1037
CATEGORIES:Edzések
ATTACH;FMTTYPE=image/jpeg:https://www.43szepitoksk.hu/wp-content/uploads/2021/10/IMG_5756-scaled.jpg
END:VEVENT
BEGIN:VEVENT
DTSTART;TZID=Europe/Budapest:20220212T130000
DTEND;TZID=Europe/Budapest:20220212T144500
DTSTAMP:20260424T185037
CREATED:20220120T072546Z
LAST-MODIFIED:20220208T102605Z
UID:23767-1644670800-1644677100@www.43szepitoksk.hu
SUMMARY:Budapest Kupa\, 3. forduló: NAGYTÉTÉNYI KOHÁSZ
DESCRIPTION:
URL:https://www.43szepitoksk.hu/event/budapest-kupa-3-fordulo-nagytetenyi-kohasz/
LOCATION:Budafoki MTE Sporttelep (műfüves pálya)\, Promontor utca 89.\, Budapest\, 1222
CATEGORIES:Kupa mérkőzések
ATTACH;FMTTYPE=image/jpeg:https://www.43szepitoksk.hu/wp-content/uploads/2022/01/BLSZvendegNagyteteny.jpg
END:VEVENT
BEGIN:VEVENT
DTSTART;TZID=Europe/Budapest:20220215T193000
DTEND;TZID=Europe/Budapest:20220215T210000
DTSTAMP:20260424T185037
CREATED:20220120T072735Z
LAST-MODIFIED:20220120T072735Z
UID:23771-1644953400-1644958800@www.43szepitoksk.hu
SUMMARY:Edzés
DESCRIPTION:
URL:https://www.43szepitoksk.hu/event/edzes-664/
LOCATION:III. Kerület TVE Sporttelep\, Kalap utca 2.\, Budapest\, 1037
CATEGORIES:Edzések
ATTACH;FMTTYPE=image/jpeg:https://www.43szepitoksk.hu/wp-content/uploads/2021/10/IMG_5756-scaled.jpg
END:VEVENT
BEGIN:VEVENT
DTSTART;TZID=Europe/Budapest:20220216T193000
DTEND;TZID=Europe/Budapest:20220216T210000
DTSTAMP:20260424T185037
CREATED:20220120T072826Z
LAST-MODIFIED:20220128T055113Z
UID:23773-1645039800-1645045200@www.43szepitoksk.hu
SUMMARY:Edzés
DESCRIPTION:
URL:https://www.43szepitoksk.hu/event/edzes-665/
LOCATION:III. Kerület TVE Sporttelep\, Kalap utca 2.\, Budapest\, 1037
CATEGORIES:Edzések
ATTACH;FMTTYPE=image/jpeg:https://www.43szepitoksk.hu/wp-content/uploads/2021/10/IMG_5756-scaled.jpg
END:VEVENT
BEGIN:VEVENT
DTSTART;TZID=Europe/Budapest:20220217T193000
DTEND;TZID=Europe/Budapest:20220217T210000
DTSTAMP:20260424T185037
CREATED:20220120T072911Z
LAST-MODIFIED:20220120T072911Z
UID:23775-1645126200-1645131600@www.43szepitoksk.hu
SUMMARY:Edzés
DESCRIPTION:
URL:https://www.43szepitoksk.hu/event/edzes-666/
LOCATION:III. Kerület TVE Sporttelep\, Kalap utca 2.\, Budapest\, 1037
CATEGORIES:Edzések
ATTACH;FMTTYPE=image/jpeg:https://www.43szepitoksk.hu/wp-content/uploads/2021/10/IMG_5756-scaled.jpg
END:VEVENT
BEGIN:VEVENT
DTSTART;TZID=Europe/Budapest:20220219T170000
DTEND;TZID=Europe/Budapest:20220219T184500
DTSTAMP:20260424T185037
CREATED:20220120T073822Z
LAST-MODIFIED:20220120T073822Z
UID:23777-1645290000-1645296300@www.43szepitoksk.hu
SUMMARY:BLSZI\, 16. forduló: THSE-SZABADKIKÖTŐ
DESCRIPTION:
URL:https://www.43szepitoksk.hu/event/blszi-16-fordulo-thse-szabadkikoto/
LOCATION:III. Kerület TVE Sporttelep\, Kalap utca 2.\, Budapest\, 1037
CATEGORIES:Bajnoki mérkőzések
ATTACH;FMTTYPE=image/jpeg:https://www.43szepitoksk.hu/wp-content/uploads/2022/01/BLSZhazaiTHSE.jpg
END:VEVENT
BEGIN:VEVENT
DTSTART;TZID=Europe/Budapest:20220222T193000
DTEND;TZID=Europe/Budapest:20220222T210000
DTSTAMP:20260424T185037
CREATED:20220206T080603Z
LAST-MODIFIED:20220206T080603Z
UID:23938-1645558200-1645563600@www.43szepitoksk.hu
SUMMARY:Edzés
DESCRIPTION:
URL:https://www.43szepitoksk.hu/event/edzes-667/
LOCATION:III. Kerület TVE Sporttelep\, Kalap utca 2.\, Budapest\, 1037
CATEGORIES:Edzések
ATTACH;FMTTYPE=image/jpeg:https://www.43szepitoksk.hu/wp-content/uploads/2022/01/IMG_9027-scaled-e1643348566547.jpg
END:VEVENT
BEGIN:VEVENT
DTSTART;TZID=Europe/Budapest:20220223T193000
DTEND;TZID=Europe/Budapest:20220223T210000
DTSTAMP:20260424T185037
CREATED:20220206T080647Z
LAST-MODIFIED:20220206T080647Z
UID:23940-1645644600-1645650000@www.43szepitoksk.hu
SUMMARY:Edzés
DESCRIPTION:
URL:https://www.43szepitoksk.hu/event/edzes-668/
LOCATION:III. Kerület TVE Sporttelep\, Kalap utca 2.\, Budapest\, 1037
CATEGORIES:Edzések
ATTACH;FMTTYPE=image/jpeg:https://www.43szepitoksk.hu/wp-content/uploads/2022/01/IMG_9027-scaled-e1643348566547.jpg
END:VEVENT
BEGIN:VEVENT
DTSTART;TZID=Europe/Budapest:20220224T193000
DTEND;TZID=Europe/Budapest:20220224T210000
DTSTAMP:20260424T185037
CREATED:20220206T080728Z
LAST-MODIFIED:20220206T080728Z
UID:23942-1645731000-1645736400@www.43szepitoksk.hu
SUMMARY:Edzés
DESCRIPTION:
URL:https://www.43szepitoksk.hu/event/edzes-669/
LOCATION:III. Kerület TVE Sporttelep\, Kalap utca 2.\, Budapest\, 1037
CATEGORIES:Edzések
ATTACH;FMTTYPE=image/jpeg:https://www.43szepitoksk.hu/wp-content/uploads/2022/01/IMG_9027-scaled-e1643348566547.jpg
END:VEVENT
BEGIN:VEVENT
DTSTART;TZID=Europe/Budapest:20220226T140000
DTEND;TZID=Europe/Budapest:20220226T154500
DTSTAMP:20260424T185037
CREATED:20220206T081051Z
LAST-MODIFIED:20220206T082231Z
UID:23944-1645884000-1645890300@www.43szepitoksk.hu
SUMMARY:BLSZI. 17. forduló: PESTSZENTIMREI SK
DESCRIPTION:
URL:https://www.43szepitoksk.hu/event/blszi-16-fordulo-pestszentimrei-sk/
LOCATION:Pestszentimrei sporttelep\, Táncsics Mihály utca 53.\, Budapest\, 1188
CATEGORIES:Bajnoki mérkőzések
ATTACH;FMTTYPE=image/jpeg:https://www.43szepitoksk.hu/wp-content/uploads/2022/02/BLSZvendegPSK-e1645688987757.jpg
END:VEVENT
END:VCALENDAR