BEGIN:VCALENDAR
VERSION:2.0
PRODID:-//43. sz. Építők SK - ECPv6.14.0//NONSGML v1.0//EN
CALSCALE:GREGORIAN
METHOD:PUBLISH
X-WR-CALNAME:43. sz. Építők SK
X-ORIGINAL-URL:https://www.43szepitoksk.hu
X-WR-CALDESC:Események 43. sz. Építők SK
REFRESH-INTERVAL;VALUE=DURATION:PT1H
X-Robots-Tag:noindex
X-PUBLISHED-TTL:PT1H
BEGIN:VTIMEZONE
TZID:Europe/Budapest
BEGIN:DAYLIGHT
TZOFFSETFROM:+0100
TZOFFSETTO:+0200
TZNAME:CEST
DTSTART:20230326T010000
END:DAYLIGHT
BEGIN:STANDARD
TZOFFSETFROM:+0200
TZOFFSETTO:+0100
TZNAME:CET
DTSTART:20231029T010000
END:STANDARD
END:VTIMEZONE
BEGIN:VEVENT
DTSTART;TZID=Europe/Budapest:20230321T193000
DTEND;TZID=Europe/Budapest:20230321T210000
DTSTAMP:20260423T230010
CREATED:20230306T054017Z
LAST-MODIFIED:20230306T054017Z
UID:28370-1679427000-1679432400@www.43szepitoksk.hu
SUMMARY:Edzés
DESCRIPTION:
URL:https://www.43szepitoksk.hu/event/edzes-785/
LOCATION:III. Kerület TVE Sporttelep\, Kalap utca 2.\, Budapest\, 1037
CATEGORIES:Edzések
ATTACH;FMTTYPE=image/jpeg:https://www.43szepitoksk.hu/wp-content/uploads/2023/02/327768472_3404977529788249_6571685652058045968_n-e1676368083909.jpg
END:VEVENT
BEGIN:VEVENT
DTSTART;TZID=Europe/Budapest:20230322T193000
DTEND;TZID=Europe/Budapest:20230322T210000
DTSTAMP:20260423T230010
CREATED:20230306T054107Z
LAST-MODIFIED:20230306T054107Z
UID:28372-1679513400-1679518800@www.43szepitoksk.hu
SUMMARY:Edzés
DESCRIPTION:
URL:https://www.43szepitoksk.hu/event/edzes-786/
LOCATION:III. Kerület TVE Sporttelep\, Kalap utca 2.\, Budapest\, 1037
CATEGORIES:Edzések
ATTACH;FMTTYPE=image/jpeg:https://www.43szepitoksk.hu/wp-content/uploads/2023/02/327768472_3404977529788249_6571685652058045968_n-e1676368083909.jpg
END:VEVENT
BEGIN:VEVENT
DTSTART;TZID=Europe/Budapest:20230323T193000
DTEND;TZID=Europe/Budapest:20230323T210000
DTSTAMP:20260423T230010
CREATED:20230306T054206Z
LAST-MODIFIED:20230306T054206Z
UID:28374-1679599800-1679605200@www.43szepitoksk.hu
SUMMARY:Edzés
DESCRIPTION:
URL:https://www.43szepitoksk.hu/event/edzes-787/
LOCATION:III. Kerület TVE Sporttelep\, Kalap utca 2.\, Budapest\, 1037
CATEGORIES:Edzések
ATTACH;FMTTYPE=image/jpeg:https://www.43szepitoksk.hu/wp-content/uploads/2023/02/327768472_3404977529788249_6571685652058045968_n-e1676368083909.jpg
END:VEVENT
BEGIN:VEVENT
DTSTART;TZID=Europe/Budapest:20230325T110000
DTEND;TZID=Europe/Budapest:20230325T124500
DTSTAMP:20260423T230010
CREATED:20230306T054417Z
LAST-MODIFIED:20230306T054814Z
UID:28376-1679742000-1679748300@www.43szepitoksk.hu
SUMMARY:BLSZI. 21. forduló: UNIONE FC
DESCRIPTION:
URL:https://www.43szepitoksk.hu/event/blszi-21-fordulo-unione-fc/
LOCATION:III. Kerület TVE Sporttelep\, Kalap utca 2.\, Budapest\, 1037
CATEGORIES:Bajnoki mérkőzések
ATTACH;FMTTYPE=image/jpeg:https://www.43szepitoksk.hu/wp-content/uploads/2023/03/facebook-esemeny-epitok-unione.jpg
END:VEVENT
BEGIN:VEVENT
DTSTART;TZID=Europe/Budapest:20230328T193000
DTEND;TZID=Europe/Budapest:20230328T210000
DTSTAMP:20260423T230010
CREATED:20230306T062025Z
LAST-MODIFIED:20230306T062042Z
UID:28383-1680031800-1680037200@www.43szepitoksk.hu
SUMMARY:Edzés
DESCRIPTION:
URL:https://www.43szepitoksk.hu/event/edzes-788/
LOCATION:III. Kerület TVE Sporttelep\, Kalap utca 2.\, Budapest\, 1037
CATEGORIES:Edzések
ATTACH;FMTTYPE=image/jpeg:https://www.43szepitoksk.hu/wp-content/uploads/2023/02/327768472_3404977529788249_6571685652058045968_n-e1676368083909.jpg
END:VEVENT
BEGIN:VEVENT
DTSTART;TZID=Europe/Budapest:20230329T193000
DTEND;TZID=Europe/Budapest:20230329T210000
DTSTAMP:20260423T230010
CREATED:20230306T062116Z
LAST-MODIFIED:20230306T062116Z
UID:28385-1680118200-1680123600@www.43szepitoksk.hu
SUMMARY:Edzés
DESCRIPTION:
URL:https://www.43szepitoksk.hu/event/edzes-789/
LOCATION:III. Kerület TVE Sporttelep\, Kalap utca 2.\, Budapest\, 1037
CATEGORIES:Edzések
ATTACH;FMTTYPE=image/jpeg:https://www.43szepitoksk.hu/wp-content/uploads/2023/02/327768472_3404977529788249_6571685652058045968_n-e1676368083909.jpg
END:VEVENT
BEGIN:VEVENT
DTSTART;TZID=Europe/Budapest:20230330T193000
DTEND;TZID=Europe/Budapest:20230330T210000
DTSTAMP:20260423T230010
CREATED:20230306T064919Z
LAST-MODIFIED:20230306T064928Z
UID:28387-1680204600-1680210000@www.43szepitoksk.hu
SUMMARY:Edzés
DESCRIPTION:
URL:https://www.43szepitoksk.hu/event/edzes-790/
LOCATION:III. Kerület TVE Sporttelep\, Kalap utca 2.\, Budapest\, 1037
CATEGORIES:Edzések
ATTACH;FMTTYPE=image/jpeg:https://www.43szepitoksk.hu/wp-content/uploads/2023/02/327768472_3404977529788249_6571685652058045968_n-e1676368083909.jpg
END:VEVENT
BEGIN:VEVENT
DTSTART;TZID=Europe/Budapest:20230401T143000
DTEND;TZID=Europe/Budapest:20230401T161500
DTSTAMP:20260423T230010
CREATED:20230306T065427Z
LAST-MODIFIED:20230306T065542Z
UID:28389-1680359400-1680365700@www.43szepitoksk.hu
SUMMARY:BLSZI. 22. forduló: RÁKOSMENTE FC
DESCRIPTION:
URL:https://www.43szepitoksk.hu/event/blszi-22-fordulo-rakosmente-fc/
LOCATION:Újlak utcai sporttelep\, Újlak utca\, Budapest\, 1173
CATEGORIES:Bajnoki mérkőzések
ATTACH;FMTTYPE=image/jpeg:https://www.43szepitoksk.hu/wp-content/uploads/2023/03/facebook-esemeny-epitok-rksk-1.jpg
END:VEVENT
BEGIN:VEVENT
DTSTART;TZID=Europe/Budapest:20230404T193000
DTEND;TZID=Europe/Budapest:20230404T210000
DTSTAMP:20260423T230010
CREATED:20230312T060853Z
LAST-MODIFIED:20230312T060853Z
UID:28520-1680636600-1680642000@www.43szepitoksk.hu
SUMMARY:Edzés
DESCRIPTION:
URL:https://www.43szepitoksk.hu/event/edzes-791/
LOCATION:III. Kerület TVE Sporttelep\, Kalap utca 2.\, Budapest\, 1037
CATEGORIES:Edzések
ATTACH;FMTTYPE=image/jpeg:https://www.43szepitoksk.hu/wp-content/uploads/2023/02/IMG_2295-scaled-e1675435160197.jpg
END:VEVENT
BEGIN:VEVENT
DTSTART;TZID=Europe/Budapest:20230405T193000
DTEND;TZID=Europe/Budapest:20230405T210000
DTSTAMP:20260423T230010
CREATED:20230312T060944Z
LAST-MODIFIED:20230312T060944Z
UID:28522-1680723000-1680728400@www.43szepitoksk.hu
SUMMARY:Edzés
DESCRIPTION:
URL:https://www.43szepitoksk.hu/event/edzes-792/
LOCATION:III. Kerület TVE Sporttelep\, Kalap utca 2.\, Budapest\, 1037
CATEGORIES:Edzések
ATTACH;FMTTYPE=image/jpeg:https://www.43szepitoksk.hu/wp-content/uploads/2023/02/IMG_2295-scaled-e1675435160197.jpg
END:VEVENT
BEGIN:VEVENT
DTSTART;TZID=Europe/Budapest:20230406T193000
DTEND;TZID=Europe/Budapest:20230406T210000
DTSTAMP:20260423T230010
CREATED:20230320T075310Z
LAST-MODIFIED:20230320T075310Z
UID:28625-1680809400-1680814800@www.43szepitoksk.hu
SUMMARY:Edzés
DESCRIPTION:
URL:https://www.43szepitoksk.hu/event/edzes-796/
LOCATION:III. Kerület TVE Sporttelep\, Kalap utca 2.\, Budapest\, 1037
CATEGORIES:Edzések
ATTACH;FMTTYPE=image/jpeg:https://www.43szepitoksk.hu/wp-content/uploads/2023/03/IMG_3066-scaled-e1678035710624.jpg
END:VEVENT
BEGIN:VEVENT
DTSTART;TZID=Europe/Budapest:20230408T130000
DTEND;TZID=Europe/Budapest:20230408T144500
DTSTAMP:20260423T230010
CREATED:20230320T075434Z
LAST-MODIFIED:20230402T104852Z
UID:28627-1680958800-1680965100@www.43szepitoksk.hu
SUMMARY:BLSZI. 23. forduló: 1908 SZAC BUDAPEST FC
DESCRIPTION:
URL:https://www.43szepitoksk.hu/event/blszi-24-fordulo-1908-szac-budapest-fc/
LOCATION:III. Kerület TVE Sporttelep\, Kalap utca 2.\, Budapest\, 1037
CATEGORIES:Bajnoki mérkőzések
ATTACH;FMTTYPE=image/jpeg:https://www.43szepitoksk.hu/wp-content/uploads/2023/03/facebook-esemeny-epitok-szac-1.jpg
END:VEVENT
BEGIN:VEVENT
DTSTART;TZID=Europe/Budapest:20230411T193000
DTEND;TZID=Europe/Budapest:20230411T210000
DTSTAMP:20260423T230010
CREATED:20230320T075137Z
LAST-MODIFIED:20230323T052743Z
UID:28621-1681241400-1681246800@www.43szepitoksk.hu
SUMMARY:Edzés
DESCRIPTION:
URL:https://www.43szepitoksk.hu/event/edzes-794/
LOCATION:III. Kerület TVE Sporttelep\, Kalap utca 2.\, Budapest\, 1037
CATEGORIES:Edzések
ATTACH;FMTTYPE=image/jpeg:https://www.43szepitoksk.hu/wp-content/uploads/2023/03/IMG_3066-scaled-e1678035710624.jpg
END:VEVENT
BEGIN:VEVENT
DTSTART;TZID=Europe/Budapest:20230412T193000
DTEND;TZID=Europe/Budapest:20230412T210000
DTSTAMP:20260423T230010
CREATED:20230320T075222Z
LAST-MODIFIED:20230323T052817Z
UID:28623-1681327800-1681333200@www.43szepitoksk.hu
SUMMARY:Edzés
DESCRIPTION:
URL:https://www.43szepitoksk.hu/event/edzes-795/
LOCATION:III. Kerület TVE Sporttelep\, Kalap utca 2.\, Budapest\, 1037
CATEGORIES:Edzések
ATTACH;FMTTYPE=image/jpeg:https://www.43szepitoksk.hu/wp-content/uploads/2023/03/IMG_3066-scaled-e1678035710624.jpg
END:VEVENT
BEGIN:VEVENT
DTSTART;TZID=Europe/Budapest:20230413T193000
DTEND;TZID=Europe/Budapest:20230413T210000
DTSTAMP:20260423T230010
CREATED:20230312T061031Z
LAST-MODIFIED:20230323T052907Z
UID:28524-1681414200-1681419600@www.43szepitoksk.hu
SUMMARY:Edzés
DESCRIPTION:
URL:https://www.43szepitoksk.hu/event/edzes-793/
LOCATION:III. Kerület TVE Sporttelep\, Kalap utca 2.\, Budapest\, 1037
CATEGORIES:Edzések
ATTACH;FMTTYPE=image/jpeg:https://www.43szepitoksk.hu/wp-content/uploads/2023/02/IMG_2295-scaled-e1675435160197.jpg
END:VEVENT
BEGIN:VEVENT
DTSTART;TZID=Europe/Budapest:20230415T110000
DTEND;TZID=Europe/Budapest:20230415T124500
DTSTAMP:20260423T230010
CREATED:20230320T075034Z
LAST-MODIFIED:20230410T075658Z
UID:28618-1681556400-1681562700@www.43szepitoksk.hu
SUMMARY:BLSZI. 24. forduló: ASR GÁZGYÁR
DESCRIPTION:
URL:https://www.43szepitoksk.hu/event/blszi-23-fordulo-rakosmente-fc/
LOCATION:Gázművek sporttelep\, Sujtás utca 2-4.\, Budapest\, 1031
CATEGORIES:Bajnoki mérkőzések
ATTACH;FMTTYPE=image/jpeg:https://www.43szepitoksk.hu/wp-content/uploads/2023/03/facebook-esemeny-epitok-gazgyar.jpg
END:VEVENT
BEGIN:VEVENT
DTSTART;TZID=Europe/Budapest:20230418T193000
DTEND;TZID=Europe/Budapest:20230418T210000
DTSTAMP:20260423T230010
CREATED:20230405T092716Z
LAST-MODIFIED:20230405T092716Z
UID:28796-1681846200-1681851600@www.43szepitoksk.hu
SUMMARY:Edzés
DESCRIPTION:
URL:https://www.43szepitoksk.hu/event/edzes-797/
LOCATION:III. Kerület TVE Sporttelep\, Kalap utca 2.\, Budapest\, 1037
CATEGORIES:Edzések
ATTACH;FMTTYPE=image/jpeg:https://www.43szepitoksk.hu/wp-content/uploads/2023/04/IMG_2557-scaled.jpg
END:VEVENT
BEGIN:VEVENT
DTSTART;TZID=Europe/Budapest:20230419T193000
DTEND;TZID=Europe/Budapest:20230419T210000
DTSTAMP:20260423T230010
CREATED:20230405T092809Z
LAST-MODIFIED:20230405T092809Z
UID:28799-1681932600-1681938000@www.43szepitoksk.hu
SUMMARY:Edzés
DESCRIPTION:
URL:https://www.43szepitoksk.hu/event/edzes-798/
LOCATION:III. Kerület TVE Sporttelep\, Kalap utca 2.\, Budapest\, 1037
CATEGORIES:Edzések
ATTACH;FMTTYPE=image/jpeg:https://www.43szepitoksk.hu/wp-content/uploads/2023/04/IMG_2557-scaled.jpg
END:VEVENT
BEGIN:VEVENT
DTSTART;TZID=Europe/Budapest:20230421T193000
DTEND;TZID=Europe/Budapest:20230421T210000
DTSTAMP:20260423T230010
CREATED:20230405T092938Z
LAST-MODIFIED:20230421T055856Z
UID:28801-1682105400-1682110800@www.43szepitoksk.hu
SUMMARY:Edzés
DESCRIPTION:
URL:https://www.43szepitoksk.hu/event/edzes-799/
LOCATION:III. Kerület TVE Sporttelep\, Kalap utca 2.\, Budapest\, 1037
CATEGORIES:Edzések
ATTACH;FMTTYPE=image/jpeg:https://www.43szepitoksk.hu/wp-content/uploads/2023/04/IMG_2557-scaled.jpg
END:VEVENT
BEGIN:VEVENT
DTSTART;TZID=Europe/Budapest:20230422T170000
DTEND;TZID=Europe/Budapest:20230422T184500
DTSTAMP:20260423T230010
CREATED:20230407T073826Z
LAST-MODIFIED:20230407T074404Z
UID:28805-1682182800-1682189100@www.43szepitoksk.hu
SUMMARY:BLSZI. 25. forduló: SZABADKIKÖTŐ FC
DESCRIPTION:
URL:https://www.43szepitoksk.hu/event/blszi-25-fordulo-szabadkikoto-fc/
LOCATION:III. Kerület TVE Sporttelep\, Kalap utca 2.\, Budapest\, 1037
CATEGORIES:Bajnoki mérkőzések
ATTACH;FMTTYPE=image/jpeg:https://www.43szepitoksk.hu/wp-content/uploads/2023/04/facebook-esemeny-epitok-tintahalak.jpg
END:VEVENT
BEGIN:VEVENT
DTSTART;TZID=Europe/Budapest:20230425T193000
DTEND;TZID=Europe/Budapest:20230425T210000
DTSTAMP:20260423T230010
CREATED:20230410T075919Z
LAST-MODIFIED:20230410T075919Z
UID:28876-1682451000-1682456400@www.43szepitoksk.hu
SUMMARY:Edzés
DESCRIPTION:
URL:https://www.43szepitoksk.hu/event/edzes-800/
LOCATION:III. Kerület TVE Sporttelep\, Kalap utca 2.\, Budapest\, 1037
CATEGORIES:Edzések
ATTACH;FMTTYPE=image/jpeg:https://www.43szepitoksk.hu/wp-content/uploads/2023/04/IMG_4050-1-scaled.jpg
END:VEVENT
BEGIN:VEVENT
DTSTART;TZID=Europe/Budapest:20230426T193000
DTEND;TZID=Europe/Budapest:20230426T210000
DTSTAMP:20260423T230010
CREATED:20230410T075958Z
LAST-MODIFIED:20230410T075958Z
UID:28879-1682537400-1682542800@www.43szepitoksk.hu
SUMMARY:Edzés
DESCRIPTION:
URL:https://www.43szepitoksk.hu/event/edzes-801/
LOCATION:III. Kerület TVE Sporttelep\, Kalap utca 2.\, Budapest\, 1037
CATEGORIES:Edzések
ATTACH;FMTTYPE=image/jpeg:https://www.43szepitoksk.hu/wp-content/uploads/2023/04/IMG_4050-1-scaled.jpg
END:VEVENT
BEGIN:VEVENT
DTSTART;TZID=Europe/Budapest:20230428T193000
DTEND;TZID=Europe/Budapest:20230428T210000
DTSTAMP:20260423T230010
CREATED:20230410T080039Z
LAST-MODIFIED:20230424T061128Z
UID:28881-1682710200-1682715600@www.43szepitoksk.hu
SUMMARY:Edzés
DESCRIPTION:
URL:https://www.43szepitoksk.hu/event/edzes-802/
LOCATION:III. Kerület TVE Sporttelep\, Kalap utca 2.\, Budapest\, 1037
CATEGORIES:Edzések
ATTACH;FMTTYPE=image/jpeg:https://www.43szepitoksk.hu/wp-content/uploads/2023/04/IMG_4050-1-scaled.jpg
END:VEVENT
BEGIN:VEVENT
DTSTART;TZID=Europe/Budapest:20230429T110000
DTEND;TZID=Europe/Budapest:20230429T124500
DTSTAMP:20260423T230010
CREATED:20230421T060203Z
LAST-MODIFIED:20230424T061059Z
UID:28960-1682766000-1682772300@www.43szepitoksk.hu
SUMMARY:BLSZI 26. forduló: REAC
DESCRIPTION:
URL:https://www.43szepitoksk.hu/event/blszi-26-fordulo-reac/
LOCATION:Budai II László stadion\, Széchenyi tér 8-10.\, Budapest\, 1151
CATEGORIES:Bajnoki mérkőzések
ATTACH;FMTTYPE=image/jpeg:https://www.43szepitoksk.hu/wp-content/uploads/2023/04/facebook-esemeny-epitok-reac-1.jpg
END:VEVENT
BEGIN:VEVENT
DTSTART;TZID=Europe/Budapest:20230502T193000
DTEND;TZID=Europe/Budapest:20230502T210000
DTSTAMP:20260423T230010
CREATED:20230428T042758Z
LAST-MODIFIED:20230428T042758Z
UID:29037-1683055800-1683061200@www.43szepitoksk.hu
SUMMARY:Edzés
DESCRIPTION:
URL:https://www.43szepitoksk.hu/event/edzes-806/
LOCATION:III. Kerület TVE Sporttelep\, Kalap utca 2.\, Budapest\, 1037
CATEGORIES:Edzések
ATTACH;FMTTYPE=image/jpeg:https://www.43szepitoksk.hu/wp-content/uploads/2023/04/IMG_4050-1-scaled.jpg
END:VEVENT
BEGIN:VEVENT
DTSTART;TZID=Europe/Budapest:20230503T193000
DTEND;TZID=Europe/Budapest:20230503T210000
DTSTAMP:20260423T230010
CREATED:20230428T042853Z
LAST-MODIFIED:20230428T042853Z
UID:29039-1683142200-1683147600@www.43szepitoksk.hu
SUMMARY:Edzés
DESCRIPTION:
URL:https://www.43szepitoksk.hu/event/edzes-807/
LOCATION:III. Kerület TVE Sporttelep\, Kalap utca 2.\, Budapest\, 1037
CATEGORIES:Edzések
ATTACH;FMTTYPE=image/jpeg:https://www.43szepitoksk.hu/wp-content/uploads/2023/04/IMG_4050-1-scaled.jpg
END:VEVENT
BEGIN:VEVENT
DTSTART;TZID=Europe/Budapest:20230505T193000
DTEND;TZID=Europe/Budapest:20230505T210000
DTSTAMP:20260423T230010
CREATED:20230428T042940Z
LAST-MODIFIED:20230428T042940Z
UID:29041-1683315000-1683320400@www.43szepitoksk.hu
SUMMARY:Edzés
DESCRIPTION:
URL:https://www.43szepitoksk.hu/event/edzes-808/
LOCATION:III. Kerület TVE Sporttelep\, Kalap utca 2.\, Budapest\, 1037
CATEGORIES:Edzések
ATTACH;FMTTYPE=image/jpeg:https://www.43szepitoksk.hu/wp-content/uploads/2023/04/IMG_4050-1-scaled.jpg
END:VEVENT
BEGIN:VEVENT
DTSTART;TZID=Europe/Budapest:20230506T100000
DTEND;TZID=Europe/Budapest:20230506T114500
DTSTAMP:20260423T230010
CREATED:20230424T062101Z
LAST-MODIFIED:20230426T065124Z
UID:29026-1683367200-1683373500@www.43szepitoksk.hu
SUMMARY:BLSZI 27. forduló: TESTVÉRISÉG-ÚJPALOTA SE
DESCRIPTION:
URL:https://www.43szepitoksk.hu/event/blszi-27-fordulo-testveriseg-ujpalota-se/
LOCATION:Barátság sporttelep\, Bánkút utca 71.\, Budapest\, 1145
CATEGORIES:Bajnoki mérkőzések
ATTACH;FMTTYPE=image/jpeg:https://www.43szepitoksk.hu/wp-content/uploads/2023/04/facebook-esemeny-epitok-tesi-1.jpg
END:VEVENT
BEGIN:VEVENT
DTSTART;TZID=Europe/Budapest:20230509T193000
DTEND;TZID=Europe/Budapest:20230509T210000
DTSTAMP:20260423T230010
CREATED:20230424T061428Z
LAST-MODIFIED:20230428T043424Z
UID:29020-1683660600-1683666000@www.43szepitoksk.hu
SUMMARY:Edzés
DESCRIPTION:
URL:https://www.43szepitoksk.hu/event/edzes-803/
LOCATION:III. Kerület TVE Sporttelep\, Kalap utca 2.\, Budapest\, 1037
CATEGORIES:Edzések
ATTACH;FMTTYPE=image/jpeg:https://www.43szepitoksk.hu/wp-content/uploads/2023/04/IMG_4050-1-scaled.jpg
END:VEVENT
BEGIN:VEVENT
DTSTART;TZID=Europe/Budapest:20230510T193000
DTEND;TZID=Europe/Budapest:20230510T210000
DTSTAMP:20260423T230010
CREATED:20230424T061522Z
LAST-MODIFIED:20230428T043448Z
UID:29022-1683747000-1683752400@www.43szepitoksk.hu
SUMMARY:Edzés
DESCRIPTION:
URL:https://www.43szepitoksk.hu/event/edzes-804/
LOCATION:III. Kerület TVE Sporttelep\, Kalap utca 2.\, Budapest\, 1037
CATEGORIES:Edzések
ATTACH;FMTTYPE=image/jpeg:https://www.43szepitoksk.hu/wp-content/uploads/2023/04/IMG_4050-1-scaled.jpg
END:VEVENT
END:VCALENDAR