BEGIN:VCALENDAR
VERSION:2.0
PRODID:-//43. sz. Építők SK - ECPv6.14.0//NONSGML v1.0//EN
CALSCALE:GREGORIAN
METHOD:PUBLISH
X-WR-CALNAME:43. sz. Építők SK
X-ORIGINAL-URL:https://www.43szepitoksk.hu
X-WR-CALDESC:Események 43. sz. Építők SK
REFRESH-INTERVAL;VALUE=DURATION:PT1H
X-Robots-Tag:noindex
X-PUBLISHED-TTL:PT1H
BEGIN:VTIMEZONE
TZID:Europe/Budapest
BEGIN:DAYLIGHT
TZOFFSETFROM:+0100
TZOFFSETTO:+0200
TZNAME:CEST
DTSTART:20250330T010000
END:DAYLIGHT
BEGIN:STANDARD
TZOFFSETFROM:+0200
TZOFFSETTO:+0100
TZNAME:CET
DTSTART:20251026T010000
END:STANDARD
END:VTIMEZONE
BEGIN:VEVENT
DTSTART;TZID=Europe/Budapest:20250812T190000
DTEND;TZID=Europe/Budapest:20250812T203000
DTSTAMP:20260422T024536
CREATED:20250623T175253Z
LAST-MODIFIED:20250811T065258Z
UID:36736-1755025200-1755030600@www.43szepitoksk.hu
SUMMARY:Edzés
DESCRIPTION:
URL:https://www.43szepitoksk.hu/event/edzes-1068/
LOCATION:Gázművek sporttelep\, Sujtás utca 2-4.\, Budapest\, 1031
CATEGORIES:Edzések
END:VEVENT
BEGIN:VEVENT
DTSTART;TZID=Europe/Budapest:20250813T184500
DTEND;TZID=Europe/Budapest:20250813T203000
DTSTAMP:20260422T024536
CREATED:20250623T175351Z
LAST-MODIFIED:20250623T175724Z
UID:36738-1755110700-1755117000@www.43szepitoksk.hu
SUMMARY:Edzőmérkőzés: Vác VLSE
DESCRIPTION:
URL:https://www.43szepitoksk.hu/event/edzomerkozes-vac-vse/
LOCATION:Vác Városi Stadion\, Stadion utca 2.\, Vác
CATEGORIES:Edzőmérkőzések
END:VEVENT
BEGIN:VEVENT
DTSTART;TZID=Europe/Budapest:20250814T190000
DTEND;TZID=Europe/Budapest:20250814T203000
DTSTAMP:20260422T024536
CREATED:20250623T175428Z
LAST-MODIFIED:20250811T065221Z
UID:36740-1755198000-1755203400@www.43szepitoksk.hu
SUMMARY:Edzés
DESCRIPTION:
URL:https://www.43szepitoksk.hu/event/edzes-1069/
LOCATION:Gázművek sporttelep\, Sujtás utca 2-4.\, Budapest\, 1031
CATEGORIES:Edzések
END:VEVENT
BEGIN:VEVENT
DTSTART;TZID=Europe/Budapest:20250815T190000
DTEND;TZID=Europe/Budapest:20250815T203000
DTSTAMP:20260422T024536
CREATED:20250623T175505Z
LAST-MODIFIED:20250811T065333Z
UID:36742-1755284400-1755289800@www.43szepitoksk.hu
SUMMARY:Edzés
DESCRIPTION:
URL:https://www.43szepitoksk.hu/event/edzes-1070/
LOCATION:Gázművek sporttelep\, Sujtás utca 2-4.\, Budapest\, 1031
CATEGORIES:Edzések
END:VEVENT
BEGIN:VEVENT
DTSTART;TZID=Europe/Budapest:20250816T110000
DTEND;TZID=Europe/Budapest:20250816T124500
DTSTAMP:20260422T024536
CREATED:20250807T064828Z
LAST-MODIFIED:20250811T065554Z
UID:37098-1755342000-1755348300@www.43szepitoksk.hu
SUMMARY:BLSZI 1. forduló: REAC
DESCRIPTION:
URL:https://www.43szepitoksk.hu/event/blszi-1-fordulo-reac/
LOCATION:Gázművek sporttelep\, Sujtás utca 2-4.\, Budapest\, 1031
CATEGORIES:Bajnoki mérkőzések
ATTACH;FMTTYPE=image/jpeg:https://www.43szepitoksk.hu/wp-content/uploads/2025/08/esemeny.jpg
END:VEVENT
BEGIN:VEVENT
DTSTART;TZID=Europe/Budapest:20250819T190000
DTEND;TZID=Europe/Budapest:20250819T203000
DTSTAMP:20260422T024536
CREATED:20250807T064937Z
LAST-MODIFIED:20250811T065453Z
UID:37100-1755630000-1755635400@www.43szepitoksk.hu
SUMMARY:Edzés
DESCRIPTION:
URL:https://www.43szepitoksk.hu/event/edzes-1071/
LOCATION:Gázművek sporttelep\, Sujtás utca 2-4.\, Budapest\, 1031
CATEGORIES:Edzések
END:VEVENT
BEGIN:VEVENT
DTSTART;TZID=Europe/Budapest:20250821T190000
DTEND;TZID=Europe/Budapest:20250821T203000
DTSTAMP:20260422T024536
CREATED:20250807T065135Z
LAST-MODIFIED:20250811T065526Z
UID:37104-1755802800-1755808200@www.43szepitoksk.hu
SUMMARY:Edzés
DESCRIPTION:
URL:https://www.43szepitoksk.hu/event/edzes-1073/
LOCATION:Gázművek sporttelep\, Sujtás utca 2-4.\, Budapest\, 1031
CATEGORIES:Edzések
END:VEVENT
BEGIN:VEVENT
DTSTART;TZID=Europe/Budapest:20250822T190000
DTEND;TZID=Europe/Budapest:20250822T203000
DTSTAMP:20260422T024536
CREATED:20250807T065103Z
LAST-MODIFIED:20250817T074040Z
UID:37102-1755889200-1755894600@www.43szepitoksk.hu
SUMMARY:Edzés
DESCRIPTION:
URL:https://www.43szepitoksk.hu/event/edzes-1072/
LOCATION:Gázművek sporttelep\, Sujtás utca 2-4.\, Budapest\, 1031
CATEGORIES:Edzések
END:VEVENT
BEGIN:VEVENT
DTSTART;TZID=Europe/Budapest:20250823T110000
DTEND;TZID=Europe/Budapest:20250823T124500
DTSTAMP:20260422T024536
CREATED:20250807T105407Z
LAST-MODIFIED:20250807T105407Z
UID:37114-1755946800-1755953100@www.43szepitoksk.hu
SUMMARY:Mol Magyar Kupa 2. forduló: MARTFŰI LSE
DESCRIPTION:
URL:https://www.43szepitoksk.hu/event/mol-magyar-kupa-2-fordulo-martfui-lse/
LOCATION:Gázművek sporttelep\, Sujtás utca 2-4.\, Budapest\, 1031
CATEGORIES:Kupa mérkőzések
ATTACH;FMTTYPE=image/jpeg:https://www.43szepitoksk.hu/wp-content/uploads/2025/08/Martfu-MK2-1.jpg
END:VEVENT
BEGIN:VEVENT
DTSTART;TZID=Europe/Budapest:20250826T190000
DTEND;TZID=Europe/Budapest:20250826T203000
DTSTAMP:20260422T024536
CREATED:20250811T065638Z
LAST-MODIFIED:20250811T065638Z
UID:37178-1756234800-1756240200@www.43szepitoksk.hu
SUMMARY:Edzés
DESCRIPTION:
URL:https://www.43szepitoksk.hu/event/edzes-1074/
LOCATION:Gázművek sporttelep\, Sujtás utca 2-4.\, Budapest\, 1031
CATEGORIES:Edzések
END:VEVENT
BEGIN:VEVENT
DTSTART;TZID=Europe/Budapest:20250827T190000
DTEND;TZID=Europe/Budapest:20250827T203000
DTSTAMP:20260422T024536
CREATED:20250811T065743Z
LAST-MODIFIED:20250811T065947Z
UID:37180-1756321200-1756326600@www.43szepitoksk.hu
SUMMARY:Edzés
DESCRIPTION:
URL:https://www.43szepitoksk.hu/event/edzes-1075/
LOCATION:Gázművek sporttelep\, Sujtás utca 2-4.\, Budapest\, 1031
CATEGORIES:Edzések
END:VEVENT
BEGIN:VEVENT
DTSTART;TZID=Europe/Budapest:20250829T183000
DTEND;TZID=Europe/Budapest:20250829T200000
DTSTAMP:20260422T024536
CREATED:20250825T072603Z
LAST-MODIFIED:20250826T193749Z
UID:37364-1756492200-1756497600@www.43szepitoksk.hu
SUMMARY:Edzés
DESCRIPTION:
URL:https://www.43szepitoksk.hu/event/edzes-1088/
LOCATION:Gázművek sporttelep\, Sujtás utca 2-4.\, Budapest\, 1031
CATEGORIES:Edzések
END:VEVENT
BEGIN:VEVENT
DTSTART;TZID=Europe/Budapest:20250830T110000
DTEND;TZID=Europe/Budapest:20250830T144500
DTSTAMP:20260422T024536
CREATED:20250811T070109Z
LAST-MODIFIED:20250811T070109Z
UID:37182-1756551600-1756565100@www.43szepitoksk.hu
SUMMARY:BLSZI 3. forduló: CSEPEL UPSE
DESCRIPTION:
URL:https://www.43szepitoksk.hu/event/blszi-3-fordulo-csepel-upse/
LOCATION:Gázművek sporttelep\, Sujtás utca 2-4.\, Budapest\, 1031
CATEGORIES:Bajnoki mérkőzések
END:VEVENT
BEGIN:VEVENT
DTSTART;TZID=Europe/Budapest:20250902T190000
DTEND;TZID=Europe/Budapest:20250902T203000
DTSTAMP:20260422T024536
CREATED:20250818T053229Z
LAST-MODIFIED:20250818T053229Z
UID:37291-1756839600-1756845000@www.43szepitoksk.hu
SUMMARY:Edzés
DESCRIPTION:
URL:https://www.43szepitoksk.hu/event/edzes-1076/
LOCATION:Gázművek sporttelep\, Sujtás utca 2-4.\, Budapest\, 1031
CATEGORIES:Edzések
END:VEVENT
BEGIN:VEVENT
DTSTART;TZID=Europe/Budapest:20250903T190000
DTEND;TZID=Europe/Budapest:20250903T203000
DTSTAMP:20260422T024536
CREATED:20250818T053302Z
LAST-MODIFIED:20250818T053302Z
UID:37293-1756926000-1756931400@www.43szepitoksk.hu
SUMMARY:Edzés
DESCRIPTION:
URL:https://www.43szepitoksk.hu/event/edzes-1077/
LOCATION:Gázművek sporttelep\, Sujtás utca 2-4.\, Budapest\, 1031
CATEGORIES:Edzések
END:VEVENT
BEGIN:VEVENT
DTSTART;TZID=Europe/Budapest:20250905T190000
DTEND;TZID=Europe/Budapest:20250905T203000
DTSTAMP:20260422T024536
CREATED:20250818T053339Z
LAST-MODIFIED:20250818T054128Z
UID:37295-1757098800-1757104200@www.43szepitoksk.hu
SUMMARY:Edzés
DESCRIPTION:
URL:https://www.43szepitoksk.hu/event/edzes-1078/
LOCATION:Gázművek sporttelep\, Sujtás utca 2-4.\, Budapest\, 1031
CATEGORIES:Edzések
END:VEVENT
BEGIN:VEVENT
DTSTART;TZID=Europe/Budapest:20250907T100000
DTEND;TZID=Europe/Budapest:20250907T114500
DTSTAMP:20260422T024536
CREATED:20250818T054327Z
LAST-MODIFIED:20250831T152430Z
UID:37297-1757239200-1757245500@www.43szepitoksk.hu
SUMMARY:BLSZI 4. forduló: SZABADKIKÖTŐ SPORT KFT.
DESCRIPTION:
URL:https://www.43szepitoksk.hu/event/blszi-4-fordulo-szabadkikoto-sport-kft/
LOCATION:Sport11\, Kánai utca 2.\, Budapest\, 1112
CATEGORIES:Bajnoki mérkőzések
ATTACH;FMTTYPE=image/jpeg:https://www.43szepitoksk.hu/wp-content/uploads/2025/08/esemeny-1.jpg
END:VEVENT
BEGIN:VEVENT
DTSTART;TZID=Europe/Budapest:20250909T190000
DTEND;TZID=Europe/Budapest:20250909T203000
DTSTAMP:20260422T024536
CREATED:20250818T140245Z
LAST-MODIFIED:20250818T140245Z
UID:37299-1757444400-1757449800@www.43szepitoksk.hu
SUMMARY:Edzés
DESCRIPTION:
URL:https://www.43szepitoksk.hu/event/edzes-1079/
LOCATION:Gázművek sporttelep\, Sujtás utca 2-4.\, Budapest\, 1031
CATEGORIES:Edzések
END:VEVENT
BEGIN:VEVENT
DTSTART;TZID=Europe/Budapest:20250910T190000
DTEND;TZID=Europe/Budapest:20250910T203000
DTSTAMP:20260422T024536
CREATED:20250818T140815Z
LAST-MODIFIED:20250818T140815Z
UID:37303-1757530800-1757536200@www.43szepitoksk.hu
SUMMARY:Edzés
DESCRIPTION:
URL:https://www.43szepitoksk.hu/event/edzes-1080/
LOCATION:Gázművek sporttelep\, Sujtás utca 2-4.\, Budapest\, 1031
CATEGORIES:Edzések
END:VEVENT
BEGIN:VEVENT
DTSTART;TZID=Europe/Budapest:20250912T190000
DTEND;TZID=Europe/Budapest:20250912T203000
DTSTAMP:20260422T024536
CREATED:20250825T072702Z
LAST-MODIFIED:20250825T072702Z
UID:37305-1757703600-1757709000@www.43szepitoksk.hu
SUMMARY:Edzés
DESCRIPTION:
URL:https://www.43szepitoksk.hu/event/edzes-1089/
LOCATION:Gázművek sporttelep\, Sujtás utca 2-4.\, Budapest\, 1031
CATEGORIES:Edzések
END:VEVENT
BEGIN:VEVENT
DTSTART;TZID=Europe/Budapest:20250913T110000
DTEND;TZID=Europe/Budapest:20250913T124500
DTSTAMP:20260422T024536
CREATED:20250818T141253Z
LAST-MODIFIED:20250909T143725Z
UID:37307-1757761200-1757767500@www.43szepitoksk.hu
SUMMARY:BLSZI 5. forduló: ISSIMO SE
DESCRIPTION:
URL:https://www.43szepitoksk.hu/event/blszi-5-fordulo-issimo-se/
LOCATION:Gázművek sporttelep\, Sujtás utca 2-4.\, Budapest\, 1031
CATEGORIES:Bajnoki mérkőzések
ATTACH;FMTTYPE=image/jpeg:https://www.43szepitoksk.hu/wp-content/uploads/2025/08/esemeny-2.jpg
END:VEVENT
BEGIN:VEVENT
DTSTART;TZID=Europe/Budapest:20250916T190000
DTEND;TZID=Europe/Budapest:20250916T203000
DTSTAMP:20260422T024536
CREATED:20250818T141613Z
LAST-MODIFIED:20250818T141613Z
UID:37309-1758049200-1758054600@www.43szepitoksk.hu
SUMMARY:Edzés
DESCRIPTION:
URL:https://www.43szepitoksk.hu/event/edzes-1081/
LOCATION:Gázművek sporttelep\, Sujtás utca 2-4.\, Budapest\, 1031
CATEGORIES:Edzések
END:VEVENT
BEGIN:VEVENT
DTSTART;TZID=Europe/Budapest:20250917T190000
DTEND;TZID=Europe/Budapest:20250917T203000
DTSTAMP:20260422T024536
CREATED:20250818T141645Z
LAST-MODIFIED:20250818T141645Z
UID:37311-1758135600-1758141000@www.43szepitoksk.hu
SUMMARY:Edzés
DESCRIPTION:
URL:https://www.43szepitoksk.hu/event/edzes-1082/
LOCATION:Gázművek sporttelep\, Sujtás utca 2-4.\, Budapest\, 1031
CATEGORIES:Edzések
END:VEVENT
BEGIN:VEVENT
DTSTART;TZID=Europe/Budapest:20250919T190000
DTEND;TZID=Europe/Budapest:20250919T203000
DTSTAMP:20260422T024536
CREATED:20250818T141713Z
LAST-MODIFIED:20250825T072644Z
UID:37313-1758308400-1758313800@www.43szepitoksk.hu
SUMMARY:Edzés
DESCRIPTION:
URL:https://www.43szepitoksk.hu/event/edzes-1083/
LOCATION:Gázművek sporttelep\, Sujtás utca 2-4.\, Budapest\, 1031
CATEGORIES:Edzések
END:VEVENT
BEGIN:VEVENT
DTSTART;TZID=Europe/Budapest:20250920T110000
DTEND;TZID=Europe/Budapest:20250920T124500
DTSTAMP:20260422T024536
CREATED:20250818T141833Z
LAST-MODIFIED:20250917T142305Z
UID:37315-1758366000-1758372300@www.43szepitoksk.hu
SUMMARY:BLSZI 6. forduló: TFSE
DESCRIPTION:8:30-tól Családi nap + öregfiúk mérkőzés + bográcsozás!
URL:https://www.43szepitoksk.hu/event/blszi-6-fordulo-tfse/
LOCATION:Gázművek sporttelep\, Sujtás utca 2-4.\, Budapest\, 1031
CATEGORIES:Bajnoki mérkőzések
END:VEVENT
BEGIN:VEVENT
DTSTART;TZID=Europe/Budapest:20250923T190000
DTEND;TZID=Europe/Budapest:20250923T203000
DTSTAMP:20260422T024536
CREATED:20250821T045506Z
LAST-MODIFIED:20250821T045613Z
UID:37323-1758654000-1758659400@www.43szepitoksk.hu
SUMMARY:Edzés
DESCRIPTION:
URL:https://www.43szepitoksk.hu/event/edzes-1084/
LOCATION:Gázművek sporttelep\, Sujtás utca 2-4.\, Budapest\, 1031
CATEGORIES:Edzések
END:VEVENT
BEGIN:VEVENT
DTSTART;TZID=Europe/Budapest:20250924T190000
DTEND;TZID=Europe/Budapest:20250924T203000
DTSTAMP:20260422T024536
CREATED:20250821T045555Z
LAST-MODIFIED:20250821T045555Z
UID:37325-1758740400-1758745800@www.43szepitoksk.hu
SUMMARY:Edzés
DESCRIPTION:
URL:https://www.43szepitoksk.hu/event/edzes-1085/
LOCATION:Gázművek sporttelep\, Sujtás utca 2-4.\, Budapest\, 1031
CATEGORIES:Edzések
END:VEVENT
BEGIN:VEVENT
DTSTART;TZID=Europe/Budapest:20250926T190000
DTEND;TZID=Europe/Budapest:20250926T203000
DTSTAMP:20260422T024536
CREATED:20250821T045654Z
LAST-MODIFIED:20250825T072628Z
UID:37327-1758913200-1758918600@www.43szepitoksk.hu
SUMMARY:Edzés
DESCRIPTION:
URL:https://www.43szepitoksk.hu/event/edzes-1086/
LOCATION:Gázművek sporttelep\, Sujtás utca 2-4.\, Budapest\, 1031
END:VEVENT
BEGIN:VEVENT
DTSTART;TZID=Europe/Budapest:20250927T110000
DTEND;TZID=Europe/Budapest:20250927T124500
DTSTAMP:20260422T024536
CREATED:20250821T045852Z
LAST-MODIFIED:20250922T073243Z
UID:37329-1758970800-1758977100@www.43szepitoksk.hu
SUMMARY:BLSZI 7. forduló: UNIONE FC
DESCRIPTION:
URL:https://www.43szepitoksk.hu/event/blszi-7-fordulo-unione-fc-2/
LOCATION:III. Kerület TVE Sporttelep\, Kalap utca 2.\, Budapest\, 1037
CATEGORIES:Bajnoki mérkőzések
ATTACH;FMTTYPE=image/jpeg:https://www.43szepitoksk.hu/wp-content/uploads/2025/08/esemeny-3.jpg
END:VEVENT
BEGIN:VEVENT
DTSTART;TZID=Europe/Budapest:20250930T190000
DTEND;TZID=Europe/Budapest:20250930T203000
DTSTAMP:20260422T024536
CREATED:20250821T045933Z
LAST-MODIFIED:20250821T045933Z
UID:37331-1759258800-1759264200@www.43szepitoksk.hu
SUMMARY:Edzés
DESCRIPTION:
URL:https://www.43szepitoksk.hu/event/edzes-1087/
LOCATION:Gázművek sporttelep\, Sujtás utca 2-4.\, Budapest\, 1031
CATEGORIES:Edzések
END:VEVENT
END:VCALENDAR