BEGIN:VCALENDAR
VERSION:2.0
PRODID:-//43. sz. Építők SK - ECPv6.14.0//NONSGML v1.0//EN
CALSCALE:GREGORIAN
METHOD:PUBLISH
X-WR-CALNAME:43. sz. Építők SK
X-ORIGINAL-URL:https://www.43szepitoksk.hu
X-WR-CALDESC:Események 43. sz. Építők SK
REFRESH-INTERVAL;VALUE=DURATION:PT1H
X-Robots-Tag:noindex
X-PUBLISHED-TTL:PT1H
BEGIN:VTIMEZONE
TZID:Europe/Budapest
BEGIN:DAYLIGHT
TZOFFSETFROM:+0100
TZOFFSETTO:+0200
TZNAME:CEST
DTSTART:20250330T010000
END:DAYLIGHT
BEGIN:STANDARD
TZOFFSETFROM:+0200
TZOFFSETTO:+0100
TZNAME:CET
DTSTART:20251026T010000
END:STANDARD
BEGIN:DAYLIGHT
TZOFFSETFROM:+0100
TZOFFSETTO:+0200
TZNAME:CEST
DTSTART:20260329T010000
END:DAYLIGHT
BEGIN:STANDARD
TZOFFSETFROM:+0200
TZOFFSETTO:+0100
TZNAME:CET
DTSTART:20261025T010000
END:STANDARD
END:VTIMEZONE
BEGIN:VEVENT
DTSTART;TZID=Europe/Budapest:20251122T130000
DTEND;TZID=Europe/Budapest:20251122T144500
DTSTAMP:20260421T221245
CREATED:20251102T183527Z
LAST-MODIFIED:20251117T212338Z
UID:38362-1763816400-1763822700@www.43szepitoksk.hu
SUMMARY:BLSZI 15. forduló: 1908 SZAC BUDAPEST FC
DESCRIPTION:
URL:https://www.43szepitoksk.hu/event/blszi-15-fordulo-1908-szac-budapest-fc/
LOCATION:SZAC sporttelep\, Thököly utca 5.\, Budapest\, 1183
CATEGORIES:Bajnoki mérkőzések
ATTACH;FMTTYPE=image/jpeg:https://www.43szepitoksk.hu/wp-content/uploads/2025/11/Esemeny-1.jpg
END:VEVENT
BEGIN:VEVENT
DTSTART;TZID=Europe/Budapest:20251124T193000
DTEND;TZID=Europe/Budapest:20251124T210000
DTSTAMP:20260421T221245
CREATED:20251102T183703Z
LAST-MODIFIED:20251117T135949Z
UID:38368-1764012600-1764018000@www.43szepitoksk.hu
SUMMARY:Edzés
DESCRIPTION:
URL:https://www.43szepitoksk.hu/event/edzes-1115/
LOCATION:III. Kerület TVE Sporttelep\, Kalap utca 2.\, Budapest\, 1037
CATEGORIES:Edzések
END:VEVENT
BEGIN:VEVENT
DTSTART;TZID=Europe/Budapest:20251125T193000
DTEND;TZID=Europe/Budapest:20251125T210000
DTSTAMP:20260421T221245
CREATED:20251102T183556Z
LAST-MODIFIED:20251102T183556Z
UID:38364-1764099000-1764104400@www.43szepitoksk.hu
SUMMARY:Edzés
DESCRIPTION:
URL:https://www.43szepitoksk.hu/event/edzes-1113/
LOCATION:III. Kerület TVE Sporttelep\, Kalap utca 2.\, Budapest\, 1037
CATEGORIES:Bajnoki mérkőzések
END:VEVENT
BEGIN:VEVENT
DTSTART;TZID=Europe/Budapest:20251126T193000
DTEND;TZID=Europe/Budapest:20251126T210000
DTSTAMP:20260421T221245
CREATED:20251102T183631Z
LAST-MODIFIED:20251102T183631Z
UID:38366-1764185400-1764190800@www.43szepitoksk.hu
SUMMARY:Edzés
DESCRIPTION:
URL:https://www.43szepitoksk.hu/event/edzes-1114/
LOCATION:III. Kerület TVE Sporttelep\, Kalap utca 2.\, Budapest\, 1037
CATEGORIES:Edzések
END:VEVENT
BEGIN:VEVENT
DTSTART;TZID=Europe/Budapest:20251128T190000
DTEND;TZID=Europe/Budapest:20251128T204500
DTSTAMP:20260421T221245
CREATED:20251102T183845Z
LAST-MODIFIED:20251122T062745Z
UID:38370-1764356400-1764362700@www.43szepitoksk.hu
SUMMARY:BLSZI 2. forduló: FŐVÁROSI VÍZMŰVEK SK
DESCRIPTION:
URL:https://www.43szepitoksk.hu/event/blszi-2-fordulo-fovarosi-vizmuvek-sk/
LOCATION:Fővárosi Vízművek Sporttelep\, Váci út 102.\, Budapest\, 1044
CATEGORIES:Bajnoki mérkőzések
ATTACH;FMTTYPE=image/jpeg:https://www.43szepitoksk.hu/wp-content/uploads/2025/11/Meccsnap.jpg
END:VEVENT
BEGIN:VEVENT
DTSTART;TZID=Europe/Budapest:20251207T180000
DTEND;TZID=Europe/Budapest:20251207T220000
DTSTAMP:20260421T221245
CREATED:20251125T075430Z
LAST-MODIFIED:20251129T082905Z
UID:38596-1765130400-1765144800@www.43szepitoksk.hu
SUMMARY:Évzáró bankett 2025
DESCRIPTION:
URL:https://www.43szepitoksk.hu/event/evzaro-bankett-2/
LOCATION:Pasarét Club Étterem\, Pasaréti út 11-13.\, Budapest\, 1026
CATEGORIES:Bankett
ATTACH;FMTTYPE=image/jpeg:https://www.43szepitoksk.hu/wp-content/uploads/2025/05/pasaretclub_1.jpg
END:VEVENT
BEGIN:VEVENT
DTSTART;TZID=Europe/Budapest:20260102T193000
DTEND;TZID=Europe/Budapest:20260102T210000
DTSTAMP:20260421T221245
CREATED:20260102T110520Z
LAST-MODIFIED:20260102T110520Z
UID:38827-1767382200-1767387600@www.43szepitoksk.hu
SUMMARY:Edzés
DESCRIPTION:
URL:https://www.43szepitoksk.hu/event/edzes-1131/
LOCATION:III. Kerület TVE Sporttelep\, Kalap utca 2.\, Budapest\, 1037
CATEGORIES:Edzések
END:VEVENT
BEGIN:VEVENT
DTSTART;TZID=Europe/Budapest:20260106T193000
DTEND;TZID=Europe/Budapest:20260106T210000
DTSTAMP:20260421T221245
CREATED:20251217T085051Z
LAST-MODIFIED:20251217T085051Z
UID:38713-1767727800-1767733200@www.43szepitoksk.hu
SUMMARY:Edzés
DESCRIPTION:
URL:https://www.43szepitoksk.hu/event/edzes-1116/
LOCATION:III. Kerület TVE Sporttelep\, Kalap utca 2.\, Budapest\, 1037
CATEGORIES:Edzések
END:VEVENT
BEGIN:VEVENT
DTSTART;TZID=Europe/Budapest:20260107T193000
DTEND;TZID=Europe/Budapest:20260107T210000
DTSTAMP:20260421T221245
CREATED:20251217T085135Z
LAST-MODIFIED:20251217T085135Z
UID:38715-1767814200-1767819600@www.43szepitoksk.hu
SUMMARY:Edzés
DESCRIPTION:
URL:https://www.43szepitoksk.hu/event/edzes-1117/
LOCATION:III. Kerület TVE Sporttelep\, Kalap utca 2.\, Budapest\, 1037
CATEGORIES:Edzések
END:VEVENT
BEGIN:VEVENT
DTSTART;TZID=Europe/Budapest:20260108T193000
DTEND;TZID=Europe/Budapest:20260108T210000
DTSTAMP:20260421T221245
CREATED:20251217T085202Z
LAST-MODIFIED:20251217T085202Z
UID:38717-1767900600-1767906000@www.43szepitoksk.hu
SUMMARY:Edzés
DESCRIPTION:
URL:https://www.43szepitoksk.hu/event/edzes-1118/
LOCATION:III. Kerület TVE Sporttelep\, Kalap utca 2.\, Budapest\, 1037
CATEGORIES:Edzések
END:VEVENT
BEGIN:VEVENT
DTSTART;TZID=Europe/Budapest:20260113T193000
DTEND;TZID=Europe/Budapest:20260113T210000
DTSTAMP:20260421T221245
CREATED:20251217T085235Z
LAST-MODIFIED:20251217T085235Z
UID:38719-1768332600-1768338000@www.43szepitoksk.hu
SUMMARY:Edzés
DESCRIPTION:
URL:https://www.43szepitoksk.hu/event/edzes-1119/
LOCATION:III. Kerület TVE Sporttelep\, Kalap utca 2.\, Budapest\, 1037
CATEGORIES:Edzések
END:VEVENT
BEGIN:VEVENT
DTSTART;TZID=Europe/Budapest:20260114T193000
DTEND;TZID=Europe/Budapest:20260114T210000
DTSTAMP:20260421T221245
CREATED:20251217T085259Z
LAST-MODIFIED:20260114T075708Z
UID:38721-1768419000-1768424400@www.43szepitoksk.hu
SUMMARY:Edzés
DESCRIPTION:
URL:https://www.43szepitoksk.hu/event/edzes-1120/
LOCATION:III. Kerület TVE Sporttelep\, Kalap utca 2.\, Budapest\, 1037
CATEGORIES:Edzések
END:VEVENT
BEGIN:VEVENT
DTSTART;TZID=Europe/Budapest:20260115T193000
DTEND;TZID=Europe/Budapest:20260115T210000
DTSTAMP:20260421T221245
CREATED:20251217T085324Z
LAST-MODIFIED:20251217T085324Z
UID:38723-1768505400-1768510800@www.43szepitoksk.hu
SUMMARY:Edzés
DESCRIPTION:
URL:https://www.43szepitoksk.hu/event/edzes-1121/
LOCATION:III. Kerület TVE Sporttelep\, Kalap utca 2.\, Budapest\, 1037
CATEGORIES:Edzések
END:VEVENT
BEGIN:VEVENT
DTSTART;TZID=Europe/Budapest:20260117T110000
DTEND;TZID=Europe/Budapest:20260117T124500
DTSTAMP:20260421T221245
CREATED:20251217T085633Z
LAST-MODIFIED:20260102T143558Z
UID:38725-1768647600-1768653900@www.43szepitoksk.hu
SUMMARY:Edzőmérkőzés: Pomáz-ICO SE
DESCRIPTION:
URL:https://www.43szepitoksk.hu/event/edzomerkozes-pomaz-ico-se/
LOCATION:Pomáz ICO Sporttelep\, Sport utca 10.\, Pomáz\, 2013
CATEGORIES:Edzőmérkőzések
ATTACH;FMTTYPE=image/jpeg:https://www.43szepitoksk.hu/wp-content/uploads/2025/12/Pomaz.jpg
END:VEVENT
BEGIN:VEVENT
DTSTART;TZID=Europe/Budapest:20260120T193000
DTEND;TZID=Europe/Budapest:20260120T210000
DTSTAMP:20260421T221245
CREATED:20251217T085712Z
LAST-MODIFIED:20251217T085712Z
UID:38728-1768937400-1768942800@www.43szepitoksk.hu
SUMMARY:Edzés
DESCRIPTION:
URL:https://www.43szepitoksk.hu/event/edzes-1122/
LOCATION:III. Kerület TVE Sporttelep\, Kalap utca 2.\, Budapest\, 1037
CATEGORIES:Edzések
END:VEVENT
BEGIN:VEVENT
DTSTART;TZID=Europe/Budapest:20260121T190000
DTEND;TZID=Europe/Budapest:20260121T203000
DTSTAMP:20260421T221245
CREATED:20251217T085742Z
LAST-MODIFIED:20260120T132700Z
UID:38730-1769022000-1769027400@www.43szepitoksk.hu
SUMMARY:Edzés
DESCRIPTION:
URL:https://www.43szepitoksk.hu/event/edzes-1123/
LOCATION:Pokorni József Sport- és Szabadidőközpont\, Szabadság út 57.\, Budapest\, 1028
CATEGORIES:Edzések
ATTACH;FMTTYPE=image/jpeg:https://www.43szepitoksk.hu/wp-content/uploads/2025/12/Unione.jpg
END:VEVENT
BEGIN:VEVENT
DTSTART;TZID=Europe/Budapest:20260122T190000
DTEND;TZID=Europe/Budapest:20260122T203000
DTSTAMP:20260421T221245
CREATED:20251217T085812Z
LAST-MODIFIED:20260120T132733Z
UID:38732-1769108400-1769113800@www.43szepitoksk.hu
SUMMARY:Edzés
DESCRIPTION:
URL:https://www.43szepitoksk.hu/event/edzes-1124/
LOCATION:Pokorni József Sport- és Szabadidőközpont\, Szabadság út 57.\, Budapest\, 1028
CATEGORIES:Edzések
END:VEVENT
BEGIN:VEVENT
DTSTART;TZID=Europe/Budapest:20260124T110000
DTEND;TZID=Europe/Budapest:20260124T124500
DTSTAMP:20260421T221245
CREATED:20251217T090107Z
LAST-MODIFIED:20260120T132759Z
UID:38735-1769252400-1769258700@www.43szepitoksk.hu
SUMMARY:Edzőmérkőzés: III. Kerület TVE U19
DESCRIPTION:
URL:https://www.43szepitoksk.hu/event/edzomerkozes-iii-kerulet-tve-u19-5/
LOCATION:Pokorni József Sport- és Szabadidőközpont\, Szabadság út 57.\, Budapest\, 1028
CATEGORIES:Edzőmérkőzések
ATTACH;FMTTYPE=image/jpeg:https://www.43szepitoksk.hu/wp-content/uploads/2025/12/III.-Kerulet.jpg
END:VEVENT
BEGIN:VEVENT
DTSTART;TZID=Europe/Budapest:20260127T193000
DTEND;TZID=Europe/Budapest:20260127T210000
DTSTAMP:20260421T221245
CREATED:20251217T090155Z
LAST-MODIFIED:20251217T090155Z
UID:38737-1769542200-1769547600@www.43szepitoksk.hu
SUMMARY:Edzés
DESCRIPTION:
URL:https://www.43szepitoksk.hu/event/edzes-1125/
LOCATION:III. Kerület TVE Sporttelep\, Kalap utca 2.\, Budapest\, 1037
CATEGORIES:Edzések
END:VEVENT
BEGIN:VEVENT
DTSTART;TZID=Europe/Budapest:20260128T180000
DTEND;TZID=Europe/Budapest:20260128T194500
DTSTAMP:20260421T221245
CREATED:20251217T090256Z
LAST-MODIFIED:20260128T101729Z
UID:38739-1769623200-1769629500@www.43szepitoksk.hu
SUMMARY:Edzőmérkőzés: Mészöly FS
DESCRIPTION:
URL:https://www.43szepitoksk.hu/event/edzomerkozes-maglodi-tc-2/
LOCATION:NSÜ-BOK Fehér úti Sporttelep\, Fehér út 9-11.\, Budapest\, 1106
CATEGORIES:Edzőmérkőzések
ATTACH;FMTTYPE=image/jpeg:https://www.43szepitoksk.hu/wp-content/uploads/2025/12/Meszoly.jpg
END:VEVENT
BEGIN:VEVENT
DTSTART;TZID=Europe/Budapest:20260129T193000
DTEND;TZID=Europe/Budapest:20260129T213000
DTSTAMP:20260421T221245
CREATED:20251217T090324Z
LAST-MODIFIED:20251217T090324Z
UID:38741-1769715000-1769722200@www.43szepitoksk.hu
SUMMARY:Edzés
DESCRIPTION:
URL:https://www.43szepitoksk.hu/event/edzes-1126/
LOCATION:III. Kerület TVE Sporttelep\, Kalap utca 2.\, Budapest\, 1037
CATEGORIES:Edzések
END:VEVENT
BEGIN:VEVENT
DTSTART;TZID=Europe/Budapest:20260130T190000
DTEND;TZID=Europe/Budapest:20260130T204500
DTSTAMP:20260421T221245
CREATED:20251217T090656Z
LAST-MODIFIED:20260128T101637Z
UID:38743-1769799600-1769805900@www.43szepitoksk.hu
SUMMARY:Edzőmérkőzés: Újhartyán VSE
DESCRIPTION:
URL:https://www.43szepitoksk.hu/event/edzomerkozes-aranyszarvas-se-2/
LOCATION:Tápiószentmártoni Sporttelep\, Cifrakert 10.\, Tápiószentmárton\, 2711
CATEGORIES:Edzőmérkőzések
ATTACH;FMTTYPE=image/jpeg:https://www.43szepitoksk.hu/wp-content/uploads/2025/12/Ujhartyan.jpg
END:VEVENT
BEGIN:VEVENT
DTSTART;TZID=Europe/Budapest:20260203T193000
DTEND;TZID=Europe/Budapest:20260203T210000
DTSTAMP:20260421T221245
CREATED:20260102T110457Z
LAST-MODIFIED:20260102T110457Z
UID:38825-1770147000-1770152400@www.43szepitoksk.hu
SUMMARY:Edzés
DESCRIPTION:
URL:https://www.43szepitoksk.hu/event/edzes-1130/
LOCATION:III. Kerület TVE Sporttelep\, Kalap utca 2.\, Budapest\, 1037
CATEGORIES:Edzések
END:VEVENT
BEGIN:VEVENT
DTSTART;TZID=Europe/Budapest:20260204T193000
DTEND;TZID=Europe/Budapest:20260204T210000
DTSTAMP:20260421T221245
CREATED:20260102T110820Z
LAST-MODIFIED:20260102T143420Z
UID:38833-1770233400-1770238800@www.43szepitoksk.hu
SUMMARY:Edzés
DESCRIPTION:
URL:https://www.43szepitoksk.hu/event/edzomerkozes-maglodi-tc-3/
LOCATION:III. Kerület TVE Sporttelep\, Kalap utca 2.\, Budapest\, 1037
CATEGORIES:Edzések
END:VEVENT
BEGIN:VEVENT
DTSTART;TZID=Europe/Budapest:20260205T193000
DTEND;TZID=Europe/Budapest:20260205T210000
DTSTAMP:20260421T221245
CREATED:20260102T110555Z
LAST-MODIFIED:20260102T110555Z
UID:38829-1770319800-1770325200@www.43szepitoksk.hu
SUMMARY:Edzés
DESCRIPTION:
URL:https://www.43szepitoksk.hu/event/edzes-1132/
LOCATION:III. Kerület TVE Sporttelep\, Kalap utca 2.\, Budapest\, 1037
CATEGORIES:Edzések
END:VEVENT
BEGIN:VEVENT
DTSTART;TZID=Europe/Budapest:20260207T130000
DTEND;TZID=Europe/Budapest:20260207T144500
DTSTAMP:20260421T221245
CREATED:20260102T110631Z
LAST-MODIFIED:20260201T075356Z
UID:38831-1770469200-1770475500@www.43szepitoksk.hu
SUMMARY:Budapest Kupa 3. forduló: REAC
DESCRIPTION:
URL:https://www.43szepitoksk.hu/event/budapest-kupa-3-fordulo-reac-2/
LOCATION:REAC Szántóföld úti Sporttelep\, Szántófőld utca 3.\, Budapest\, 1151
CATEGORIES:Kupa mérkőzések
ATTACH;FMTTYPE=image/jpeg:https://www.43szepitoksk.hu/wp-content/uploads/2026/01/Esemeny.jpg
END:VEVENT
BEGIN:VEVENT
DTSTART;TZID=Europe/Budapest:20260210T193000
DTEND;TZID=Europe/Budapest:20260210T210000
DTSTAMP:20260421T221245
CREATED:20260102T110117Z
LAST-MODIFIED:20260102T110222Z
UID:38816-1770751800-1770757200@www.43szepitoksk.hu
SUMMARY:Edzés
DESCRIPTION:
URL:https://www.43szepitoksk.hu/event/edzes-1127/
LOCATION:III. Kerület TVE Sporttelep\, Kalap utca 2.\, Budapest\, 1037
CATEGORIES:Edzések
END:VEVENT
BEGIN:VEVENT
DTSTART;TZID=Europe/Budapest:20260211T193000
DTEND;TZID=Europe/Budapest:20260211T210000
DTSTAMP:20260421T221245
CREATED:20260102T110150Z
LAST-MODIFIED:20260102T110150Z
UID:38818-1770838200-1770843600@www.43szepitoksk.hu
SUMMARY:Edzés
DESCRIPTION:
URL:https://www.43szepitoksk.hu/event/edzes-1128/
LOCATION:III. Kerület TVE Sporttelep\, Kalap utca 2.\, Budapest\, 1037
CATEGORIES:Edzések
END:VEVENT
BEGIN:VEVENT
DTSTART;TZID=Europe/Budapest:20260212T193000
DTEND;TZID=Europe/Budapest:20260212T210000
DTSTAMP:20260421T221245
CREATED:20260102T110247Z
LAST-MODIFIED:20260102T110247Z
UID:38821-1770924600-1770930000@www.43szepitoksk.hu
SUMMARY:Edzés
DESCRIPTION:
URL:https://www.43szepitoksk.hu/event/edzes-1129/
LOCATION:III. Kerület TVE Sporttelep\, Kalap utca 2.\, Budapest\, 1037
CATEGORIES:Edzések
END:VEVENT
BEGIN:VEVENT
DTSTART;TZID=Europe/Budapest:20260214T080000
DTEND;TZID=Europe/Budapest:20260214T170000
DTSTAMP:20260421T221245
CREATED:20260102T110329Z
LAST-MODIFIED:20260209T172558Z
UID:38823-1771056000-1771088400@www.43szepitoksk.hu
SUMMARY:BLSZI 16. forduló: REAC
DESCRIPTION:
URL:https://www.43szepitoksk.hu/event/blszi-16-fordulo-reac/
LOCATION:REAC Szántóföld úti Sporttelep\, Szántófőld utca 3.\, Budapest\, 1151
CATEGORIES:Bajnoki mérkőzések
ATTACH;FMTTYPE=image/jpeg:https://www.43szepitoksk.hu/wp-content/uploads/2026/01/Esemeny-1.jpg
END:VEVENT
END:VCALENDAR