BEGIN:VCALENDAR
VERSION:2.0
PRODID:-//43. sz. Építők SK - ECPv6.14.0//NONSGML v1.0//EN
CALSCALE:GREGORIAN
METHOD:PUBLISH
X-ORIGINAL-URL:https://www.43szepitoksk.hu
X-WR-CALDESC:Események 43. sz. Építők SK
REFRESH-INTERVAL;VALUE=DURATION:PT1H
X-Robots-Tag:noindex
X-PUBLISHED-TTL:PT1H
BEGIN:VTIMEZONE
TZID:Europe/Budapest
BEGIN:DAYLIGHT
TZOFFSETFROM:+0100
TZOFFSETTO:+0200
TZNAME:CEST
DTSTART:20210328T010000
END:DAYLIGHT
BEGIN:STANDARD
TZOFFSETFROM:+0200
TZOFFSETTO:+0100
TZNAME:CET
DTSTART:20211031T010000
END:STANDARD
END:VTIMEZONE
BEGIN:VEVENT
DTSTART;TZID=Europe/Budapest:20210328T170000
DTEND;TZID=Europe/Budapest:20210328T184500
DTSTAMP:20260425T122439
CREATED:20210303T053417Z
LAST-MODIFIED:20210303T053727Z
UID:20184-1616950800-1616957100@www.43szepitoksk.hu
SUMMARY:21. forduló: SVÁBHEGY FC
DESCRIPTION:
URL:https://www.43szepitoksk.hu/event/21-fordulo-svabhegy-fc-2/
LOCATION:III. Kerület TVE Sporttelep\, Kalap utca 2.\, Budapest\, 1037
CATEGORIES:Bajnoki mérkőzések
ATTACH;FMTTYPE=image/jpeg:https://www.43szepitoksk.hu/wp-content/uploads/2021/03/BLSZhazaiSvábhegy.jpg
END:VEVENT
BEGIN:VEVENT
DTSTART;TZID=Europe/Budapest:20210330T193000
DTEND;TZID=Europe/Budapest:20210330T210000
DTSTAMP:20260425T122439
CREATED:20210303T053844Z
LAST-MODIFIED:20210303T053844Z
UID:20188-1617132600-1617138000@www.43szepitoksk.hu
SUMMARY:Edzés
DESCRIPTION:
URL:https://www.43szepitoksk.hu/event/edzes-568/
LOCATION:III. Kerület TVE Sporttelep\, Kalap utca 2.\, Budapest\, 1037
CATEGORIES:Edzések
ATTACH;FMTTYPE=image/jpeg:https://www.43szepitoksk.hu/wp-content/uploads/2021/01/138139342_1679356328916281_8292479923886329150_n.jpg
END:VEVENT
BEGIN:VEVENT
DTSTART;TZID=Europe/Budapest:20210331T193000
DTEND;TZID=Europe/Budapest:20210331T210000
DTSTAMP:20260425T122439
CREATED:20210303T053936Z
LAST-MODIFIED:20210303T053936Z
UID:20190-1617219000-1617224400@www.43szepitoksk.hu
SUMMARY:Edzés
DESCRIPTION:
URL:https://www.43szepitoksk.hu/event/edzes-569/
LOCATION:III. Kerület TVE Sporttelep\, Kalap utca 2.\, Budapest\, 1037
CATEGORIES:Edzések
ATTACH;FMTTYPE=image/jpeg:https://www.43szepitoksk.hu/wp-content/uploads/2021/01/138139342_1679356328916281_8292479923886329150_n.jpg
END:VEVENT
BEGIN:VEVENT
DTSTART;TZID=Europe/Budapest:20210401T193000
DTEND;TZID=Europe/Budapest:20210401T210000
DTSTAMP:20260425T122439
CREATED:20210303T054030Z
LAST-MODIFIED:20210303T054030Z
UID:20192-1617305400-1617310800@www.43szepitoksk.hu
SUMMARY:Edzés
DESCRIPTION:
URL:https://www.43szepitoksk.hu/event/edzes-570/
LOCATION:III. Kerület TVE Sporttelep\, Kalap utca 2.\, Budapest\, 1037
CATEGORIES:Edzések
ATTACH;FMTTYPE=image/jpeg:https://www.43szepitoksk.hu/wp-content/uploads/2021/01/138139342_1679356328916281_8292479923886329150_n.jpg
END:VEVENT
BEGIN:VEVENT
DTSTART;TZID=Europe/Budapest:20210406T193000
DTEND;TZID=Europe/Budapest:20210406T210000
DTSTAMP:20260425T122439
CREATED:20210303T054308Z
LAST-MODIFIED:20210303T054308Z
UID:20196-1617737400-1617742800@www.43szepitoksk.hu
SUMMARY:Edzés
DESCRIPTION:
URL:https://www.43szepitoksk.hu/event/edzes-571/
LOCATION:III. Kerület TVE Sporttelep\, Kalap utca 2.\, Budapest\, 1037
CATEGORIES:Edzések
ATTACH;FMTTYPE=image/jpeg:https://www.43szepitoksk.hu/wp-content/uploads/2021/01/138139342_1679356328916281_8292479923886329150_n.jpg
END:VEVENT
BEGIN:VEVENT
DTSTART;TZID=Europe/Budapest:20210407T190000
DTEND;TZID=Europe/Budapest:20210407T204500
DTSTAMP:20260425T122439
CREATED:20210303T054604Z
LAST-MODIFIED:20210401T061343Z
UID:20198-1617822000-1617828300@www.43szepitoksk.hu
SUMMARY:19. forduló (halasztott mérkőzés): BUDAFOKI MTE II
DESCRIPTION:
URL:https://www.43szepitoksk.hu/event/edzes-572/
LOCATION:Budafoki MTE Sporttelep (műfüves pálya)\, Promontor utca 89.\, Budapest\, 1222
CATEGORIES:Bajnoki mérkőzések
ATTACH;FMTTYPE=image/jpeg:https://www.43szepitoksk.hu/wp-content/uploads/2021/02/BLSZvendegBudafok.jpg
END:VEVENT
BEGIN:VEVENT
DTSTART;TZID=Europe/Budapest:20210409T193000
DTEND;TZID=Europe/Budapest:20210409T210000
DTSTAMP:20260425T122439
CREATED:20210303T054651Z
LAST-MODIFIED:20210408T110531Z
UID:20200-1617996600-1618002000@www.43szepitoksk.hu
SUMMARY:Edzés
DESCRIPTION:
URL:https://www.43szepitoksk.hu/event/edzes-573/
LOCATION:III. Kerület TVE Sporttelep\, Kalap utca 2.\, Budapest\, 1037
CATEGORIES:Edzések
ATTACH;FMTTYPE=image/jpeg:https://www.43szepitoksk.hu/wp-content/uploads/2021/01/138139342_1679356328916281_8292479923886329150_n.jpg
END:VEVENT
BEGIN:VEVENT
DTSTART;TZID=Europe/Budapest:20210410T170000
DTEND;TZID=Europe/Budapest:20210410T184500
DTSTAMP:20260425T122439
CREATED:20210303T162229Z
LAST-MODIFIED:20210322T055449Z
UID:20225-1618074000-1618080300@www.43szepitoksk.hu
SUMMARY:23. forduló: FŐV. VÍZMŰVEK SK
DESCRIPTION:
URL:https://www.43szepitoksk.hu/event/22-fordulo-fov-vizmuvek-sk/
LOCATION:III. Kerület TVE Sporttelep\, Kalap utca 2.\, Budapest\, 1037
CATEGORIES:Bajnoki mérkőzések
ATTACH;FMTTYPE=image/jpeg:https://www.43szepitoksk.hu/wp-content/uploads/2021/03/vizhazai.jpg
END:VEVENT
BEGIN:VEVENT
DTSTART;TZID=Europe/Budapest:20210413T193000
DTEND;TZID=Europe/Budapest:20210413T210000
DTSTAMP:20260425T122439
CREATED:20210322T055121Z
LAST-MODIFIED:20210322T055121Z
UID:20405-1618342200-1618347600@www.43szepitoksk.hu
SUMMARY:Edzés
DESCRIPTION:
URL:https://www.43szepitoksk.hu/event/edzes-575/
LOCATION:III. Kerület TVE Sporttelep\, Kalap utca 2.\, Budapest\, 1037
CATEGORIES:Edzések
ATTACH;FMTTYPE=image/jpeg:https://www.43szepitoksk.hu/wp-content/uploads/2021/01/EDZÉS.jpg
END:VEVENT
BEGIN:VEVENT
DTSTART;TZID=Europe/Budapest:20210414T193000
DTEND;TZID=Europe/Budapest:20210414T210000
DTSTAMP:20260425T122439
CREATED:20210322T055224Z
LAST-MODIFIED:20210322T055411Z
UID:20407-1618428600-1618434000@www.43szepitoksk.hu
SUMMARY:Edzés
DESCRIPTION:
URL:https://www.43szepitoksk.hu/event/edzes-576/
LOCATION:III. Kerület TVE Sporttelep\, Kalap utca 2.\, Budapest\, 1037
CATEGORIES:Edzések
ATTACH;FMTTYPE=image/jpeg:https://www.43szepitoksk.hu/wp-content/uploads/2021/01/EDZÉS.jpg
END:VEVENT
BEGIN:VEVENT
DTSTART;TZID=Europe/Budapest:20210415T193000
DTEND;TZID=Europe/Budapest:20210415T210000
DTSTAMP:20260425T122439
CREATED:20210322T055317Z
LAST-MODIFIED:20210322T055341Z
UID:20409-1618515000-1618520400@www.43szepitoksk.hu
SUMMARY:Edzés
DESCRIPTION:
URL:https://www.43szepitoksk.hu/event/edzes-577/
LOCATION:III. Kerület TVE Sporttelep\, Kalap utca 2.\, Budapest\, 1037
CATEGORIES:Edzések
ATTACH;FMTTYPE=image/jpeg:https://www.43szepitoksk.hu/wp-content/uploads/2021/01/EDZÉS.jpg
END:VEVENT
BEGIN:VEVENT
DTSTART;TZID=Europe/Budapest:20210417T153000
DTEND;TZID=Europe/Budapest:20210417T171500
DTSTAMP:20260425T122439
CREATED:20210322T055713Z
LAST-MODIFIED:20210413T064157Z
UID:20412-1618673400-1618679700@www.43szepitoksk.hu
SUMMARY:24. forduló: 1908 SZAC BUDAPEST FC (HALASZTVA)!!!
DESCRIPTION:
URL:https://www.43szepitoksk.hu/event/24-fordulo-1908-szac-budapest-fc/
LOCATION:Deák Ferenc „Bamba” Sportcentrum\, Thököly utca 5.\, Budapest\, 1183
CATEGORIES:Bajnoki mérkőzések
ATTACH;FMTTYPE=image/jpeg:https://www.43szepitoksk.hu/wp-content/uploads/2021/03/BLSZvendegSZAC.jpg
END:VEVENT
BEGIN:VEVENT
DTSTART;TZID=Europe/Budapest:20210420T193000
DTEND;TZID=Europe/Budapest:20210420T210000
DTSTAMP:20260425T122439
CREATED:20210322T061016Z
LAST-MODIFIED:20210322T061016Z
UID:20416-1618947000-1618952400@www.43szepitoksk.hu
SUMMARY:Edzés
DESCRIPTION:
URL:https://www.43szepitoksk.hu/event/edzes-578/
LOCATION:III. Kerület TVE Sporttelep\, Kalap utca 2.\, Budapest\, 1037
CATEGORIES:Edzések
ATTACH;FMTTYPE=image/jpeg:https://www.43szepitoksk.hu/wp-content/uploads/2021/01/EDZÉS.jpg
END:VEVENT
BEGIN:VEVENT
DTSTART;TZID=Europe/Budapest:20210421T194500
DTEND;TZID=Europe/Budapest:20210421T213000
DTSTAMP:20260425T122439
CREATED:20210303T054220Z
LAST-MODIFIED:20210419T063334Z
UID:20194-1619034300-1619040600@www.43szepitoksk.hu
SUMMARY:22. forduló (halasztott): IKARUS BSE
DESCRIPTION:
URL:https://www.43szepitoksk.hu/event/22-fordulo-ikarus-bse-2/
LOCATION:III. Kerület TVE Sporttelep\, Kalap utca 2.\, Budapest\, 1037
CATEGORIES:Bajnoki mérkőzések
ATTACH;FMTTYPE=image/jpeg:https://www.43szepitoksk.hu/wp-content/uploads/2021/03/BLSZhazaiIKA.jpg
END:VEVENT
BEGIN:VEVENT
DTSTART;TZID=Europe/Budapest:20210422T193000
DTEND;TZID=Europe/Budapest:20210422T210000
DTSTAMP:20260425T122439
CREATED:20210322T061147Z
LAST-MODIFIED:20210322T061147Z
UID:20420-1619119800-1619125200@www.43szepitoksk.hu
SUMMARY:Edzés
DESCRIPTION:
URL:https://www.43szepitoksk.hu/event/edzes-580/
LOCATION:III. Kerület TVE Sporttelep\, Kalap utca 2.\, Budapest\, 1037
CATEGORIES:Edzések
ATTACH;FMTTYPE=image/jpeg:https://www.43szepitoksk.hu/wp-content/uploads/2021/01/EDZÉS.jpg
END:VEVENT
BEGIN:VEVENT
DTSTART;TZID=Europe/Budapest:20210424T170000
DTEND;TZID=Europe/Budapest:20210424T184500
DTSTAMP:20260425T122439
CREATED:20210322T061733Z
LAST-MODIFIED:20210322T061733Z
UID:20422-1619283600-1619289900@www.43szepitoksk.hu
SUMMARY:25. forduló: REAC
DESCRIPTION:
URL:https://www.43szepitoksk.hu/event/25-fordulo-reac/
LOCATION:III. Kerület TVE Sporttelep\, Kalap utca 2.\, Budapest\, 1037
CATEGORIES:Bajnoki mérkőzések
ATTACH;FMTTYPE=image/jpeg:https://www.43szepitoksk.hu/wp-content/uploads/2021/03/BLSZhazaiREAC.jpg
END:VEVENT
BEGIN:VEVENT
DTSTART;TZID=Europe/Budapest:20210427T193000
DTEND;TZID=Europe/Budapest:20210427T210000
DTSTAMP:20260425T122439
CREATED:20210323T073127Z
LAST-MODIFIED:20210429T061615Z
UID:20440-1619551800-1619557200@www.43szepitoksk.hu
SUMMARY:Edzés
DESCRIPTION:
URL:https://www.43szepitoksk.hu/event/edzes-581/
LOCATION:III. Kerület TVE Sporttelep\, Kalap utca 2.\, Budapest\, 1037
CATEGORIES:Edzések
ATTACH;FMTTYPE=image/jpeg:https://www.43szepitoksk.hu/wp-content/uploads/2021/01/EDZÉS.jpg
END:VEVENT
BEGIN:VEVENT
DTSTART;TZID=Europe/Budapest:20210429T193000
DTEND;TZID=Europe/Budapest:20210429T210000
DTSTAMP:20260425T122439
CREATED:20210323T073225Z
LAST-MODIFIED:20210429T061759Z
UID:20442-1619724600-1619730000@www.43szepitoksk.hu
SUMMARY:Edzés
DESCRIPTION:
URL:https://www.43szepitoksk.hu/event/edzes-582/
LOCATION:III. Kerület TVE Sporttelep\, Kalap utca 2.\, Budapest\, 1037
CATEGORIES:Edzések
ATTACH;FMTTYPE=image/jpeg:https://www.43szepitoksk.hu/wp-content/uploads/2021/01/EDZÉS.jpg
END:VEVENT
BEGIN:VEVENT
DTSTART;TZID=Europe/Budapest:20210430T193000
DTEND;TZID=Europe/Budapest:20210430T210000
DTSTAMP:20260425T122439
CREATED:20210323T073330Z
LAST-MODIFIED:20210429T061655Z
UID:20444-1619811000-1619816400@www.43szepitoksk.hu
SUMMARY:Edzés
DESCRIPTION:
URL:https://www.43szepitoksk.hu/event/edzes-583/
LOCATION:III. Kerület TVE Sporttelep\, Kalap utca 2.\, Budapest\, 1037
CATEGORIES:Edzések
ATTACH;FMTTYPE=image/jpeg:https://www.43szepitoksk.hu/wp-content/uploads/2021/01/EDZÉS.jpg
END:VEVENT
BEGIN:VEVENT
DTSTART;TZID=Europe/Budapest:20210501T163000
DTEND;TZID=Europe/Budapest:20210501T181500
DTSTAMP:20260425T122439
CREATED:20210323T074528Z
LAST-MODIFIED:20210323T074528Z
UID:20446-1619886600-1619892900@www.43szepitoksk.hu
SUMMARY:26. forduló: KELEN SC
DESCRIPTION:
URL:https://www.43szepitoksk.hu/event/26-fordulo-kelen-sc-3/
LOCATION:Kelen pálya\, Hunyadi Mátyás utca 56.\, Budapest\, 1117
CATEGORIES:Bajnoki mérkőzések
ATTACH;FMTTYPE=image/jpeg:https://www.43szepitoksk.hu/wp-content/uploads/2021/03/BLSZvendegKelen.jpg
END:VEVENT
BEGIN:VEVENT
DTSTART;TZID=Europe/Budapest:20210504T193000
DTEND;TZID=Europe/Budapest:20210504T210000
DTSTAMP:20260425T122439
CREATED:20210417T054530Z
LAST-MODIFIED:20210417T054530Z
UID:20735-1620156600-1620162000@www.43szepitoksk.hu
SUMMARY:Edzés
DESCRIPTION:
URL:https://www.43szepitoksk.hu/event/edzes-584/
LOCATION:III. Kerület TVE Sporttelep\, Kalap utca 2.\, Budapest\, 1037
CATEGORIES:Edzések
ATTACH;FMTTYPE=image/jpeg:https://www.43szepitoksk.hu/wp-content/uploads/2021/01/EDZÉS.jpg
END:VEVENT
BEGIN:VEVENT
DTSTART;TZID=Europe/Budapest:20210505T193000
DTEND;TZID=Europe/Budapest:20210505T210000
DTSTAMP:20260425T122439
CREATED:20210417T151954Z
LAST-MODIFIED:20210417T151954Z
UID:20757-1620243000-1620248400@www.43szepitoksk.hu
SUMMARY:Edzés
DESCRIPTION:
URL:https://www.43szepitoksk.hu/event/edzes-590/
LOCATION:III. Kerület TVE Sporttelep\, Kalap utca 2.\, Budapest\, 1037
CATEGORIES:Edzések
ATTACH;FMTTYPE=image/jpeg:https://www.43szepitoksk.hu/wp-content/uploads/2021/01/EDZÉS.jpg
END:VEVENT
BEGIN:VEVENT
DTSTART;TZID=Europe/Budapest:20210506T193000
DTEND;TZID=Europe/Budapest:20210506T210000
DTSTAMP:20260425T122439
CREATED:20210417T054733Z
LAST-MODIFIED:20210417T055916Z
UID:20739-1620329400-1620334800@www.43szepitoksk.hu
SUMMARY:Edzés
DESCRIPTION:
URL:https://www.43szepitoksk.hu/event/edzes-586/
LOCATION:III. Kerület TVE Sporttelep\, Kalap utca 2.\, Budapest\, 1037
CATEGORIES:Edzések
ATTACH;FMTTYPE=image/jpeg:https://www.43szepitoksk.hu/wp-content/uploads/2021/01/EDZÉS.jpg
END:VEVENT
BEGIN:VEVENT
DTSTART;TZID=Europe/Budapest:20210508T183000
DTEND;TZID=Europe/Budapest:20210508T201500
DTSTAMP:20260425T122439
CREATED:20210417T060101Z
LAST-MODIFIED:20210417T060101Z
UID:20741-1620498600-1620504900@www.43szepitoksk.hu
SUMMARY:25. forduló: RAFC
DESCRIPTION:
URL:https://www.43szepitoksk.hu/event/25-fordulo-rafc/
LOCATION:III. Kerület TVE Sporttelep\, Kalap utca 2.\, Budapest\, 1037
CATEGORIES:Bajnoki mérkőzések
ATTACH;FMTTYPE=image/jpeg:https://www.43szepitoksk.hu/wp-content/uploads/2021/04/BLSZhazaiRAFC.jpg
END:VEVENT
BEGIN:VEVENT
DTSTART;TZID=Europe/Budapest:20210511T193000
DTEND;TZID=Europe/Budapest:20210511T210000
DTSTAMP:20260425T122439
CREATED:20210417T060538Z
LAST-MODIFIED:20210417T060538Z
UID:20744-1620761400-1620766800@www.43szepitoksk.hu
SUMMARY:Edzés
DESCRIPTION:
URL:https://www.43szepitoksk.hu/event/edzes-587/
LOCATION:III. Kerület TVE Sporttelep\, Kalap utca 2.\, Budapest\, 1037
CATEGORIES:Edzések
ATTACH;FMTTYPE=image/jpeg:https://www.43szepitoksk.hu/wp-content/uploads/2021/01/EDZÉS.jpg
END:VEVENT
BEGIN:VEVENT
DTSTART;TZID=Europe/Budapest:20210512T193000
DTEND;TZID=Europe/Budapest:20210512T210000
DTSTAMP:20260425T122439
CREATED:20210417T060625Z
LAST-MODIFIED:20210417T060636Z
UID:20746-1620847800-1620853200@www.43szepitoksk.hu
SUMMARY:Edzés
DESCRIPTION:
URL:https://www.43szepitoksk.hu/event/edzes-588/
LOCATION:III. Kerület TVE Sporttelep\, Kalap utca 2.\, Budapest\, 1037
CATEGORIES:Edzések
ATTACH;FMTTYPE=image/jpeg:https://www.43szepitoksk.hu/wp-content/uploads/2021/01/EDZÉS.jpg
END:VEVENT
BEGIN:VEVENT
DTSTART;TZID=Europe/Budapest:20210513T193000
DTEND;TZID=Europe/Budapest:20210513T210000
DTSTAMP:20260425T122439
CREATED:20210417T060711Z
LAST-MODIFIED:20210417T060711Z
UID:20748-1620934200-1620939600@www.43szepitoksk.hu
SUMMARY:Edzés
DESCRIPTION:
URL:https://www.43szepitoksk.hu/event/edzes-589/
LOCATION:III. Kerület TVE Sporttelep\, Kalap utca 2.\, Budapest\, 1037
CATEGORIES:Edzések
ATTACH;FMTTYPE=image/jpeg:https://www.43szepitoksk.hu/wp-content/uploads/2021/01/EDZÉS.jpg
END:VEVENT
BEGIN:VEVENT
DTSTART;TZID=Europe/Budapest:20210516T173000
DTEND;TZID=Europe/Budapest:20210516T191500
DTSTAMP:20260425T122439
CREATED:20210417T061119Z
LAST-MODIFIED:20210510T063842Z
UID:20750-1621186200-1621192500@www.43szepitoksk.hu
SUMMARY:28. forduló: TESTVÉRISÉG SE
DESCRIPTION:
URL:https://www.43szepitoksk.hu/event/29-fordulo-testveriseg-se/
LOCATION:Barátság sporttelep\, Bánkút utca 71.\, Budapest\, 1145
CATEGORIES:Bajnoki mérkőzések
ATTACH;FMTTYPE=image/jpeg:https://www.43szepitoksk.hu/wp-content/uploads/2021/04/BLSZvendegTesi.jpg
END:VEVENT
BEGIN:VEVENT
DTSTART;TZID=Europe/Budapest:20210518T193000
DTEND;TZID=Europe/Budapest:20210518T210000
DTSTAMP:20260425T122439
CREATED:20210417T054618Z
LAST-MODIFIED:20210417T151827Z
UID:20737-1621366200-1621371600@www.43szepitoksk.hu
SUMMARY:Edzés
DESCRIPTION:
URL:https://www.43szepitoksk.hu/event/edzes-585/
LOCATION:III. Kerület TVE Sporttelep\, Kalap utca 2.\, Budapest\, 1037
CATEGORIES:Edzések
ATTACH;FMTTYPE=image/jpeg:https://www.43szepitoksk.hu/wp-content/uploads/2021/01/EDZÉS.jpg
END:VEVENT
BEGIN:VEVENT
DTSTART;TZID=Europe/Budapest:20210519T190000
DTEND;TZID=Europe/Budapest:20210519T204500
DTSTAMP:20260425T122439
CREATED:20210419T063021Z
LAST-MODIFIED:20210419T063021Z
UID:20768-1621450800-1621457100@www.43szepitoksk.hu
SUMMARY:24. forduló (halasztott): 1908 SZAC BUDAPEST FC
DESCRIPTION:
URL:https://www.43szepitoksk.hu/event/24-fordulo-halasztott-1908-szac-budapest-fc/
LOCATION:Deák Ferenc „Bamba” Sportcentrum\, Thököly utca 5.\, Budapest\, 1183
CATEGORIES:Bajnoki mérkőzések
ATTACH;FMTTYPE=image/jpeg:https://www.43szepitoksk.hu/wp-content/uploads/2021/03/BLSZvendegSZAC.jpg
END:VEVENT
END:VCALENDAR