BEGIN:VCALENDAR
VERSION:2.0
PRODID:-//43. sz. Építők SK - ECPv6.14.0//NONSGML v1.0//EN
CALSCALE:GREGORIAN
METHOD:PUBLISH
X-ORIGINAL-URL:https://www.43szepitoksk.hu
X-WR-CALDESC:Események 43. sz. Építők SK
REFRESH-INTERVAL;VALUE=DURATION:PT1H
X-Robots-Tag:noindex
X-PUBLISHED-TTL:PT1H
BEGIN:VTIMEZONE
TZID:Europe/Budapest
BEGIN:DAYLIGHT
TZOFFSETFROM:+0100
TZOFFSETTO:+0200
TZNAME:CEST
DTSTART:20210328T010000
END:DAYLIGHT
BEGIN:STANDARD
TZOFFSETFROM:+0200
TZOFFSETTO:+0100
TZNAME:CET
DTSTART:20211031T010000
END:STANDARD
END:VTIMEZONE
BEGIN:VEVENT
DTSTART;TZID=Europe/Budapest:20210925T170000
DTEND;TZID=Europe/Budapest:20210925T184500
DTSTAMP:20260425T023058
CREATED:20210913T051424Z
LAST-MODIFIED:20210913T051424Z
UID:22408-1632589200-1632595500@www.43szepitoksk.hu
SUMMARY:BLSZI. 6. forduló: BUDAFOKI MTE II
DESCRIPTION:
URL:https://www.43szepitoksk.hu/event/blszi-6-fordulo-budafoki-mte-ii/
LOCATION:III. Kerület TVE Sporttelep\, Kalap utca 2.\, Budapest\, 1037
CATEGORIES:Bajnoki mérkőzések
ATTACH;FMTTYPE=image/jpeg:https://www.43szepitoksk.hu/wp-content/uploads/2021/09/BLSZhazaiBMTE.jpg
END:VEVENT
BEGIN:VEVENT
DTSTART;TZID=Europe/Budapest:20210928T193000
DTEND;TZID=Europe/Budapest:20210928T210000
DTSTAMP:20260425T023058
CREATED:20210913T051505Z
LAST-MODIFIED:20210913T051505Z
UID:22411-1632857400-1632862800@www.43szepitoksk.hu
SUMMARY:Edzés
DESCRIPTION:
URL:https://www.43szepitoksk.hu/event/edzes-627/
LOCATION:III. Kerület TVE Sporttelep\, Kalap utca 2.\, Budapest\, 1037
CATEGORIES:Edzések
ATTACH;FMTTYPE=image/jpeg:https://www.43szepitoksk.hu/wp-content/uploads/2021/09/IMG_5797-scaled.jpg
END:VEVENT
BEGIN:VEVENT
DTSTART;TZID=Europe/Budapest:20210929T193000
DTEND;TZID=Europe/Budapest:20210929T210000
DTSTAMP:20260425T023058
CREATED:20210913T051543Z
LAST-MODIFIED:20210913T051543Z
UID:22413-1632943800-1632949200@www.43szepitoksk.hu
SUMMARY:Edzés
DESCRIPTION:
URL:https://www.43szepitoksk.hu/event/edzes-628/
LOCATION:III. Kerület TVE Sporttelep\, Kalap utca 2.\, Budapest\, 1037
CATEGORIES:Edzések
ATTACH;FMTTYPE=image/jpeg:https://www.43szepitoksk.hu/wp-content/uploads/2021/09/IMG_5797-scaled.jpg
END:VEVENT
BEGIN:VEVENT
DTSTART;TZID=Europe/Budapest:20210930T193000
DTEND;TZID=Europe/Budapest:20210930T210000
DTSTAMP:20260425T023058
CREATED:20210913T051627Z
LAST-MODIFIED:20210913T051627Z
UID:22415-1633030200-1633035600@www.43szepitoksk.hu
SUMMARY:Edzés
DESCRIPTION:
URL:https://www.43szepitoksk.hu/event/edzes-629/
LOCATION:III. Kerület TVE Sporttelep\, Kalap utca 2.\, Budapest\, 1037
CATEGORIES:Edzések
ATTACH;FMTTYPE=image/jpeg:https://www.43szepitoksk.hu/wp-content/uploads/2021/09/IMG_5797-scaled.jpg
END:VEVENT
BEGIN:VEVENT
DTSTART;TZID=Europe/Budapest:20211005T193000
DTEND;TZID=Europe/Budapest:20211005T210000
DTSTAMP:20260425T023058
CREATED:20210913T054623Z
LAST-MODIFIED:20210913T054623Z
UID:22417-1633462200-1633467600@www.43szepitoksk.hu
SUMMARY:Edzés
DESCRIPTION:
URL:https://www.43szepitoksk.hu/event/edzes-630/
LOCATION:III. Kerület TVE Sporttelep\, Kalap utca 2.\, Budapest\, 1037
CATEGORIES:Edzések
ATTACH;FMTTYPE=image/jpeg:https://www.43szepitoksk.hu/wp-content/uploads/2021/09/IMG_5797-scaled.jpg
END:VEVENT
BEGIN:VEVENT
DTSTART;TZID=Europe/Budapest:20211006T193000
DTEND;TZID=Europe/Budapest:20211006T210000
DTSTAMP:20260425T023058
CREATED:20210915T063221Z
LAST-MODIFIED:20210929T071451Z
UID:22445-1633548600-1633554000@www.43szepitoksk.hu
SUMMARY:Edzés
DESCRIPTION:
URL:https://www.43szepitoksk.hu/event/edzes-633/
CATEGORIES:Edzések
ATTACH;FMTTYPE=image/jpeg:https://www.43szepitoksk.hu/wp-content/uploads/2021/09/IMG_5797-scaled.jpg
END:VEVENT
BEGIN:VEVENT
DTSTART;TZID=Europe/Budapest:20211007T193000
DTEND;TZID=Europe/Budapest:20211007T210000
DTSTAMP:20260425T023058
CREATED:20210913T054853Z
LAST-MODIFIED:20210913T054853Z
UID:22422-1633635000-1633640400@www.43szepitoksk.hu
SUMMARY:Edzés
DESCRIPTION:
URL:https://www.43szepitoksk.hu/event/edzes-631/
LOCATION:III. Kerület TVE Sporttelep\, Kalap utca 2.\, Budapest\, 1037
CATEGORIES:Edzések
ATTACH;FMTTYPE=image/jpeg:https://www.43szepitoksk.hu/wp-content/uploads/2021/09/IMG_5797-scaled.jpg
END:VEVENT
BEGIN:VEVENT
DTSTART;TZID=Europe/Budapest:20211009T170000
DTEND;TZID=Europe/Budapest:20211009T184500
DTSTAMP:20260425T023058
CREATED:20210913T055013Z
LAST-MODIFIED:20210913T055013Z
UID:22424-1633798800-1633805100@www.43szepitoksk.hu
SUMMARY:BLSZI. 8. forduló: CSEPEL FC
DESCRIPTION:
URL:https://www.43szepitoksk.hu/event/blszi-8-fordulo-csepel-fc/
LOCATION:III. Kerület TVE Sporttelep\, Kalap utca 2.\, Budapest\, 1037
CATEGORIES:Bajnoki mérkőzések
ATTACH;FMTTYPE=image/jpeg:https://www.43szepitoksk.hu/wp-content/uploads/2021/09/BLSZhazaiCsepel.jpg
END:VEVENT
BEGIN:VEVENT
DTSTART;TZID=Europe/Budapest:20211012T193000
DTEND;TZID=Europe/Budapest:20211012T210000
DTSTAMP:20260425T023058
CREATED:20210915T063131Z
LAST-MODIFIED:20210915T063131Z
UID:22443-1634067000-1634072400@www.43szepitoksk.hu
SUMMARY:Edzés
DESCRIPTION:
URL:https://www.43szepitoksk.hu/event/edzes-632/
LOCATION:III. Kerület TVE Sporttelep\, Kalap utca 2.\, Budapest\, 1037
CATEGORIES:Edzések
ATTACH;FMTTYPE=image/jpeg:https://www.43szepitoksk.hu/wp-content/uploads/2021/09/IMG_5797-scaled.jpg
END:VEVENT
BEGIN:VEVENT
DTSTART;TZID=Europe/Budapest:20211013T193000
DTEND;TZID=Europe/Budapest:20211013T211500
DTSTAMP:20260425T023058
CREATED:20210913T054816Z
LAST-MODIFIED:20210929T071422Z
UID:22419-1634153400-1634159700@www.43szepitoksk.hu
SUMMARY:BLSZI. 7. forduló: UNIONE FC
DESCRIPTION:
URL:https://www.43szepitoksk.hu/event/blszi-7-fordulo-unione-fc/
LOCATION:III. Kerület TVE Sporttelep\, Kalap utca 2.\, Budapest\, 1037
CATEGORIES:Bajnoki mérkőzések
ATTACH;FMTTYPE=image/jpeg:https://www.43szepitoksk.hu/wp-content/uploads/2021/09/Unione43sz.jpg
END:VEVENT
BEGIN:VEVENT
DTSTART;TZID=Europe/Budapest:20211014T193000
DTEND;TZID=Europe/Budapest:20211014T210000
DTSTAMP:20260425T023058
CREATED:20210915T063318Z
LAST-MODIFIED:20210915T063318Z
UID:22447-1634239800-1634245200@www.43szepitoksk.hu
SUMMARY:Edzés
DESCRIPTION:
URL:https://www.43szepitoksk.hu/event/edzes-634/
LOCATION:III. Kerület TVE Sporttelep\, Kalap utca 2.\, Budapest\, 1037
CATEGORIES:Edzések
ATTACH;FMTTYPE=image/jpeg:https://www.43szepitoksk.hu/wp-content/uploads/2021/09/IMG_5797-scaled.jpg
END:VEVENT
BEGIN:VEVENT
DTSTART;TZID=Europe/Budapest:20211016T110000
DTEND;TZID=Europe/Budapest:20211016T124500
DTSTAMP:20260425T023058
CREATED:20210915T063529Z
LAST-MODIFIED:20210915T064629Z
UID:22449-1634382000-1634388300@www.43szepitoksk.hu
SUMMARY:BLSZI. 9. forduló: ASR GÁZGYÁR
DESCRIPTION:
URL:https://www.43szepitoksk.hu/event/blszi-9-fordulo-asr-gazgyar/
LOCATION:Gázművek sporttelep\, Sujtás utca 2-4.\, Budapest\, 1031
CATEGORIES:Bajnoki mérkőzések
ATTACH;FMTTYPE=image/jpeg:https://www.43szepitoksk.hu/wp-content/uploads/2021/09/gazvendeg.jpg
END:VEVENT
BEGIN:VEVENT
DTSTART;TZID=Europe/Budapest:20211019T193000
DTEND;TZID=Europe/Budapest:20211019T210000
DTSTAMP:20260425T023058
CREATED:20211004T064031Z
LAST-MODIFIED:20211004T064229Z
UID:22706-1634671800-1634677200@www.43szepitoksk.hu
SUMMARY:Edzés
DESCRIPTION:
URL:https://www.43szepitoksk.hu/event/edzes-635/
LOCATION:III. Kerület TVE Sporttelep\, Kalap utca 2.\, Budapest\, 1037
CATEGORIES:Edzések
ATTACH;FMTTYPE=image/jpeg:https://www.43szepitoksk.hu/wp-content/uploads/2021/09/IMG_6439-scaled-e1632465099396.jpg
END:VEVENT
BEGIN:VEVENT
DTSTART;TZID=Europe/Budapest:20211020T193000
DTEND;TZID=Europe/Budapest:20211020T210000
DTSTAMP:20260425T023058
CREATED:20211004T064115Z
LAST-MODIFIED:20211004T064115Z
UID:22708-1634758200-1634763600@www.43szepitoksk.hu
SUMMARY:Edzés
DESCRIPTION:
URL:https://www.43szepitoksk.hu/event/edzes-636/
LOCATION:III. Kerület TVE Sporttelep\, Kalap utca 2.\, Budapest\, 1037
CATEGORIES:Edzések
ATTACH;FMTTYPE=image/jpeg:https://www.43szepitoksk.hu/wp-content/uploads/2021/09/IMG_6439-scaled-e1632465099396.jpg
END:VEVENT
BEGIN:VEVENT
DTSTART;TZID=Europe/Budapest:20211021T193000
DTEND;TZID=Europe/Budapest:20211021T210000
DTSTAMP:20260425T023058
CREATED:20211004T064208Z
LAST-MODIFIED:20211004T064208Z
UID:22710-1634844600-1634850000@www.43szepitoksk.hu
SUMMARY:Edzés
DESCRIPTION:
URL:https://www.43szepitoksk.hu/event/edzes-637/
LOCATION:III. Kerület TVE Sporttelep\, Kalap utca 2.\, Budapest\, 1037
CATEGORIES:Edzések
ATTACH;FMTTYPE=image/jpeg:https://www.43szepitoksk.hu/wp-content/uploads/2021/09/IMG_6439-scaled-e1632465099396.jpg
END:VEVENT
BEGIN:VEVENT
DTSTART;TZID=Europe/Budapest:20211022T203000
DTEND;TZID=Europe/Budapest:20211022T221500
DTSTAMP:20260425T023058
CREATED:20211004T064537Z
LAST-MODIFIED:20211017T074242Z
UID:22712-1634934600-1634940900@www.43szepitoksk.hu
SUMMARY:10. forduló: SVÁBHEGY FC
DESCRIPTION:
URL:https://www.43szepitoksk.hu/event/10-fordulo-svabhegy-fc-2/
LOCATION:LV Sport Pénzügyőr\, Kőér utca 1/A.\, Budapest\, 1103
CATEGORIES:Bajnoki mérkőzések
ATTACH;FMTTYPE=image/jpeg:https://www.43szepitoksk.hu/wp-content/uploads/2021/10/BLSZvendegSvabhegy.jpg
END:VEVENT
BEGIN:VEVENT
DTSTART;TZID=Europe/Budapest:20211026T193000
DTEND;TZID=Europe/Budapest:20211026T210000
DTSTAMP:20260425T023058
CREATED:20211004T064624Z
LAST-MODIFIED:20211004T064624Z
UID:22715-1635276600-1635282000@www.43szepitoksk.hu
SUMMARY:Edzés
DESCRIPTION:
URL:https://www.43szepitoksk.hu/event/edzes-638/
LOCATION:III. Kerület TVE Sporttelep\, Kalap utca 2.\, Budapest\, 1037
CATEGORIES:Edzések
ATTACH;FMTTYPE=image/jpeg:https://www.43szepitoksk.hu/wp-content/uploads/2021/09/IMG_6439-scaled-e1632465099396.jpg
END:VEVENT
BEGIN:VEVENT
DTSTART;TZID=Europe/Budapest:20211027T193000
DTEND;TZID=Europe/Budapest:20211027T210000
DTSTAMP:20260425T023058
CREATED:20211004T064702Z
LAST-MODIFIED:20211004T064702Z
UID:22717-1635363000-1635368400@www.43szepitoksk.hu
SUMMARY:Edzés
DESCRIPTION:
URL:https://www.43szepitoksk.hu/event/edzes-639/
LOCATION:III. Kerület TVE Sporttelep\, Kalap utca 2.\, Budapest\, 1037
CATEGORIES:Edzések
ATTACH;FMTTYPE=image/jpeg:https://www.43szepitoksk.hu/wp-content/uploads/2021/09/IMG_6439-scaled-e1632465099396.jpg
END:VEVENT
BEGIN:VEVENT
DTSTART;TZID=Europe/Budapest:20211028T193000
DTEND;TZID=Europe/Budapest:20211028T210000
DTSTAMP:20260425T023058
CREATED:20211004T064739Z
LAST-MODIFIED:20211004T064739Z
UID:22719-1635449400-1635454800@www.43szepitoksk.hu
SUMMARY:Edzés
DESCRIPTION:
URL:https://www.43szepitoksk.hu/event/edzes-640/
LOCATION:III. Kerület TVE Sporttelep\, Kalap utca 2.\, Budapest\, 1037
CATEGORIES:Edzések
ATTACH;FMTTYPE=image/jpeg:https://www.43szepitoksk.hu/wp-content/uploads/2021/09/IMG_6439-scaled-e1632465099396.jpg
END:VEVENT
BEGIN:VEVENT
DTSTART;TZID=Europe/Budapest:20211030T170000
DTEND;TZID=Europe/Budapest:20211030T184500
DTSTAMP:20260425T023058
CREATED:20211004T064853Z
LAST-MODIFIED:20211004T064853Z
UID:22721-1635613200-1635619500@www.43szepitoksk.hu
SUMMARY:11. forduló: IKARUS BSE-FEJLŐDŐ KERTVÁROS
DESCRIPTION:
URL:https://www.43szepitoksk.hu/event/11-fordulo-ikarus-bse-fejlodo-kertvaros/
LOCATION:III. Kerület TVE Sporttelep\, Kalap utca 2.\, Budapest\, 1037
CATEGORIES:Bajnoki mérkőzések
ATTACH;FMTTYPE=image/jpeg:https://www.43szepitoksk.hu/wp-content/uploads/2021/10/BLSZhazaiIKA.jpg
END:VEVENT
BEGIN:VEVENT
DTSTART;TZID=Europe/Budapest:20211102T193000
DTEND;TZID=Europe/Budapest:20211102T210000
DTSTAMP:20260425T023058
CREATED:20211028T051628Z
LAST-MODIFIED:20211028T051628Z
UID:23092-1635881400-1635886800@www.43szepitoksk.hu
SUMMARY:Edzés
DESCRIPTION:
URL:https://www.43szepitoksk.hu/event/edzes-641/
LOCATION:III. Kerület TVE Sporttelep\, Kalap utca 2.\, Budapest\, 1037
CATEGORIES:Edzések
ATTACH;FMTTYPE=image/jpeg:https://www.43szepitoksk.hu/wp-content/uploads/2021/10/IMG_5756-scaled.jpg
END:VEVENT
BEGIN:VEVENT
DTSTART;TZID=Europe/Budapest:20211103T193000
DTEND;TZID=Europe/Budapest:20211103T210000
DTSTAMP:20260425T023058
CREATED:20211028T051709Z
LAST-MODIFIED:20211028T051709Z
UID:23095-1635967800-1635973200@www.43szepitoksk.hu
SUMMARY:Edzés
DESCRIPTION:
URL:https://www.43szepitoksk.hu/event/edzes-642/
LOCATION:III. Kerület TVE Sporttelep\, Kalap utca 2.\, Budapest\, 1037
CATEGORIES:Edzések
ATTACH;FMTTYPE=image/jpeg:https://www.43szepitoksk.hu/wp-content/uploads/2021/10/IMG_5756-scaled.jpg
END:VEVENT
BEGIN:VEVENT
DTSTART;TZID=Europe/Budapest:20211104T193000
DTEND;TZID=Europe/Budapest:20211104T210000
DTSTAMP:20260425T023058
CREATED:20211028T051753Z
LAST-MODIFIED:20211028T051912Z
UID:23097-1636054200-1636059600@www.43szepitoksk.hu
SUMMARY:Edzés
DESCRIPTION:
URL:https://www.43szepitoksk.hu/event/edzes-643/
LOCATION:III. Kerület TVE Sporttelep\, Kalap utca 2.\, Budapest\, 1037
CATEGORIES:Edzések
ATTACH;FMTTYPE=image/jpeg:https://www.43szepitoksk.hu/wp-content/uploads/2021/10/IMG_5756-scaled.jpg
END:VEVENT
BEGIN:VEVENT
DTSTART;TZID=Europe/Budapest:20211106T133000
DTEND;TZID=Europe/Budapest:20211106T151500
DTSTAMP:20260425T023058
CREATED:20211028T052055Z
LAST-MODIFIED:20211028T052705Z
UID:23099-1636205400-1636211700@www.43szepitoksk.hu
SUMMARY:12. forduló: CSEP-GÓL FC
DESCRIPTION:
URL:https://www.43szepitoksk.hu/event/12-fordulo-csep-gol-fc/
LOCATION:Csep-Gól Aréna\, Dunadűlő utca 2-4.\, Budapest\, 1215
CATEGORIES:Bajnoki mérkőzések
ATTACH;FMTTYPE=image/jpeg:https://www.43szepitoksk.hu/wp-content/uploads/2021/10/BLSZvendegCsepgol.jpg
END:VEVENT
BEGIN:VEVENT
DTSTART;TZID=Europe/Budapest:20211109T193000
DTEND;TZID=Europe/Budapest:20211109T210000
DTSTAMP:20260425T023058
CREATED:20211028T052741Z
LAST-MODIFIED:20211028T052741Z
UID:23102-1636486200-1636491600@www.43szepitoksk.hu
SUMMARY:Edzés
DESCRIPTION:
URL:https://www.43szepitoksk.hu/event/edzes-644/
LOCATION:III. Kerület TVE Sporttelep\, Kalap utca 2.\, Budapest\, 1037
CATEGORIES:Edzések
ATTACH;FMTTYPE=image/jpeg:https://www.43szepitoksk.hu/wp-content/uploads/2021/10/IMG_5756-scaled.jpg
END:VEVENT
BEGIN:VEVENT
DTSTART;TZID=Europe/Budapest:20211110T193000
DTEND;TZID=Europe/Budapest:20211110T210000
DTSTAMP:20260425T023058
CREATED:20211028T052826Z
LAST-MODIFIED:20211028T052826Z
UID:23104-1636572600-1636578000@www.43szepitoksk.hu
SUMMARY:Edzés
DESCRIPTION:
URL:https://www.43szepitoksk.hu/event/edzes-645/
LOCATION:III. Kerület TVE Sporttelep\, Kalap utca 2.\, Budapest\, 1037
CATEGORIES:Edzések
ATTACH;FMTTYPE=image/jpeg:https://www.43szepitoksk.hu/wp-content/uploads/2021/10/IMG_5756-scaled.jpg
END:VEVENT
BEGIN:VEVENT
DTSTART;TZID=Europe/Budapest:20211111T193000
DTEND;TZID=Europe/Budapest:20211111T210000
DTSTAMP:20260425T023058
CREATED:20211028T052939Z
LAST-MODIFIED:20211028T052939Z
UID:23106-1636659000-1636664400@www.43szepitoksk.hu
SUMMARY:Edzés
DESCRIPTION:
URL:https://www.43szepitoksk.hu/event/edzes-646/
LOCATION:III. Kerület TVE Sporttelep\, Kalap utca 2.\, Budapest\, 1037
CATEGORIES:Edzések
ATTACH;FMTTYPE=image/jpeg:https://www.43szepitoksk.hu/wp-content/uploads/2021/10/IMG_5756-scaled.jpg
END:VEVENT
BEGIN:VEVENT
DTSTART;TZID=Europe/Budapest:20211113T170000
DTEND;TZID=Europe/Budapest:20211113T194500
DTSTAMP:20260425T023058
CREATED:20211028T053126Z
LAST-MODIFIED:20211110T071605Z
UID:23108-1636822800-1636832700@www.43szepitoksk.hu
SUMMARY:13. forduló: REAC
DESCRIPTION:
URL:https://www.43szepitoksk.hu/event/13-fordulo-reac-2/
LOCATION:III. Kerület TVE Sporttelep\, Kalap utca 2.\, Budapest\, 1037
CATEGORIES:Bajnoki mérkőzések
ATTACH;FMTTYPE=image/jpeg:https://www.43szepitoksk.hu/wp-content/uploads/2021/10/BLSZhazaiREAC.jpg
END:VEVENT
BEGIN:VEVENT
DTSTART;TZID=Europe/Budapest:20211116T193000
DTEND;TZID=Europe/Budapest:20211116T210000
DTSTAMP:20260425T023058
CREATED:20211110T055840Z
LAST-MODIFIED:20211110T055840Z
UID:23258-1637091000-1637096400@www.43szepitoksk.hu
SUMMARY:Edzés
DESCRIPTION:
URL:https://www.43szepitoksk.hu/event/edzes-647/
LOCATION:III. Kerület TVE Sporttelep\, Kalap utca 2.\, Budapest\, 1037
CATEGORIES:Edzések
ATTACH;FMTTYPE=image/jpeg:https://www.43szepitoksk.hu/wp-content/uploads/2021/10/IMG_5756-scaled.jpg
END:VEVENT
BEGIN:VEVENT
DTSTART;TZID=Europe/Budapest:20211117T193000
DTEND;TZID=Europe/Budapest:20211117T210000
DTSTAMP:20260425T023058
CREATED:20211110T055917Z
LAST-MODIFIED:20211110T055917Z
UID:23260-1637177400-1637182800@www.43szepitoksk.hu
SUMMARY:Edzés
DESCRIPTION:
URL:https://www.43szepitoksk.hu/event/edzes-648/
LOCATION:III. Kerület TVE Sporttelep\, Kalap utca 2.\, Budapest\, 1037
CATEGORIES:Edzések
END:VEVENT
END:VCALENDAR