BEGIN:VCALENDAR
VERSION:2.0
PRODID:-//43. sz. Építők SK - ECPv6.14.0//NONSGML v1.0//EN
CALSCALE:GREGORIAN
METHOD:PUBLISH
X-ORIGINAL-URL:https://www.43szepitoksk.hu
X-WR-CALDESC:Események 43. sz. Építők SK
REFRESH-INTERVAL;VALUE=DURATION:PT1H
X-Robots-Tag:noindex
X-PUBLISHED-TTL:PT1H
BEGIN:VTIMEZONE
TZID:Europe/Budapest
BEGIN:DAYLIGHT
TZOFFSETFROM:+0100
TZOFFSETTO:+0200
TZNAME:CEST
DTSTART:20220327T010000
END:DAYLIGHT
BEGIN:STANDARD
TZOFFSETFROM:+0200
TZOFFSETTO:+0100
TZNAME:CET
DTSTART:20221030T010000
END:STANDARD
END:VTIMEZONE
BEGIN:VEVENT
DTSTART;TZID=Europe/Budapest:20220517T193000
DTEND;TZID=Europe/Budapest:20220517T210000
DTSTAMP:20260424T124023
CREATED:20220508T184235Z
LAST-MODIFIED:20220508T184235Z
UID:25333-1652815800-1652821200@www.43szepitoksk.hu
SUMMARY:Edzés
DESCRIPTION:
URL:https://www.43szepitoksk.hu/event/edzes-701/
LOCATION:III. Kerület TVE Sporttelep\, Kalap utca 2.\, Budapest\, 1037
CATEGORIES:Edzések
ATTACH;FMTTYPE=image/jpeg:https://www.43szepitoksk.hu/wp-content/uploads/2022/04/278619511_8155414964484226_4659357652970816995_n.jpg
END:VEVENT
BEGIN:VEVENT
DTSTART;TZID=Europe/Budapest:20220518T193000
DTEND;TZID=Europe/Budapest:20220518T210000
DTSTAMP:20260424T124023
CREATED:20220508T184319Z
LAST-MODIFIED:20220508T184319Z
UID:25335-1652902200-1652907600@www.43szepitoksk.hu
SUMMARY:Edzés
DESCRIPTION:
URL:https://www.43szepitoksk.hu/event/edzes-702/
LOCATION:III. Kerület TVE Sporttelep\, Kalap utca 2.\, Budapest\, 1037
CATEGORIES:Edzések
ATTACH;FMTTYPE=image/jpeg:https://www.43szepitoksk.hu/wp-content/uploads/2022/04/278619511_8155414964484226_4659357652970816995_n.jpg
END:VEVENT
BEGIN:VEVENT
DTSTART;TZID=Europe/Budapest:20220519T193000
DTEND;TZID=Europe/Budapest:20220519T210000
DTSTAMP:20260424T124023
CREATED:20220508T184402Z
LAST-MODIFIED:20220508T184402Z
UID:25337-1652988600-1652994000@www.43szepitoksk.hu
SUMMARY:Edzés
DESCRIPTION:
URL:https://www.43szepitoksk.hu/event/edzes-703/
LOCATION:III. Kerület TVE Sporttelep\, Kalap utca 2.\, Budapest\, 1037
CATEGORIES:Edzések
ATTACH;FMTTYPE=image/jpeg:https://www.43szepitoksk.hu/wp-content/uploads/2022/04/278619511_8155414964484226_4659357652970816995_n.jpg
END:VEVENT
BEGIN:VEVENT
DTSTART;TZID=Europe/Budapest:20220521T170000
DTEND;TZID=Europe/Budapest:20220521T184500
DTSTAMP:20260424T124023
CREATED:20220508T184530Z
LAST-MODIFIED:20220508T184530Z
UID:25339-1653152400-1653158700@www.43szepitoksk.hu
SUMMARY:BLSZI. 29. forduló: PÉNZÜGYŐR SE
DESCRIPTION:
URL:https://www.43szepitoksk.hu/event/blszi-29-fordulo-penzugyor-se/
LOCATION:III. Kerület TVE Sporttelep\, Kalap utca 2.\, Budapest\, 1037
CATEGORIES:Bajnoki mérkőzések
ATTACH;FMTTYPE=image/jpeg:https://www.43szepitoksk.hu/wp-content/uploads/2020/11/BLSZhazai.pénzügyőr.jpg
END:VEVENT
BEGIN:VEVENT
DTSTART;TZID=Europe/Budapest:20220524T193000
DTEND;TZID=Europe/Budapest:20220524T210000
DTSTAMP:20260424T124023
CREATED:20220508T184626Z
LAST-MODIFIED:20220508T184626Z
UID:25341-1653420600-1653426000@www.43szepitoksk.hu
SUMMARY:Edzés
DESCRIPTION:
URL:https://www.43szepitoksk.hu/event/edzes-704/
LOCATION:III. Kerület TVE Sporttelep\, Kalap utca 2.\, Budapest\, 1037
CATEGORIES:Edzések
ATTACH;FMTTYPE=image/jpeg:https://www.43szepitoksk.hu/wp-content/uploads/2022/04/278619511_8155414964484226_4659357652970816995_n.jpg
END:VEVENT
BEGIN:VEVENT
DTSTART;TZID=Europe/Budapest:20220525T193000
DTEND;TZID=Europe/Budapest:20220525T210000
DTSTAMP:20260424T124023
CREATED:20220508T184717Z
LAST-MODIFIED:20220508T184717Z
UID:25343-1653507000-1653512400@www.43szepitoksk.hu
SUMMARY:Edzés
DESCRIPTION:
URL:https://www.43szepitoksk.hu/event/edzes-705/
LOCATION:III. Kerület TVE Sporttelep\, Kalap utca 2.\, Budapest\, 1037
CATEGORIES:Edzések
ATTACH;FMTTYPE=image/jpeg:https://www.43szepitoksk.hu/wp-content/uploads/2022/04/278619511_8155414964484226_4659357652970816995_n.jpg
END:VEVENT
BEGIN:VEVENT
DTSTART;TZID=Europe/Budapest:20220526T193000
DTEND;TZID=Europe/Budapest:20220526T210000
DTSTAMP:20260424T124023
CREATED:20220508T184802Z
LAST-MODIFIED:20220508T184802Z
UID:25345-1653593400-1653598800@www.43szepitoksk.hu
SUMMARY:Edzés
DESCRIPTION:
URL:https://www.43szepitoksk.hu/event/edzes-706/
LOCATION:III. Kerület TVE Sporttelep\, Kalap utca 2.\, Budapest\, 1037
CATEGORIES:Edzések
ATTACH;FMTTYPE=image/jpeg:https://www.43szepitoksk.hu/wp-content/uploads/2022/04/278619511_8155414964484226_4659357652970816995_n.jpg
END:VEVENT
BEGIN:VEVENT
DTSTART;TZID=Europe/Budapest:20220528T130000
DTEND;TZID=Europe/Budapest:20220528T144500
DTSTAMP:20260424T124023
CREATED:20220508T184911Z
LAST-MODIFIED:20220523T055151Z
UID:25347-1653742800-1653749100@www.43szepitoksk.hu
SUMMARY:BLSZI. 30. forduló: MUN SE
DESCRIPTION:
URL:https://www.43szepitoksk.hu/event/blszi-30-fordulo-mun-se/
LOCATION:Budafoki MTE Sporttelep (műfüves pálya)\, Promontor utca 89.\, Budapest\, 1222
CATEGORIES:Bajnoki mérkőzések
ATTACH;FMTTYPE=image/jpeg:https://www.43szepitoksk.hu/wp-content/uploads/2022/05/BLSZvendegMun-e1653631814746.jpg
END:VEVENT
BEGIN:VEVENT
DTSTART;TZID=Europe/Budapest:20220712T193000
DTEND;TZID=Europe/Budapest:20220712T210000
DTSTAMP:20260424T124023
CREATED:20220605T084640Z
LAST-MODIFIED:20220605T084640Z
UID:25567-1657654200-1657659600@www.43szepitoksk.hu
SUMMARY:Edzés
DESCRIPTION:
URL:https://www.43szepitoksk.hu/event/edzes-711/
LOCATION:III. Kerület TVE Sporttelep\, Kalap utca 2.\, Budapest\, 1037
CATEGORIES:Edzések
ATTACH;FMTTYPE=image/jpeg:https://www.43szepitoksk.hu/wp-content/uploads/2022/04/278619511_8155414964484226_4659357652970816995_n.jpg
END:VEVENT
BEGIN:VEVENT
DTSTART;TZID=Europe/Budapest:20220714T193000
DTEND;TZID=Europe/Budapest:20220714T210000
DTSTAMP:20260424T124023
CREATED:20220605T084740Z
LAST-MODIFIED:20220605T084740Z
UID:25569-1657827000-1657832400@www.43szepitoksk.hu
SUMMARY:Edzés
DESCRIPTION:
URL:https://www.43szepitoksk.hu/event/edzes-712/
LOCATION:III. Kerület TVE Sporttelep\, Kalap utca 2.\, Budapest\, 1037
CATEGORIES:Edzések
ATTACH;FMTTYPE=image/jpeg:https://www.43szepitoksk.hu/wp-content/uploads/2022/04/278619511_8155414964484226_4659357652970816995_n.jpg
END:VEVENT
BEGIN:VEVENT
DTSTART;TZID=Europe/Budapest:20220716T100000
DTEND;TZID=Europe/Budapest:20220716T114500
DTSTAMP:20260424T124023
CREATED:20220605T084853Z
LAST-MODIFIED:20220714T213047Z
UID:25571-1657965600-1657971900@www.43szepitoksk.hu
SUMMARY:Edzőmérkőzés: UTE U19
DESCRIPTION:
URL:https://www.43szepitoksk.hu/event/edzomerkozes-ute-u19-3/
LOCATION:UTE Atlétikai Stadion\, Szilágyi utca 30.\, Budapest\, 1046
CATEGORIES:Edzőmérkőzések
ATTACH;FMTTYPE=image/jpeg:https://www.43szepitoksk.hu/wp-content/uploads/2022/06/idegenbeliedzomeccsute.jpeg
END:VEVENT
BEGIN:VEVENT
DTSTART;TZID=Europe/Budapest:20220719T193000
DTEND;TZID=Europe/Budapest:20220719T210000
DTSTAMP:20260424T124023
CREATED:20220528T065815Z
LAST-MODIFIED:20220528T065815Z
UID:25502-1658259000-1658264400@www.43szepitoksk.hu
SUMMARY:Edzés
DESCRIPTION:
URL:https://www.43szepitoksk.hu/event/edzes-707/
LOCATION:III. Kerület TVE Sporttelep\, Kalap utca 2.\, Budapest\, 1037
CATEGORIES:Edzések
ATTACH;FMTTYPE=image/jpeg:https://www.43szepitoksk.hu/wp-content/uploads/2022/04/IMG_9708-scaled-e1649405655800.jpg
END:VEVENT
BEGIN:VEVENT
DTSTART;TZID=Europe/Budapest:20220720T193000
DTEND;TZID=Europe/Budapest:20220720T210000
DTSTAMP:20260424T124023
CREATED:20220528T065904Z
LAST-MODIFIED:20220528T065904Z
UID:25504-1658345400-1658350800@www.43szepitoksk.hu
SUMMARY:Edzés
DESCRIPTION:
URL:https://www.43szepitoksk.hu/event/edzes-708/
LOCATION:III. Kerület TVE Sporttelep\, Kalap utca 2.\, Budapest\, 1037
CATEGORIES:Edzések
ATTACH;FMTTYPE=image/jpeg:https://www.43szepitoksk.hu/wp-content/uploads/2022/04/IMG_9708-scaled-e1649405655800.jpg
END:VEVENT
BEGIN:VEVENT
DTSTART;TZID=Europe/Budapest:20220721T193000
DTEND;TZID=Europe/Budapest:20220721T210000
DTSTAMP:20260424T124023
CREATED:20220714T212453Z
LAST-MODIFIED:20220714T212453Z
UID:25762-1658431800-1658437200@www.43szepitoksk.hu
SUMMARY:Edzés
DESCRIPTION:
URL:https://www.43szepitoksk.hu/event/edzes-718/
LOCATION:III. Kerület TVE Sporttelep\, Kalap utca 2.\, Budapest\, 1037
CATEGORIES:Edzések
ATTACH;FMTTYPE=image/jpeg:https://www.43szepitoksk.hu/wp-content/uploads/2022/01/272032946_4830539900386902_8530212943761170899_n-e1643470857417.jpg
END:VEVENT
BEGIN:VEVENT
DTSTART;TZID=Europe/Budapest:20220723T100000
DTEND;TZID=Europe/Budapest:20220723T114500
DTSTAMP:20260424T124023
CREATED:20220605T085220Z
LAST-MODIFIED:20220717T074922Z
UID:25573-1658570400-1658576700@www.43szepitoksk.hu
SUMMARY:Edzőmérkőzés: Csömör KSK
DESCRIPTION:
URL:https://www.43szepitoksk.hu/event/edzomerkozes-csomor-ksk-2/
LOCATION:Csömöri Sportcsarnok és Szabadtéri sportközpont\, Major utca 7-9.\, Csömör\, 2141
CATEGORIES:Edzőmérkőzések
ATTACH;FMTTYPE=image/jpeg:https://www.43szepitoksk.hu/wp-content/uploads/2022/06/idegenbeliedzomeccsCsomor.jpeg
END:VEVENT
BEGIN:VEVENT
DTSTART;TZID=Europe/Budapest:20220726T193000
DTEND;TZID=Europe/Budapest:20220726T210000
DTSTAMP:20260424T124023
CREATED:20220528T065953Z
LAST-MODIFIED:20220528T065953Z
UID:25506-1658863800-1658869200@www.43szepitoksk.hu
SUMMARY:Edzés
DESCRIPTION:
URL:https://www.43szepitoksk.hu/event/edzes-709/
LOCATION:III. Kerület TVE Sporttelep\, Kalap utca 2.\, Budapest\, 1037
CATEGORIES:Edzések
ATTACH;FMTTYPE=image/jpeg:https://www.43szepitoksk.hu/wp-content/uploads/2022/04/IMG_9708-scaled-e1649405655800.jpg
END:VEVENT
BEGIN:VEVENT
DTSTART;TZID=Europe/Budapest:20220727T190000
DTEND;TZID=Europe/Budapest:20220727T204500
DTSTAMP:20260424T124023
CREATED:20220605T085638Z
LAST-MODIFIED:20220623T071552Z
UID:25575-1658948400-1658954700@www.43szepitoksk.hu
SUMMARY:Edzőmérkőzés: Heréd LC
DESCRIPTION:
URL:https://www.43szepitoksk.hu/event/edzomerkozes-hered-lc-3/
LOCATION:Markó Ferenc sporttelep\, Sport utca 4.\, Heréd\, 3011
CATEGORIES:Edzőmérkőzések
ATTACH;FMTTYPE=image/jpeg:https://www.43szepitoksk.hu/wp-content/uploads/2022/06/herededzomeccs.jpg
END:VEVENT
BEGIN:VEVENT
DTSTART;TZID=Europe/Budapest:20220728T193000
DTEND;TZID=Europe/Budapest:20220728T210000
DTSTAMP:20260424T124023
CREATED:20220528T070045Z
LAST-MODIFIED:20220528T070045Z
UID:25508-1659036600-1659042000@www.43szepitoksk.hu
SUMMARY:Edzés
DESCRIPTION:
URL:https://www.43szepitoksk.hu/event/edzes-710/
LOCATION:III. Kerület TVE Sporttelep\, Kalap utca 2.\, Budapest\, 1037
CATEGORIES:Edzések
ATTACH;FMTTYPE=image/jpeg:https://www.43szepitoksk.hu/wp-content/uploads/2022/04/IMG_9708-scaled-e1649405655800.jpg
END:VEVENT
BEGIN:VEVENT
DTSTART;TZID=Europe/Budapest:20220729T183000
DTEND;TZID=Europe/Budapest:20220729T201500
DTSTAMP:20260424T124023
CREATED:20220605T085818Z
LAST-MODIFIED:20220719T200109Z
UID:25577-1659119400-1659125700@www.43szepitoksk.hu
SUMMARY:Edzőmérkőzés: Felsőpakonyi KSE
DESCRIPTION:
URL:https://www.43szepitoksk.hu/event/edzomerkozes-felsopakonyi-kse-2/
LOCATION:Felsőpakonyi sportpálya\, Ócsai dűlő 1\, Felsőpakony\, 2363\, Hungary
CATEGORIES:Edzőmérkőzések
ATTACH;FMTTYPE=image/jpeg:https://www.43szepitoksk.hu/wp-content/uploads/2022/06/felsopakonyvegleges.jpg
END:VEVENT
BEGIN:VEVENT
DTSTART;TZID=Europe/Budapest:20220802T193000
DTEND;TZID=Europe/Budapest:20220802T210000
DTSTAMP:20260424T124023
CREATED:20220623T072249Z
LAST-MODIFIED:20220623T072249Z
UID:25648-1659468600-1659474000@www.43szepitoksk.hu
SUMMARY:Edzés
DESCRIPTION:
URL:https://www.43szepitoksk.hu/event/edzes-713/
LOCATION:III. Kerület TVE Sporttelep\, Kalap utca 2.\, Budapest\, 1037
CATEGORIES:Edzések
ATTACH;FMTTYPE=image/jpeg:https://www.43szepitoksk.hu/wp-content/uploads/2022/01/272032946_4830539900386902_8530212943761170899_n-e1643470857417.jpg
END:VEVENT
BEGIN:VEVENT
DTSTART;TZID=Europe/Budapest:20220803T193000
DTEND;TZID=Europe/Budapest:20220803T210000
DTSTAMP:20260424T124023
CREATED:20220623T072451Z
LAST-MODIFIED:20220623T072451Z
UID:25650-1659555000-1659560400@www.43szepitoksk.hu
SUMMARY:Edzés
DESCRIPTION:
URL:https://www.43szepitoksk.hu/event/edzes-714/
LOCATION:III. Kerület TVE Sporttelep\, Kalap utca 2.\, Budapest\, 1037
CATEGORIES:Edzések
ATTACH;FMTTYPE=image/jpeg:https://www.43szepitoksk.hu/wp-content/uploads/2022/01/272032946_4830539900386902_8530212943761170899_n-e1643470857417.jpg
END:VEVENT
BEGIN:VEVENT
DTSTART;TZID=Europe/Budapest:20220804T193000
DTEND;TZID=Europe/Budapest:20220804T210000
DTSTAMP:20260424T124023
CREATED:20220623T072733Z
LAST-MODIFIED:20220623T072733Z
UID:25652-1659641400-1659646800@www.43szepitoksk.hu
SUMMARY:Edzés
DESCRIPTION:
URL:https://www.43szepitoksk.hu/event/edzes-715/
CATEGORIES:Edzések
ATTACH;FMTTYPE=image/jpeg:https://www.43szepitoksk.hu/wp-content/uploads/2022/01/272032946_4830539900386902_8530212943761170899_n-e1643470857417.jpg
END:VEVENT
BEGIN:VEVENT
DTSTART;TZID=Europe/Budapest:20220807T163000
DTEND;TZID=Europe/Budapest:20220807T181500
DTSTAMP:20260424T124023
CREATED:20220623T084212Z
LAST-MODIFIED:20220803T054935Z
UID:25654-1659889800-1659896100@www.43szepitoksk.hu
SUMMARY:Magyar Kupa 1. forduló: BONYHÁD VLC
DESCRIPTION:
URL:https://www.43szepitoksk.hu/event/magyar-kupa-1-fordulo/
LOCATION:Bonyhádi sporttelep\, Sport út 5.\, Bonyhád\, 7150
CATEGORIES:Kupa mérkőzések
ATTACH;FMTTYPE=image/png:https://www.43szepitoksk.hu/wp-content/uploads/2022/06/Esemeny-MK.png
END:VEVENT
BEGIN:VEVENT
DTSTART;TZID=Europe/Budapest:20220809T193000
DTEND;TZID=Europe/Budapest:20220809T210000
DTSTAMP:20260424T124023
CREATED:20220626T060938Z
LAST-MODIFIED:20220626T060938Z
UID:25671-1660073400-1660078800@www.43szepitoksk.hu
SUMMARY:Edzés
DESCRIPTION:
URL:https://www.43szepitoksk.hu/event/edzes-716/
LOCATION:III. Kerület TVE Sporttelep\, Kalap utca 2.\, Budapest\, 1037
CATEGORIES:Edzések
ATTACH;FMTTYPE=image/jpeg:https://www.43szepitoksk.hu/wp-content/uploads/2022/01/272032946_4830539900386902_8530212943761170899_n-e1643470857417.jpg
END:VEVENT
BEGIN:VEVENT
DTSTART;TZID=Europe/Budapest:20220810T193000
DTEND;TZID=Europe/Budapest:20220810T210000
DTSTAMP:20260424T124023
CREATED:20220626T061055Z
LAST-MODIFIED:20220723T114039Z
UID:25673-1660159800-1660165200@www.43szepitoksk.hu
SUMMARY:Edzés
DESCRIPTION:
URL:https://www.43szepitoksk.hu/event/edzes-717/
LOCATION:III. Kerület TVE Sporttelep\, Kalap utca 2.\, Budapest\, 1037
CATEGORIES:Edzések
ATTACH;FMTTYPE=image/jpeg:https://www.43szepitoksk.hu/wp-content/uploads/2022/01/272032946_4830539900386902_8530212943761170899_n-e1643470857417.jpg
END:VEVENT
BEGIN:VEVENT
DTSTART;TZID=Europe/Budapest:20220811T183000
DTEND;TZID=Europe/Budapest:20220811T201500
DTSTAMP:20260424T124023
CREATED:20220626T060822Z
LAST-MODIFIED:20220809T052547Z
UID:25669-1660242600-1660248900@www.43szepitoksk.hu
SUMMARY:Edzőmérkőzés: Gyöngyösi AK
DESCRIPTION:
URL:https://www.43szepitoksk.hu/event/edzomerkozes-gyongyosi-ak-2/
LOCATION:III. Kerület TVE Sporttelep\, Kalap utca 2.\, Budapest\, 1037
CATEGORIES:Edzőmérkőzések
ATTACH;FMTTYPE=image/jpeg:https://www.43szepitoksk.hu/wp-content/uploads/2022/06/Edzomerkozes-Gyongyos-hazai.jpg
END:VEVENT
BEGIN:VEVENT
DTSTART;TZID=Europe/Budapest:20220816T193000
DTEND;TZID=Europe/Budapest:20220816T210000
DTSTAMP:20260424T124023
CREATED:20220724T064221Z
LAST-MODIFIED:20220724T064221Z
UID:25887-1660678200-1660683600@www.43szepitoksk.hu
SUMMARY:Edzés
DESCRIPTION:
URL:https://www.43szepitoksk.hu/event/edzes-719/
LOCATION:III. Kerület TVE Sporttelep\, Kalap utca 2.\, Budapest\, 1037
CATEGORIES:Edzések
ATTACH;FMTTYPE=image/jpeg:https://www.43szepitoksk.hu/wp-content/uploads/2022/07/IMG_9008-scaled.jpg
END:VEVENT
BEGIN:VEVENT
DTSTART;TZID=Europe/Budapest:20220817T193000
DTEND;TZID=Europe/Budapest:20220817T210000
DTSTAMP:20260424T124023
CREATED:20220724T064554Z
LAST-MODIFIED:20220724T064554Z
UID:25890-1660764600-1660770000@www.43szepitoksk.hu
SUMMARY:Edzés
DESCRIPTION:
URL:https://www.43szepitoksk.hu/event/edzes-720/
LOCATION:III. Kerület TVE Sporttelep\, Kalap utca 2.\, Budapest\, 1037
CATEGORIES:Edzések
ATTACH;FMTTYPE=image/jpeg:https://www.43szepitoksk.hu/wp-content/uploads/2022/07/IMG_9008-scaled.jpg
END:VEVENT
BEGIN:VEVENT
DTSTART;TZID=Europe/Budapest:20220818T193000
DTEND;TZID=Europe/Budapest:20220818T210000
DTSTAMP:20260424T124023
CREATED:20220724T064648Z
LAST-MODIFIED:20220803T054611Z
UID:25892-1660851000-1660856400@www.43szepitoksk.hu
SUMMARY:Edzés
DESCRIPTION:
URL:https://www.43szepitoksk.hu/event/edzes-721/
LOCATION:III. Kerület TVE Sporttelep\, Kalap utca 2.\, Budapest\, 1037
CATEGORIES:Edzések
ATTACH;FMTTYPE=image/jpeg:https://www.43szepitoksk.hu/wp-content/uploads/2022/07/IMG_9008-scaled.jpg
END:VEVENT
BEGIN:VEVENT
DTSTART;TZID=Europe/Budapest:20220819T193000
DTEND;TZID=Europe/Budapest:20220819T211500
DTSTAMP:20260424T124023
CREATED:20220803T054820Z
LAST-MODIFIED:20220803T054820Z
UID:26000-1660937400-1660943700@www.43szepitoksk.hu
SUMMARY:BLSZI. 1. forduló: TFSE
DESCRIPTION:
URL:https://www.43szepitoksk.hu/event/blszi-1-fordulo-tfse/
LOCATION:III. Kerület TVE Sporttelep\, Kalap utca 2.\, Budapest\, 1037
CATEGORIES:Bajnoki mérkőzések
ATTACH;FMTTYPE=image/jpeg:https://www.43szepitoksk.hu/wp-content/uploads/2022/08/facebook-esemény-építők-TFSE-v.jpg
END:VEVENT
END:VCALENDAR