BEGIN:VCALENDAR
VERSION:2.0
PRODID:-//43. sz. Építők SK - ECPv6.14.0//NONSGML v1.0//EN
CALSCALE:GREGORIAN
METHOD:PUBLISH
X-ORIGINAL-URL:https://www.43szepitoksk.hu
X-WR-CALDESC:Események 43. sz. Építők SK
REFRESH-INTERVAL;VALUE=DURATION:PT1H
X-Robots-Tag:noindex
X-PUBLISHED-TTL:PT1H
BEGIN:VTIMEZONE
TZID:Europe/Budapest
BEGIN:DAYLIGHT
TZOFFSETFROM:+0100
TZOFFSETTO:+0200
TZNAME:CEST
DTSTART:20220327T010000
END:DAYLIGHT
BEGIN:STANDARD
TZOFFSETFROM:+0200
TZOFFSETTO:+0100
TZNAME:CET
DTSTART:20221030T010000
END:STANDARD
END:VTIMEZONE
BEGIN:VEVENT
DTSTART;TZID=Europe/Budapest:20220917T170000
DTEND;TZID=Europe/Budapest:20220917T184500
DTSTAMP:20260424T071848
CREATED:20220905T064502Z
LAST-MODIFIED:20220913T052200Z
UID:26481-1663434000-1663440300@www.43szepitoksk.hu
SUMMARY:BLSZI. 5. forduló: IKARUS BSE
DESCRIPTION:
URL:https://www.43szepitoksk.hu/event/blszi-5-fordulo-ikarus-bse/
LOCATION:III. Kerület TVE Sporttelep\, Kalap utca 2.\, Budapest\, 1037
CATEGORIES:Bajnoki mérkőzések
ATTACH;FMTTYPE=image/jpeg:https://www.43szepitoksk.hu/wp-content/uploads/2022/09/facebook-esemény-építők-ika.jpg
END:VEVENT
BEGIN:VEVENT
DTSTART;TZID=Europe/Budapest:20220920T193000
DTEND;TZID=Europe/Budapest:20220920T210000
DTSTAMP:20260424T071848
CREATED:20220822T064638Z
LAST-MODIFIED:20220822T064638Z
UID:26279-1663702200-1663707600@www.43szepitoksk.hu
SUMMARY:Edzés
DESCRIPTION:
URL:https://www.43szepitoksk.hu/event/edzes-734/
LOCATION:III. Kerület TVE Sporttelep\, Kalap utca 2.\, Budapest\, 1037
CATEGORIES:Edzések
ATTACH;FMTTYPE=image/jpeg:https://www.43szepitoksk.hu/wp-content/uploads/2022/08/300322670_1179879505892451_2237353229254625335_n.jpg
END:VEVENT
BEGIN:VEVENT
DTSTART;TZID=Europe/Budapest:20220921T193000
DTEND;TZID=Europe/Budapest:20220921T210000
DTSTAMP:20260424T071848
CREATED:20220822T064724Z
LAST-MODIFIED:20220822T064724Z
UID:26281-1663788600-1663794000@www.43szepitoksk.hu
SUMMARY:Edzés
DESCRIPTION:
URL:https://www.43szepitoksk.hu/event/edzes-735/
LOCATION:III. Kerület TVE Sporttelep\, Kalap utca 2.\, Budapest\, 1037
CATEGORIES:Edzések
ATTACH;FMTTYPE=image/jpeg:https://www.43szepitoksk.hu/wp-content/uploads/2022/08/300322670_1179879505892451_2237353229254625335_n.jpg
END:VEVENT
BEGIN:VEVENT
DTSTART;TZID=Europe/Budapest:20220922T203000
DTEND;TZID=Europe/Budapest:20220922T221500
DTSTAMP:20260424T071848
CREATED:20220822T064808Z
LAST-MODIFIED:20220919T073706Z
UID:26283-1663878600-1663884900@www.43szepitoksk.hu
SUMMARY:Budapest Kupa 2. forduló: THSE 2000
DESCRIPTION:
URL:https://www.43szepitoksk.hu/event/edzes-736/
LOCATION:Szabadkikötő pálya\, Szabadkikötő utca 5-7.\, Budapest\, 1211
CATEGORIES:Kupa mérkőzések
END:VEVENT
BEGIN:VEVENT
DTSTART;TZID=Europe/Budapest:20220924T110000
DTEND;TZID=Europe/Budapest:20220924T124500
DTSTAMP:20260424T071848
CREATED:20220913T052329Z
LAST-MODIFIED:20220913T052329Z
UID:26554-1664017200-1664023500@www.43szepitoksk.hu
SUMMARY:BLSZI. 6. forduló: UNIONE FC
DESCRIPTION:
URL:https://www.43szepitoksk.hu/event/blszi-6-fordulo-unione-fc/
LOCATION:III. Kerület TVE Sporttelep\, Kalap utca 2.\, Budapest\, 1037
CATEGORIES:Bajnoki mérkőzések
END:VEVENT
BEGIN:VEVENT
DTSTART;TZID=Europe/Budapest:20220927T193000
DTEND;TZID=Europe/Budapest:20220927T210000
DTSTAMP:20260424T071848
CREATED:20220822T064853Z
LAST-MODIFIED:20220822T064853Z
UID:26285-1664307000-1664312400@www.43szepitoksk.hu
SUMMARY:Edzés
DESCRIPTION:
URL:https://www.43szepitoksk.hu/event/edzes-737/
LOCATION:III. Kerület TVE Sporttelep\, Kalap utca 2.\, Budapest\, 1037
CATEGORIES:Edzések
ATTACH;FMTTYPE=image/jpeg:https://www.43szepitoksk.hu/wp-content/uploads/2022/08/300322670_1179879505892451_2237353229254625335_n.jpg
END:VEVENT
BEGIN:VEVENT
DTSTART;TZID=Europe/Budapest:20220928T193000
DTEND;TZID=Europe/Budapest:20220928T210000
DTSTAMP:20260424T071848
CREATED:20220822T064932Z
LAST-MODIFIED:20220822T064932Z
UID:26287-1664393400-1664398800@www.43szepitoksk.hu
SUMMARY:Edzés
DESCRIPTION:
URL:https://www.43szepitoksk.hu/event/edzes-738/
LOCATION:III. Kerület TVE Sporttelep\, Kalap utca 2.\, Budapest\, 1037
CATEGORIES:Edzések
ATTACH;FMTTYPE=image/jpeg:https://www.43szepitoksk.hu/wp-content/uploads/2022/08/300322670_1179879505892451_2237353229254625335_n.jpg
END:VEVENT
BEGIN:VEVENT
DTSTART;TZID=Europe/Budapest:20220929T193000
DTEND;TZID=Europe/Budapest:20220929T210000
DTSTAMP:20260424T071848
CREATED:20220822T065010Z
LAST-MODIFIED:20220822T065010Z
UID:26289-1664479800-1664485200@www.43szepitoksk.hu
SUMMARY:Edzés
DESCRIPTION:
URL:https://www.43szepitoksk.hu/event/edzes-739/
LOCATION:III. Kerület TVE Sporttelep\, Kalap utca 2.\, Budapest\, 1037
CATEGORIES:Edzések
ATTACH;FMTTYPE=image/jpeg:https://www.43szepitoksk.hu/wp-content/uploads/2022/08/300322670_1179879505892451_2237353229254625335_n.jpg
END:VEVENT
BEGIN:VEVENT
DTSTART;TZID=Europe/Budapest:20221001T180000
DTEND;TZID=Europe/Budapest:20221001T194500
DTSTAMP:20260424T071848
CREATED:20220919T075255Z
LAST-MODIFIED:20220925T061004Z
UID:26633-1664647200-1664653500@www.43szepitoksk.hu
SUMMARY:BLSZI. 7. forduló: RKSK
DESCRIPTION:
URL:https://www.43szepitoksk.hu/event/blszi-7-fordulo-rksk/
LOCATION:III. Kerület TVE Sporttelep\, Kalap utca 2.\, Budapest\, 1037
CATEGORIES:Bajnoki mérkőzések
END:VEVENT
BEGIN:VEVENT
DTSTART;TZID=Europe/Budapest:20221004T193000
DTEND;TZID=Europe/Budapest:20221004T210000
DTSTAMP:20260424T071848
CREATED:20220919T075429Z
LAST-MODIFIED:20220919T075429Z
UID:26635-1664911800-1664917200@www.43szepitoksk.hu
SUMMARY:Edzés
DESCRIPTION:
URL:https://www.43szepitoksk.hu/event/edzes-740/
LOCATION:III. Kerület TVE Sporttelep\, Kalap utca 2.\, Budapest\, 1037
CATEGORIES:Edzések
ATTACH;FMTTYPE=image/jpeg:https://www.43szepitoksk.hu/wp-content/uploads/2022/07/IMG_0139-scaled-e1659160233459.jpg
END:VEVENT
BEGIN:VEVENT
DTSTART;TZID=Europe/Budapest:20221005T193000
DTEND;TZID=Europe/Budapest:20221005T210000
DTSTAMP:20260424T071848
CREATED:20220919T075558Z
LAST-MODIFIED:20220919T075558Z
UID:26637-1664998200-1665003600@www.43szepitoksk.hu
SUMMARY:Edzés
DESCRIPTION:
URL:https://www.43szepitoksk.hu/event/edzes-741/
LOCATION:III. Kerület TVE Sporttelep\, Kalap utca 2.\, Budapest\, 1037
CATEGORIES:Edzések
ATTACH;FMTTYPE=image/jpeg:https://www.43szepitoksk.hu/wp-content/uploads/2022/08/300322670_1179879505892451_2237353229254625335_n.jpg
END:VEVENT
BEGIN:VEVENT
DTSTART;TZID=Europe/Budapest:20221006T193000
DTEND;TZID=Europe/Budapest:20221006T210000
DTSTAMP:20260424T071848
CREATED:20220919T075648Z
LAST-MODIFIED:20220919T075648Z
UID:26639-1665084600-1665090000@www.43szepitoksk.hu
SUMMARY:Edzés
DESCRIPTION:
URL:https://www.43szepitoksk.hu/event/edzes-742/
LOCATION:III. Kerület TVE Sporttelep\, Kalap utca 2.\, Budapest\, 1037
CATEGORIES:Edzések
ATTACH;FMTTYPE=image/jpeg:https://www.43szepitoksk.hu/wp-content/uploads/2022/09/IMG_0551-scaled-e1663482215835.jpg
END:VEVENT
BEGIN:VEVENT
DTSTART;TZID=Europe/Budapest:20221008T150000
DTEND;TZID=Europe/Budapest:20221008T164500
DTSTAMP:20260424T071848
CREATED:20220925T063357Z
LAST-MODIFIED:20221003T064348Z
UID:26707-1665241200-1665247500@www.43szepitoksk.hu
SUMMARY:BLSZI. 8. forduló: 1908 SZAC Budapest
DESCRIPTION:
URL:https://www.43szepitoksk.hu/event/blszi-8-fordulo-1908-szac-budapest/
LOCATION:Deák Ferenc „Bamba” Sportcentrum\, Thököly utca 5.\, Budapest\, 1183
CATEGORIES:Bajnoki mérkőzések
ATTACH;FMTTYPE=image/jpeg:https://www.43szepitoksk.hu/wp-content/uploads/2022/09/facebook-esemény-építők-szac.jpg
END:VEVENT
BEGIN:VEVENT
DTSTART;TZID=Europe/Budapest:20221011T193000
DTEND;TZID=Europe/Budapest:20221011T210000
DTSTAMP:20260424T071848
CREATED:20220925T063452Z
LAST-MODIFIED:20220925T063452Z
UID:26709-1665516600-1665522000@www.43szepitoksk.hu
SUMMARY:Edzés
DESCRIPTION:
URL:https://www.43szepitoksk.hu/event/edzes-743/
LOCATION:III. Kerület TVE Sporttelep\, Kalap utca 2.\, Budapest\, 1037
CATEGORIES:Edzések
ATTACH;FMTTYPE=image/jpeg:https://www.43szepitoksk.hu/wp-content/uploads/2022/09/IMG_0551-scaled-e1663482215835.jpg
END:VEVENT
BEGIN:VEVENT
DTSTART;TZID=Europe/Budapest:20221012T193000
DTEND;TZID=Europe/Budapest:20221012T210000
DTSTAMP:20260424T071848
CREATED:20220925T063539Z
LAST-MODIFIED:20220925T063539Z
UID:26711-1665603000-1665608400@www.43szepitoksk.hu
SUMMARY:Edzés
DESCRIPTION:
URL:https://www.43szepitoksk.hu/event/edzes-744/
LOCATION:III. Kerület TVE Sporttelep\, Kalap utca 2.\, Budapest\, 1037
CATEGORIES:Edzések
ATTACH;FMTTYPE=image/jpeg:https://www.43szepitoksk.hu/wp-content/uploads/2022/09/IMG_0551-scaled-e1663482215835.jpg
END:VEVENT
BEGIN:VEVENT
DTSTART;TZID=Europe/Budapest:20221013T193000
DTEND;TZID=Europe/Budapest:20221013T210000
DTSTAMP:20260424T071848
CREATED:20220925T063617Z
LAST-MODIFIED:20220925T063634Z
UID:26713-1665689400-1665694800@www.43szepitoksk.hu
SUMMARY:Edzés
DESCRIPTION:
URL:https://www.43szepitoksk.hu/event/edzes-745/
LOCATION:III. Kerület TVE Sporttelep\, Kalap utca 2.\, Budapest\, 1037
CATEGORIES:Edzések
ATTACH;FMTTYPE=image/jpeg:https://www.43szepitoksk.hu/wp-content/uploads/2022/09/IMG_0551-scaled-e1663482215835.jpg
END:VEVENT
BEGIN:VEVENT
DTSTART;TZID=Europe/Budapest:20221015T190000
DTEND;TZID=Europe/Budapest:20221015T204500
DTSTAMP:20260424T071848
CREATED:20220925T063725Z
LAST-MODIFIED:20221009T110813Z
UID:26715-1665860400-1665866700@www.43szepitoksk.hu
SUMMARY:BLSZI. 9. forduló: ASR Gázgyár
DESCRIPTION:
URL:https://www.43szepitoksk.hu/event/blszi-9-fordulo-asr-gazgyar-2/
LOCATION:III. Kerület TVE Sporttelep\, Kalap utca 2.\, Budapest\, 1037
CATEGORIES:Bajnoki mérkőzések
ATTACH;FMTTYPE=image/jpeg:https://www.43szepitoksk.hu/wp-content/uploads/2022/09/facebook-esemény-építők-gáz.jpg
END:VEVENT
BEGIN:VEVENT
DTSTART;TZID=Europe/Budapest:20221018T193000
DTEND;TZID=Europe/Budapest:20221018T210000
DTSTAMP:20260424T071848
CREATED:20221009T115500Z
LAST-MODIFIED:20221009T115500Z
UID:26882-1666121400-1666126800@www.43szepitoksk.hu
SUMMARY:Edzés
DESCRIPTION:
URL:https://www.43szepitoksk.hu/event/edzes-746/
LOCATION:III. Kerület TVE Sporttelep\, Kalap utca 2.\, Budapest\, 1037
CATEGORIES:Edzések
ATTACH;FMTTYPE=image/jpeg:https://www.43szepitoksk.hu/wp-content/uploads/2022/10/IMG_0819-scaled-e1665036429473.jpg
END:VEVENT
BEGIN:VEVENT
DTSTART;TZID=Europe/Budapest:20221019T193000
DTEND;TZID=Europe/Budapest:20221019T210000
DTSTAMP:20260424T071848
CREATED:20221009T115540Z
LAST-MODIFIED:20221009T115540Z
UID:26884-1666207800-1666213200@www.43szepitoksk.hu
SUMMARY:Edzés
DESCRIPTION:
URL:https://www.43szepitoksk.hu/event/edzes-747/
LOCATION:III. Kerület TVE Sporttelep\, Kalap utca 2.\, Budapest\, 1037
CATEGORIES:Edzések
ATTACH;FMTTYPE=image/jpeg:https://www.43szepitoksk.hu/wp-content/uploads/2022/10/IMG_0819-scaled-e1665036429473.jpg
END:VEVENT
BEGIN:VEVENT
DTSTART;TZID=Europe/Budapest:20221020T193000
DTEND;TZID=Europe/Budapest:20221020T210000
DTSTAMP:20260424T071848
CREATED:20221009T115639Z
LAST-MODIFIED:20221009T115639Z
UID:26886-1666294200-1666299600@www.43szepitoksk.hu
SUMMARY:Edzés
DESCRIPTION:
URL:https://www.43szepitoksk.hu/event/edzes-748/
LOCATION:III. Kerület TVE Sporttelep\, Kalap utca 2.\, Budapest\, 1037
CATEGORIES:Edzések
ATTACH;FMTTYPE=image/jpeg:https://www.43szepitoksk.hu/wp-content/uploads/2022/10/IMG_0819-scaled-e1665036429473.jpg
END:VEVENT
BEGIN:VEVENT
DTSTART;TZID=Europe/Budapest:20221022T143000
DTEND;TZID=Europe/Budapest:20221022T161500
DTSTAMP:20260424T071848
CREATED:20221009T115824Z
LAST-MODIFIED:20221018T060132Z
UID:26888-1666449000-1666455300@www.43szepitoksk.hu
SUMMARY:BLSZI. 10. forduló: SZABADKIKÖTŐ SPORT KFT.
DESCRIPTION:
URL:https://www.43szepitoksk.hu/event/blszi-10-fordulo-thse-szabadkikoto/
LOCATION:Sport11\, Kánai utca 2.\, Budapest\, 1112
CATEGORIES:Bajnoki mérkőzések
ATTACH;FMTTYPE=image/jpeg:https://www.43szepitoksk.hu/wp-content/uploads/2022/10/facebook-esemény-építők-THSE.jpg
END:VEVENT
BEGIN:VEVENT
DTSTART;TZID=Europe/Budapest:20221024T193000
DTEND;TZID=Europe/Budapest:20221024T210000
DTSTAMP:20260424T071848
CREATED:20221009T115905Z
LAST-MODIFIED:20221009T115905Z
UID:26890-1666639800-1666645200@www.43szepitoksk.hu
SUMMARY:Edzés
DESCRIPTION:
URL:https://www.43szepitoksk.hu/event/edzes-749/
LOCATION:III. Kerület TVE Sporttelep\, Kalap utca 2.\, Budapest\, 1037
CATEGORIES:Edzések
ATTACH;FMTTYPE=image/jpeg:https://www.43szepitoksk.hu/wp-content/uploads/2022/10/IMG_0819-scaled-e1665036429473.jpg
END:VEVENT
BEGIN:VEVENT
DTSTART;TZID=Europe/Budapest:20221025T183000
DTEND;TZID=Europe/Budapest:20221025T201500
DTSTAMP:20260424T071848
CREATED:20221009T120020Z
LAST-MODIFIED:20221012T060925Z
UID:26892-1666722600-1666728900@www.43szepitoksk.hu
SUMMARY:BLSZI. 2. forduló: FŐV. VÍZMŰVEK SK
DESCRIPTION:
URL:https://www.43szepitoksk.hu/event/blszi-2-fordulo-fov-vizmuvek-sk-2/
LOCATION:Fővárosi Vízművek Sporttelep\, Váci út 102.\, Budapest\, 1044
CATEGORIES:Bajnoki mérkőzések
ATTACH;FMTTYPE=image/jpeg:https://www.43szepitoksk.hu/wp-content/uploads/2022/10/facebook-esemény-építők-víz.jpg
END:VEVENT
BEGIN:VEVENT
DTSTART;TZID=Europe/Budapest:20221027T193000
DTEND;TZID=Europe/Budapest:20221027T210000
DTSTAMP:20260424T071848
CREATED:20221009T120105Z
LAST-MODIFIED:20221009T120105Z
UID:26894-1666899000-1666904400@www.43szepitoksk.hu
SUMMARY:Edzés
DESCRIPTION:
URL:https://www.43szepitoksk.hu/event/edzes-750/
LOCATION:III. Kerület TVE Sporttelep\, Kalap utca 2.\, Budapest\, 1037
CATEGORIES:Edzések
ATTACH;FMTTYPE=image/jpeg:https://www.43szepitoksk.hu/wp-content/uploads/2022/10/IMG_0819-scaled-e1665036429473.jpg
END:VEVENT
BEGIN:VEVENT
DTSTART;TZID=Europe/Budapest:20221029T170000
DTEND;TZID=Europe/Budapest:20221029T184500
DTSTAMP:20260424T071848
CREATED:20221009T120156Z
LAST-MODIFIED:20221018T055550Z
UID:26896-1667062800-1667069100@www.43szepitoksk.hu
SUMMARY:BLSZI. 11. forduló: REAC
DESCRIPTION:
URL:https://www.43szepitoksk.hu/event/blszi-11-fordulo-reac/
LOCATION:III. Kerület TVE Sporttelep\, Kalap utca 2.\, Budapest\, 1037
CATEGORIES:Bajnoki mérkőzések
ATTACH;FMTTYPE=image/jpeg:https://www.43szepitoksk.hu/wp-content/uploads/2022/10/facebook-esemény-építők-REAC.jpg
END:VEVENT
BEGIN:VEVENT
DTSTART;TZID=Europe/Budapest:20221102T193000
DTEND;TZID=Europe/Budapest:20221102T210000
DTSTAMP:20260424T071848
CREATED:20221009T120311Z
LAST-MODIFIED:20221009T120311Z
UID:26900-1667417400-1667422800@www.43szepitoksk.hu
SUMMARY:Edzés
DESCRIPTION:
URL:https://www.43szepitoksk.hu/event/edzes-752/
LOCATION:III. Kerület TVE Sporttelep\, Kalap utca 2.\, Budapest\, 1037
CATEGORIES:Edzések
ATTACH;FMTTYPE=image/jpeg:https://www.43szepitoksk.hu/wp-content/uploads/2022/10/IMG_0819-scaled-e1665036429473.jpg
END:VEVENT
BEGIN:VEVENT
DTSTART;TZID=Europe/Budapest:20221103T193000
DTEND;TZID=Europe/Budapest:20221103T210000
DTSTAMP:20260424T071848
CREATED:20221009T120346Z
LAST-MODIFIED:20221009T120346Z
UID:26902-1667503800-1667509200@www.43szepitoksk.hu
SUMMARY:Edzés
DESCRIPTION:
URL:https://www.43szepitoksk.hu/event/edzes-753/
LOCATION:III. Kerület TVE Sporttelep\, Kalap utca 2.\, Budapest\, 1037
CATEGORIES:Edzések
ATTACH;FMTTYPE=image/jpeg:https://www.43szepitoksk.hu/wp-content/uploads/2022/10/IMG_0819-scaled-e1665036429473.jpg
END:VEVENT
BEGIN:VEVENT
DTSTART;TZID=Europe/Budapest:20221104T193000
DTEND;TZID=Europe/Budapest:20221104T210000
DTSTAMP:20260424T071848
CREATED:20221009T120231Z
LAST-MODIFIED:20221027T165523Z
UID:26898-1667590200-1667595600@www.43szepitoksk.hu
SUMMARY:Edzés
DESCRIPTION:
URL:https://www.43szepitoksk.hu/event/edzes-751/
LOCATION:III. Kerület TVE Sporttelep\, Kalap utca 2.\, Budapest\, 1037
CATEGORIES:Edzések
ATTACH;FMTTYPE=image/jpeg:https://www.43szepitoksk.hu/wp-content/uploads/2022/10/IMG_0819-scaled-e1665036429473.jpg
END:VEVENT
BEGIN:VEVENT
DTSTART;TZID=Europe/Budapest:20221105T170000
DTEND;TZID=Europe/Budapest:20221105T184500
DTSTAMP:20260424T071848
CREATED:20221024T060920Z
LAST-MODIFIED:20221027T134800Z
UID:27098-1667667600-1667673900@www.43szepitoksk.hu
SUMMARY:BLSZI. 12. forduló: TESTVÉRISÉG-ÚJPALOTA SE
DESCRIPTION:
URL:https://www.43szepitoksk.hu/event/blszi-12-fordulo-testveriseg-se/
LOCATION:III. Kerület TVE Sporttelep\, Kalap utca 2.\, Budapest\, 1037
CATEGORIES:Bajnoki mérkőzések
ATTACH;FMTTYPE=image/jpeg:https://www.43szepitoksk.hu/wp-content/uploads/2022/10/facebook-esemény-építők-tesi.jpg
END:VEVENT
BEGIN:VEVENT
DTSTART;TZID=Europe/Budapest:20221108T193000
DTEND;TZID=Europe/Budapest:20221108T210000
DTSTAMP:20260424T071848
CREATED:20221024T061354Z
LAST-MODIFIED:20221024T061354Z
UID:27101-1667935800-1667941200@www.43szepitoksk.hu
SUMMARY:Edzés
DESCRIPTION:
URL:https://www.43szepitoksk.hu/event/edzes-754/
LOCATION:III. Kerület TVE Sporttelep\, Kalap utca 2.\, Budapest\, 1037
CATEGORIES:Edzések
ATTACH;FMTTYPE=image/jpeg:https://www.43szepitoksk.hu/wp-content/uploads/2022/10/IMG_1026-scaled-e1666505982158.jpg
END:VEVENT
END:VCALENDAR