BEGIN:VCALENDAR
VERSION:2.0
PRODID:-//43. sz. Építők SK - ECPv6.14.0//NONSGML v1.0//EN
CALSCALE:GREGORIAN
METHOD:PUBLISH
X-ORIGINAL-URL:https://www.43szepitoksk.hu
X-WR-CALDESC:Események 43. sz. Építők SK
REFRESH-INTERVAL;VALUE=DURATION:PT1H
X-Robots-Tag:noindex
X-PUBLISHED-TTL:PT1H
BEGIN:VTIMEZONE
TZID:Europe/Budapest
BEGIN:DAYLIGHT
TZOFFSETFROM:+0100
TZOFFSETTO:+0200
TZNAME:CEST
DTSTART:20220327T010000
END:DAYLIGHT
BEGIN:STANDARD
TZOFFSETFROM:+0200
TZOFFSETTO:+0100
TZNAME:CET
DTSTART:20221030T010000
END:STANDARD
BEGIN:DAYLIGHT
TZOFFSETFROM:+0100
TZOFFSETTO:+0200
TZNAME:CEST
DTSTART:20230326T010000
END:DAYLIGHT
BEGIN:STANDARD
TZOFFSETFROM:+0200
TZOFFSETTO:+0100
TZNAME:CET
DTSTART:20231029T010000
END:STANDARD
END:VTIMEZONE
BEGIN:VEVENT
DTSTART;TZID=Europe/Budapest:20221102T193000
DTEND;TZID=Europe/Budapest:20221102T210000
DTSTAMP:20260424T015618
CREATED:20221009T120311Z
LAST-MODIFIED:20221009T120311Z
UID:26900-1667417400-1667422800@www.43szepitoksk.hu
SUMMARY:Edzés
DESCRIPTION:
URL:https://www.43szepitoksk.hu/event/edzes-752/
LOCATION:III. Kerület TVE Sporttelep\, Kalap utca 2.\, Budapest\, 1037
CATEGORIES:Edzések
ATTACH;FMTTYPE=image/jpeg:https://www.43szepitoksk.hu/wp-content/uploads/2022/10/IMG_0819-scaled-e1665036429473.jpg
END:VEVENT
BEGIN:VEVENT
DTSTART;TZID=Europe/Budapest:20221103T193000
DTEND;TZID=Europe/Budapest:20221103T210000
DTSTAMP:20260424T015618
CREATED:20221009T120346Z
LAST-MODIFIED:20221009T120346Z
UID:26902-1667503800-1667509200@www.43szepitoksk.hu
SUMMARY:Edzés
DESCRIPTION:
URL:https://www.43szepitoksk.hu/event/edzes-753/
LOCATION:III. Kerület TVE Sporttelep\, Kalap utca 2.\, Budapest\, 1037
CATEGORIES:Edzések
ATTACH;FMTTYPE=image/jpeg:https://www.43szepitoksk.hu/wp-content/uploads/2022/10/IMG_0819-scaled-e1665036429473.jpg
END:VEVENT
BEGIN:VEVENT
DTSTART;TZID=Europe/Budapest:20221104T193000
DTEND;TZID=Europe/Budapest:20221104T210000
DTSTAMP:20260424T015618
CREATED:20221009T120231Z
LAST-MODIFIED:20221027T165523Z
UID:26898-1667590200-1667595600@www.43szepitoksk.hu
SUMMARY:Edzés
DESCRIPTION:
URL:https://www.43szepitoksk.hu/event/edzes-751/
LOCATION:III. Kerület TVE Sporttelep\, Kalap utca 2.\, Budapest\, 1037
CATEGORIES:Edzések
ATTACH;FMTTYPE=image/jpeg:https://www.43szepitoksk.hu/wp-content/uploads/2022/10/IMG_0819-scaled-e1665036429473.jpg
END:VEVENT
BEGIN:VEVENT
DTSTART;TZID=Europe/Budapest:20221105T170000
DTEND;TZID=Europe/Budapest:20221105T184500
DTSTAMP:20260424T015618
CREATED:20221024T060920Z
LAST-MODIFIED:20221027T134800Z
UID:27098-1667667600-1667673900@www.43szepitoksk.hu
SUMMARY:BLSZI. 12. forduló: TESTVÉRISÉG-ÚJPALOTA SE
DESCRIPTION:
URL:https://www.43szepitoksk.hu/event/blszi-12-fordulo-testveriseg-se/
LOCATION:III. Kerület TVE Sporttelep\, Kalap utca 2.\, Budapest\, 1037
CATEGORIES:Bajnoki mérkőzések
ATTACH;FMTTYPE=image/jpeg:https://www.43szepitoksk.hu/wp-content/uploads/2022/10/facebook-esemény-építők-tesi.jpg
END:VEVENT
BEGIN:VEVENT
DTSTART;TZID=Europe/Budapest:20221108T193000
DTEND;TZID=Europe/Budapest:20221108T210000
DTSTAMP:20260424T015618
CREATED:20221024T061354Z
LAST-MODIFIED:20221024T061354Z
UID:27101-1667935800-1667941200@www.43szepitoksk.hu
SUMMARY:Edzés
DESCRIPTION:
URL:https://www.43szepitoksk.hu/event/edzes-754/
LOCATION:III. Kerület TVE Sporttelep\, Kalap utca 2.\, Budapest\, 1037
CATEGORIES:Edzések
ATTACH;FMTTYPE=image/jpeg:https://www.43szepitoksk.hu/wp-content/uploads/2022/10/IMG_1026-scaled-e1666505982158.jpg
END:VEVENT
BEGIN:VEVENT
DTSTART;TZID=Europe/Budapest:20221109T193000
DTEND;TZID=Europe/Budapest:20221109T210000
DTSTAMP:20260424T015618
CREATED:20221024T061434Z
LAST-MODIFIED:20221024T061434Z
UID:27103-1668022200-1668027600@www.43szepitoksk.hu
SUMMARY:Edzés
DESCRIPTION:
URL:https://www.43szepitoksk.hu/event/edzes-755/
LOCATION:III. Kerület TVE Sporttelep\, Kalap utca 2.\, Budapest\, 1037
CATEGORIES:Edzések
ATTACH;FMTTYPE=image/jpeg:https://www.43szepitoksk.hu/wp-content/uploads/2022/10/IMG_1026-scaled-e1666505982158.jpg
END:VEVENT
BEGIN:VEVENT
DTSTART;TZID=Europe/Budapest:20221110T193000
DTEND;TZID=Europe/Budapest:20221110T210000
DTSTAMP:20260424T015618
CREATED:20221024T061514Z
LAST-MODIFIED:20221024T061514Z
UID:27105-1668108600-1668114000@www.43szepitoksk.hu
SUMMARY:Edzés
DESCRIPTION:
URL:https://www.43szepitoksk.hu/event/edzes-756/
LOCATION:III. Kerület TVE Sporttelep\, Kalap utca 2.\, Budapest\, 1037
CATEGORIES:Edzések
ATTACH;FMTTYPE=image/jpeg:https://www.43szepitoksk.hu/wp-content/uploads/2022/10/IMG_1026-scaled-e1666505982158.jpg
END:VEVENT
BEGIN:VEVENT
DTSTART;TZID=Europe/Budapest:20221112T170000
DTEND;TZID=Europe/Budapest:20221112T184500
DTSTAMP:20260424T015618
CREATED:20221024T061621Z
LAST-MODIFIED:20221031T083547Z
UID:27107-1668272400-1668278700@www.43szepitoksk.hu
SUMMARY:BLSZI. 13. forduló: CSEPEL UFC
DESCRIPTION:
URL:https://www.43szepitoksk.hu/event/blszi-13-fordulo-csepel-ufc/
LOCATION:III. Kerület TVE Sporttelep\, Kalap utca 2.\, Budapest\, 1037
CATEGORIES:Bajnoki mérkőzések
ATTACH;FMTTYPE=image/jpeg:https://www.43szepitoksk.hu/wp-content/uploads/2022/10/facebook-esemény-építők-csepel-1.jpg
END:VEVENT
BEGIN:VEVENT
DTSTART;TZID=Europe/Budapest:20221115T193000
DTEND;TZID=Europe/Budapest:20221115T210000
DTSTAMP:20260424T015618
CREATED:20221103T090002Z
LAST-MODIFIED:20221103T090002Z
UID:27243-1668540600-1668546000@www.43szepitoksk.hu
SUMMARY:Edzés
DESCRIPTION:
URL:https://www.43szepitoksk.hu/event/edzes-757/
LOCATION:III. Kerület TVE Sporttelep\, Kalap utca 2.\, Budapest\, 1037
CATEGORIES:Edzések
ATTACH;FMTTYPE=image/jpeg:https://www.43szepitoksk.hu/wp-content/uploads/2022/10/IMG_1277-scaled-e1667122082126.jpg
END:VEVENT
BEGIN:VEVENT
DTSTART;TZID=Europe/Budapest:20221116T193000
DTEND;TZID=Europe/Budapest:20221116T210000
DTSTAMP:20260424T015618
CREATED:20221103T090043Z
LAST-MODIFIED:20221103T090043Z
UID:27245-1668627000-1668632400@www.43szepitoksk.hu
SUMMARY:Edzés
DESCRIPTION:
URL:https://www.43szepitoksk.hu/event/edzes-758/
LOCATION:III. Kerület TVE Sporttelep\, Kalap utca 2.\, Budapest\, 1037
CATEGORIES:Edzések
ATTACH;FMTTYPE=image/jpeg:https://www.43szepitoksk.hu/wp-content/uploads/2022/10/IMG_1277-scaled-e1667122082126.jpg
END:VEVENT
BEGIN:VEVENT
DTSTART;TZID=Europe/Budapest:20221117T193000
DTEND;TZID=Europe/Budapest:20221117T210000
DTSTAMP:20260424T015618
CREATED:20221103T090127Z
LAST-MODIFIED:20221103T090127Z
UID:27247-1668713400-1668718800@www.43szepitoksk.hu
SUMMARY:Edzés
DESCRIPTION:
URL:https://www.43szepitoksk.hu/event/edzes-759/
LOCATION:III. Kerület TVE Sporttelep\, Kalap utca 2.\, Budapest\, 1037
CATEGORIES:Edzések
ATTACH;FMTTYPE=image/jpeg:https://www.43szepitoksk.hu/wp-content/uploads/2022/10/IMG_1277-scaled-e1667122082126.jpg
END:VEVENT
BEGIN:VEVENT
DTSTART;TZID=Europe/Budapest:20221119T170000
DTEND;TZID=Europe/Budapest:20221119T184500
DTSTAMP:20260424T015618
CREATED:20221103T090254Z
LAST-MODIFIED:20221103T090254Z
UID:27249-1668877200-1668883500@www.43szepitoksk.hu
SUMMARY:BLSZI. 14. forduló: CSEPEL-CSEP-GÓL FC
DESCRIPTION:
URL:https://www.43szepitoksk.hu/event/blszi-14-fordulo-csepel-csep-gol-fc/
LOCATION:III. Kerület TVE Sporttelep\, Kalap utca 2.\, Budapest\, 1037
CATEGORIES:Bajnoki mérkőzések
ATTACH;FMTTYPE=image/jpeg:https://www.43szepitoksk.hu/wp-content/uploads/2022/11/facebook-esemény-építők-csepel-14.jpg
END:VEVENT
BEGIN:VEVENT
DTSTART;TZID=Europe/Budapest:20221122T193000
DTEND;TZID=Europe/Budapest:20221122T210000
DTSTAMP:20260424T015618
CREATED:20221103T090335Z
LAST-MODIFIED:20221103T090335Z
UID:27252-1669145400-1669150800@www.43szepitoksk.hu
SUMMARY:Edzés
DESCRIPTION:
URL:https://www.43szepitoksk.hu/event/edzes-760/
LOCATION:III. Kerület TVE Sporttelep\, Kalap utca 2.\, Budapest\, 1037
CATEGORIES:Edzések
ATTACH;FMTTYPE=image/jpeg:https://www.43szepitoksk.hu/wp-content/uploads/2022/10/IMG_1283-scaled-e1667122123478.jpg
END:VEVENT
BEGIN:VEVENT
DTSTART;TZID=Europe/Budapest:20221123T193000
DTEND;TZID=Europe/Budapest:20221123T210000
DTSTAMP:20260424T015618
CREATED:20221103T090419Z
LAST-MODIFIED:20221103T090419Z
UID:27254-1669231800-1669237200@www.43szepitoksk.hu
SUMMARY:Edzés
DESCRIPTION:
URL:https://www.43szepitoksk.hu/event/edzes-761/
LOCATION:III. Kerület TVE Sporttelep\, Kalap utca 2.\, Budapest\, 1037
CATEGORIES:Edzések
ATTACH;FMTTYPE=image/jpeg:https://www.43szepitoksk.hu/wp-content/uploads/2022/10/IMG_1283-scaled-e1667122123478.jpg
END:VEVENT
BEGIN:VEVENT
DTSTART;TZID=Europe/Budapest:20221124T193000
DTEND;TZID=Europe/Budapest:20221124T210000
DTSTAMP:20260424T015618
CREATED:20221103T090457Z
LAST-MODIFIED:20221103T090457Z
UID:27256-1669318200-1669323600@www.43szepitoksk.hu
SUMMARY:Edzés
DESCRIPTION:
URL:https://www.43szepitoksk.hu/event/edzes-762/
LOCATION:III. Kerület TVE Sporttelep\, Kalap utca 2.\, Budapest\, 1037
CATEGORIES:Edzések
ATTACH;FMTTYPE=image/jpeg:https://www.43szepitoksk.hu/wp-content/uploads/2022/10/IMG_1283-scaled-e1667122123478.jpg
END:VEVENT
BEGIN:VEVENT
DTSTART;TZID=Europe/Budapest:20221126T110000
DTEND;TZID=Europe/Budapest:20221126T124500
DTSTAMP:20260424T015618
CREATED:20221103T090617Z
LAST-MODIFIED:20221103T090617Z
UID:27258-1669460400-1669466700@www.43szepitoksk.hu
SUMMARY:BLSZI. 15. forduló: BUDAFOKI MTE II
DESCRIPTION:
URL:https://www.43szepitoksk.hu/event/blszi-15-fordulo-budafoki-mte-ii/
LOCATION:Budafoki MTE Sporttelep (műfüves pálya)\, Promontor utca 89.\, Budapest\, 1222
CATEGORIES:Bajnoki mérkőzések
ATTACH;FMTTYPE=image/jpeg:https://www.43szepitoksk.hu/wp-content/uploads/2022/11/facebook-esemény-építők-MBTE.jpg
END:VEVENT
BEGIN:VEVENT
DTSTART;TZID=Europe/Budapest:20221211T140000
DTEND;TZID=Europe/Budapest:20221211T173000
DTSTAMP:20260424T015618
CREATED:20221124T164455Z
LAST-MODIFIED:20221124T164455Z
UID:27472-1670767200-1670779800@www.43szepitoksk.hu
SUMMARY:BLSZI Téli teremtorna selejtezők
DESCRIPTION:1. 14:00 BÜSKE 43. SZ. ÉPÍTŐK\n2. 14:35 BEH-SZISE MUN\n3. 15:10 BEH-SZISE BÜSKE\n4. 15:45 MUN 43. SZ. ÉPÍTŐK\n5. 16:20 BÜSKE MUN\n6. 16:55 43. SZ. ÉPÍTŐK BEH-SZISE
URL:https://www.43szepitoksk.hu/event/blszi-teli-teremtorna-selejtezok/
LOCATION:Budafoki sporcsarnok\, Promontor utca 89.\, Budapest\, 1222
CATEGORIES:Teremtorna
END:VEVENT
BEGIN:VEVENT
DTSTART;TZID=Europe/Budapest:20221217T160000
DTEND;TZID=Europe/Budapest:20221217T210000
DTSTAMP:20260424T015618
CREATED:20221124T164650Z
LAST-MODIFIED:20221208T181503Z
UID:27474-1671292800-1671310800@www.43szepitoksk.hu
SUMMARY:Év Labdarúgója választás 2022 (Évadzáró Bankett)
DESCRIPTION:
URL:https://www.43szepitoksk.hu/event/ev-labdarugoja-valasztas-2022-evadzaro-bankett/
LOCATION:III. Kerület TVE Sporttelep\, Kalap utca 2.\, Budapest\, 1037
CATEGORIES:Bankett
END:VEVENT
BEGIN:VEVENT
DTSTART;TZID=Europe/Budapest:20230107T120000
DTEND;TZID=Europe/Budapest:20230107T170000
DTSTAMP:20260424T015618
CREATED:20221219T072916Z
LAST-MODIFIED:20221219T072916Z
UID:27584-1673092800-1673110800@www.43szepitoksk.hu
SUMMARY:BLSZ Téli Teremtorna középdöntők
DESCRIPTION:
URL:https://www.43szepitoksk.hu/event/blsz-teli-teremtorna-kozepdontok/
LOCATION:Budafoki sporcsarnok\, Promontor utca 89.\, Budapest\, 1222
CATEGORIES:Teremtorna
END:VEVENT
BEGIN:VEVENT
DTSTART;TZID=Europe/Budapest:20230108T104500
DTEND;TZID=Europe/Budapest:20230108T170000
DTSTAMP:20260424T015618
CREATED:20230107T173909Z
LAST-MODIFIED:20230107T195625Z
UID:27731-1673174700-1673197200@www.43szepitoksk.hu
SUMMARY:BLSZ Téli Teremtorna döntő
DESCRIPTION:
URL:https://www.43szepitoksk.hu/event/blsz-teli-teremtorna-donto-3/
LOCATION:Budafoki sporcsarnok\, Promontor utca 89.\, Budapest\, 1222
CATEGORIES:Teremtorna
ATTACH;FMTTYPE=image/jpeg:https://www.43szepitoksk.hu/wp-content/uploads/2023/01/324465511_1391823058301104_7622585271783148435_n.jpg
END:VEVENT
BEGIN:VEVENT
DTSTART;TZID=Europe/Budapest:20230117T193000
DTEND;TZID=Europe/Budapest:20230117T210000
DTSTAMP:20260424T015618
CREATED:20230102T112134Z
LAST-MODIFIED:20230102T112134Z
UID:27666-1673983800-1673989200@www.43szepitoksk.hu
SUMMARY:Edzés
DESCRIPTION:
URL:https://www.43szepitoksk.hu/event/edzes-763/
LOCATION:III. Kerület TVE Sporttelep\, Kalap utca 2.\, Budapest\, 1037
CATEGORIES:Edzések
ATTACH;FMTTYPE=image/jpeg:https://www.43szepitoksk.hu/wp-content/uploads/2022/01/272032946_4830539900386902_8530212943761170899_n-e1643470857417.jpg
END:VEVENT
BEGIN:VEVENT
DTSTART;TZID=Europe/Budapest:20230118T193000
DTEND;TZID=Europe/Budapest:20230118T210000
DTSTAMP:20260424T015618
CREATED:20230102T112239Z
LAST-MODIFIED:20230102T112239Z
UID:27668-1674070200-1674075600@www.43szepitoksk.hu
SUMMARY:Edzés
DESCRIPTION:
URL:https://www.43szepitoksk.hu/event/edzes-764/
LOCATION:III. Kerület TVE Sporttelep\, Kalap utca 2.\, Budapest\, 1037
CATEGORIES:Edzések
ATTACH;FMTTYPE=image/jpeg:https://www.43szepitoksk.hu/wp-content/uploads/2022/01/272032946_4830539900386902_8530212943761170899_n-e1643470857417.jpg
END:VEVENT
BEGIN:VEVENT
DTSTART;TZID=Europe/Budapest:20230119T193000
DTEND;TZID=Europe/Budapest:20230119T210000
DTSTAMP:20260424T015618
CREATED:20230102T112328Z
LAST-MODIFIED:20230102T112328Z
UID:27670-1674156600-1674162000@www.43szepitoksk.hu
SUMMARY:Edzés
DESCRIPTION:
URL:https://www.43szepitoksk.hu/event/edzes-765/
CATEGORIES:Edzések
ATTACH;FMTTYPE=image/jpeg:https://www.43szepitoksk.hu/wp-content/uploads/2022/01/272032946_4830539900386902_8530212943761170899_n-e1643470857417.jpg
END:VEVENT
BEGIN:VEVENT
DTSTART;TZID=Europe/Budapest:20230121T120000
DTEND;TZID=Europe/Budapest:20230121T134500
DTSTAMP:20260424T015618
CREATED:20230103T073941Z
LAST-MODIFIED:20230105T163402Z
UID:27677-1674302400-1674308700@www.43szepitoksk.hu
SUMMARY:Edzőmérkőzés: Gödöllői SK
DESCRIPTION:
URL:https://www.43szepitoksk.hu/event/edzomerkozes-penzugyor-se/
LOCATION:Szűcs Lajos sportcentrum\, Táncsics Mihály út\, Gödöllő\, 2100
CATEGORIES:Edzőmérkőzések
ATTACH;FMTTYPE=image/jpeg:https://www.43szepitoksk.hu/wp-content/uploads/2023/01/321929689_875665356904587_3125413808013084326_n.jpg
END:VEVENT
BEGIN:VEVENT
DTSTART;TZID=Europe/Budapest:20230124T193000
DTEND;TZID=Europe/Budapest:20230124T210000
DTSTAMP:20260424T015618
CREATED:20230103T073653Z
LAST-MODIFIED:20230103T073653Z
UID:27673-1674588600-1674594000@www.43szepitoksk.hu
SUMMARY:Edzés
DESCRIPTION:
URL:https://www.43szepitoksk.hu/event/edzes-766/
LOCATION:III. Kerület TVE Sporttelep\, Kalap utca 2.\, Budapest\, 1037
CATEGORIES:Edzések
ATTACH;FMTTYPE=image/jpeg:https://www.43szepitoksk.hu/wp-content/uploads/2022/01/272032946_4830539900386902_8530212943761170899_n-e1643470857417.jpg
END:VEVENT
BEGIN:VEVENT
DTSTART;TZID=Europe/Budapest:20230125T170000
DTEND;TZID=Europe/Budapest:20230125T184500
DTSTAMP:20260424T015618
CREATED:20230103T074041Z
LAST-MODIFIED:20230105T162455Z
UID:27679-1674666000-1674672300@www.43szepitoksk.hu
SUMMARY:Edzőmérkőzés: BVSC-Zugló
DESCRIPTION:
URL:https://www.43szepitoksk.hu/event/edzomerkozes-bvsc/
LOCATION:BVSC edzőpálya\, Tatai út 79-85.\, Budapest\, 1143
CATEGORIES:Edzőmérkőzések
ATTACH;FMTTYPE=image/jpeg:https://www.43szepitoksk.hu/wp-content/uploads/2023/01/321275052_643995527524231_4090414313690557067_n.jpg
END:VEVENT
BEGIN:VEVENT
DTSTART;TZID=Europe/Budapest:20230126T193000
DTEND;TZID=Europe/Budapest:20230126T210000
DTSTAMP:20260424T015618
CREATED:20230103T073747Z
LAST-MODIFIED:20230103T073747Z
UID:27675-1674761400-1674766800@www.43szepitoksk.hu
SUMMARY:Edzés
DESCRIPTION:
URL:https://www.43szepitoksk.hu/event/edzes-767/
LOCATION:III. Kerület TVE Sporttelep\, Kalap utca 2.\, Budapest\, 1037
CATEGORIES:Edzések
ATTACH;FMTTYPE=image/jpeg:https://www.43szepitoksk.hu/wp-content/uploads/2022/01/272032946_4830539900386902_8530212943761170899_n-e1643470857417.jpg
END:VEVENT
BEGIN:VEVENT
DTSTART;TZID=Europe/Budapest:20230128T180000
DTEND;TZID=Europe/Budapest:20230128T194500
DTSTAMP:20260424T015618
CREATED:20230103T074138Z
LAST-MODIFIED:20230116T182028Z
UID:27681-1674928800-1674935100@www.43szepitoksk.hu
SUMMARY:Edzőmérkőzés: Perbál SE
DESCRIPTION:
URL:https://www.43szepitoksk.hu/event/edzomerkozes-perbal-se/
LOCATION:III. Kerület TVE Sporttelep\, Kalap utca 2.\, Budapest\, 1037
CATEGORIES:Edzőmérkőzések
ATTACH;FMTTYPE=image/jpeg:https://www.43szepitoksk.hu/wp-content/uploads/2023/01/322295190_5754831251262057_2100527448134198122_n.jpg
END:VEVENT
BEGIN:VEVENT
DTSTART;TZID=Europe/Budapest:20230130T170000
DTEND;TZID=Europe/Budapest:20230130T235900
DTSTAMP:20260424T015618
CREATED:20230121T074619Z
LAST-MODIFIED:20230121T074619Z
UID:27821-1675098000-1675123140@www.43szepitoksk.hu
SUMMARY:Edzőtábor: Mátraháza
DESCRIPTION:
URL:https://www.43szepitoksk.hu/event/edzotabor-matrahaza/
LOCATION:Mátraházi Edzőtábor\, Kékes-alja út 3.\, Mátraháza\, 3233
CATEGORIES:Edzőtábor
ATTACH;FMTTYPE=image/jpeg:https://www.43szepitoksk.hu/wp-content/uploads/2023/01/Matrahazi-edzotabor.jpg
END:VEVENT
BEGIN:VEVENT
DTSTART;TZID=Europe/Budapest:20230131T000100
DTEND;TZID=Europe/Budapest:20230131T235900
DTSTAMP:20260424T015618
CREATED:20230121T074728Z
LAST-MODIFIED:20230121T075236Z
UID:27824-1675123260-1675209540@www.43szepitoksk.hu
SUMMARY:Edzőtábor: Mátraháza
DESCRIPTION:
URL:https://www.43szepitoksk.hu/event/edzotabor-matrahaza-2/
LOCATION:Mátraházi Edzőtábor\, Kékes-alja út 3.\, Mátraháza\, 3233
CATEGORIES:Edzőtábor
ATTACH;FMTTYPE=image/jpeg:https://www.43szepitoksk.hu/wp-content/uploads/2023/01/Matrahazi-edzotabor.jpg
END:VEVENT
END:VCALENDAR