BEGIN:VCALENDAR
VERSION:2.0
PRODID:-//43. sz. Építők SK - ECPv6.14.0//NONSGML v1.0//EN
CALSCALE:GREGORIAN
METHOD:PUBLISH
X-ORIGINAL-URL:https://www.43szepitoksk.hu
X-WR-CALDESC:Események 43. sz. Építők SK
REFRESH-INTERVAL;VALUE=DURATION:PT1H
X-Robots-Tag:noindex
X-PUBLISHED-TTL:PT1H
BEGIN:VTIMEZONE
TZID:Europe/Budapest
BEGIN:DAYLIGHT
TZOFFSETFROM:+0100
TZOFFSETTO:+0200
TZNAME:CEST
DTSTART:20230326T010000
END:DAYLIGHT
BEGIN:STANDARD
TZOFFSETFROM:+0200
TZOFFSETTO:+0100
TZNAME:CET
DTSTART:20231029T010000
END:STANDARD
BEGIN:DAYLIGHT
TZOFFSETFROM:+0100
TZOFFSETTO:+0200
TZNAME:CEST
DTSTART:20240331T010000
END:DAYLIGHT
BEGIN:STANDARD
TZOFFSETFROM:+0200
TZOFFSETTO:+0100
TZNAME:CET
DTSTART:20241027T010000
END:STANDARD
END:VTIMEZONE
BEGIN:VEVENT
DTSTART;TZID=Europe/Budapest:20231007T150000
DTEND;TZID=Europe/Budapest:20231007T164500
DTSTAMP:20260423T113010
CREATED:20230915T070537Z
LAST-MODIFIED:20231007T044421Z
UID:30320-1696690800-1696697100@www.43szepitoksk.hu
SUMMARY:BLSZI 8. forduló: TESTVÉRISÉG-ÚJPALOTA SE
DESCRIPTION:
URL:https://www.43szepitoksk.hu/event/blszi-8-fordulo-testveriseg-ujpalota-se/
LOCATION:Barátság sporttelep\, Bánkút utca 71.\, Budapest\, 1145
CATEGORIES:Bajnoki mérkőzések
ATTACH;FMTTYPE=image/jpeg:https://www.43szepitoksk.hu/wp-content/uploads/2023/09/facebook-esemeny-epitok-tesi-1.jpg
END:VEVENT
BEGIN:VEVENT
DTSTART;TZID=Europe/Budapest:20231010T193000
DTEND;TZID=Europe/Budapest:20231010T210000
DTSTAMP:20260423T113010
CREATED:20230919T061912Z
LAST-MODIFIED:20230919T061912Z
UID:30395-1696966200-1696971600@www.43szepitoksk.hu
SUMMARY:Edzés
DESCRIPTION:
URL:https://www.43szepitoksk.hu/event/edzes-852/
LOCATION:III. Kerület TVE Sporttelep\, Kalap utca 2.\, Budapest\, 1037
CATEGORIES:Edzések
END:VEVENT
BEGIN:VEVENT
DTSTART;TZID=Europe/Budapest:20231011T190000
DTEND;TZID=Europe/Budapest:20231011T204500
DTSTAMP:20260423T113010
CREATED:20230919T061956Z
LAST-MODIFIED:20231007T044525Z
UID:30397-1697050800-1697057100@www.43szepitoksk.hu
SUMMARY:Edzőmérkőzés: III. Kerület TVE
DESCRIPTION:
URL:https://www.43szepitoksk.hu/event/edzes-853/
LOCATION:III. Kerület TVE Sporttelep\, Kalap utca 2.\, Budapest\, 1037
CATEGORIES:Edzőmérkőzések
END:VEVENT
BEGIN:VEVENT
DTSTART;TZID=Europe/Budapest:20231012T193000
DTEND;TZID=Europe/Budapest:20231012T210000
DTSTAMP:20260423T113010
CREATED:20230919T062127Z
LAST-MODIFIED:20230919T062127Z
UID:30400-1697139000-1697144400@www.43szepitoksk.hu
SUMMARY:Edzés
DESCRIPTION:
URL:https://www.43szepitoksk.hu/event/edzes-854/
LOCATION:III. Kerület TVE Sporttelep\, Kalap utca 2.\, Budapest\, 1037
CATEGORIES:Edzések
END:VEVENT
BEGIN:VEVENT
DTSTART;TZID=Europe/Budapest:20231014T180000
DTEND;TZID=Europe/Budapest:20231014T194500
DTSTAMP:20260423T113010
CREATED:20230919T062418Z
LAST-MODIFIED:20230919T062418Z
UID:30403-1697306400-1697312700@www.43szepitoksk.hu
SUMMARY:BLSZI 9. forduló: II. KERÜLET UFC
DESCRIPTION:
URL:https://www.43szepitoksk.hu/event/blszi-9-fordulo-ii-kerulet-ufc/
LOCATION:III. Kerület TVE Sporttelep\, Kalap utca 2.\, Budapest\, 1037
CATEGORIES:Bajnoki mérkőzések
END:VEVENT
BEGIN:VEVENT
DTSTART;TZID=Europe/Budapest:20231017T193000
DTEND;TZID=Europe/Budapest:20231017T210000
DTSTAMP:20260423T113010
CREATED:20231009T044846Z
LAST-MODIFIED:20231009T044846Z
UID:30604-1697571000-1697576400@www.43szepitoksk.hu
SUMMARY:Edzés
DESCRIPTION:
URL:https://www.43szepitoksk.hu/event/edzes-855/
LOCATION:III. Kerület TVE Sporttelep\, Kalap utca 2.\, Budapest\, 1037
CATEGORIES:Edzések
END:VEVENT
BEGIN:VEVENT
DTSTART;TZID=Europe/Budapest:20231018T193000
DTEND;TZID=Europe/Budapest:20231018T210000
DTSTAMP:20260423T113010
CREATED:20231009T044935Z
LAST-MODIFIED:20231009T044935Z
UID:30606-1697657400-1697662800@www.43szepitoksk.hu
SUMMARY:Edzés
DESCRIPTION:
URL:https://www.43szepitoksk.hu/event/edzes-856/
LOCATION:III. Kerület TVE Sporttelep\, Kalap utca 2.\, Budapest\, 1037
CATEGORIES:Edzések
END:VEVENT
BEGIN:VEVENT
DTSTART;TZID=Europe/Budapest:20231019T200000
DTEND;TZID=Europe/Budapest:20231019T213000
DTSTAMP:20260423T113010
CREATED:20231009T045030Z
LAST-MODIFIED:20231018T193918Z
UID:30608-1697745600-1697751000@www.43szepitoksk.hu
SUMMARY:Edzés
DESCRIPTION:
URL:https://www.43szepitoksk.hu/event/edzes-857/
LOCATION:III. Kerület TVE Sporttelep\, Kalap utca 2.\, Budapest\, 1037
CATEGORIES:Edzések
END:VEVENT
BEGIN:VEVENT
DTSTART;TZID=Europe/Budapest:20231021T143000
DTEND;TZID=Europe/Budapest:20231021T161500
DTSTAMP:20260423T113010
CREATED:20231009T045228Z
LAST-MODIFIED:20231009T045228Z
UID:30610-1697898600-1697904900@www.43szepitoksk.hu
SUMMARY:BLSZI 10. forduló: CSEPEL TC CS.G.
DESCRIPTION:
URL:https://www.43szepitoksk.hu/event/blszi-10-fordulo-csepel-tc-cs-g/
LOCATION:Csepel stadion\, Béke tér 1.\, Budapest\, Pest\, 1212\, Magyarország
CATEGORIES:Bajnoki mérkőzések
END:VEVENT
BEGIN:VEVENT
DTSTART;TZID=Europe/Budapest:20231024T193000
DTEND;TZID=Europe/Budapest:20231024T210000
DTSTAMP:20260423T113010
CREATED:20231009T045303Z
LAST-MODIFIED:20231009T045303Z
UID:30612-1698175800-1698181200@www.43szepitoksk.hu
SUMMARY:Edzés
DESCRIPTION:
URL:https://www.43szepitoksk.hu/event/edzes-858/
LOCATION:III. Kerület TVE Sporttelep\, Kalap utca 2.\, Budapest\, 1037
CATEGORIES:Edzések
END:VEVENT
BEGIN:VEVENT
DTSTART;TZID=Europe/Budapest:20231025T193000
DTEND;TZID=Europe/Budapest:20231025T210000
DTSTAMP:20260423T113010
CREATED:20231009T045338Z
LAST-MODIFIED:20231009T045338Z
UID:30614-1698262200-1698267600@www.43szepitoksk.hu
SUMMARY:Edzés
DESCRIPTION:
URL:https://www.43szepitoksk.hu/event/edzes-859/
LOCATION:III. Kerület TVE Sporttelep\, Kalap utca 2.\, Budapest\, 1037
CATEGORIES:Edzések
END:VEVENT
BEGIN:VEVENT
DTSTART;TZID=Europe/Budapest:20231026T193000
DTEND;TZID=Europe/Budapest:20231026T210000
DTSTAMP:20260423T113010
CREATED:20231009T045413Z
LAST-MODIFIED:20231009T045413Z
UID:30616-1698348600-1698354000@www.43szepitoksk.hu
SUMMARY:Edzés
DESCRIPTION:
URL:https://www.43szepitoksk.hu/event/edzes-860/
LOCATION:III. Kerület TVE Sporttelep\, Kalap utca 2.\, Budapest\, 1037
CATEGORIES:Edzések
END:VEVENT
BEGIN:VEVENT
DTSTART;TZID=Europe/Budapest:20231028T110000
DTEND;TZID=Europe/Budapest:20231028T124500
DTSTAMP:20260423T113010
CREATED:20231009T045510Z
LAST-MODIFIED:20231023T200049Z
UID:30618-1698490800-1698497100@www.43szepitoksk.hu
SUMMARY:BLSZI 11. forduló: UNIONE FC
DESCRIPTION:
URL:https://www.43szepitoksk.hu/event/blszi-11-fordulo-unione-fc/
LOCATION:III. Kerület TVE Sporttelep\, Kalap utca 2.\, Budapest\, 1037
CATEGORIES:Bajnoki mérkőzések
ATTACH;FMTTYPE=image/jpeg:https://www.43szepitoksk.hu/wp-content/uploads/2023/10/facebook-esemeny-epitok-unione.jpg
END:VEVENT
BEGIN:VEVENT
DTSTART;TZID=Europe/Budapest:20231031T193000
DTEND;TZID=Europe/Budapest:20231031T210000
DTSTAMP:20260423T113010
CREATED:20231015T165608Z
LAST-MODIFIED:20231015T165608Z
UID:30697-1698780600-1698786000@www.43szepitoksk.hu
SUMMARY:Edzés
DESCRIPTION:
URL:https://www.43szepitoksk.hu/event/edzes-861/
LOCATION:III. Kerület TVE Sporttelep\, Kalap utca 2.\, Budapest\, 1037
CATEGORIES:Edzések
END:VEVENT
BEGIN:VEVENT
DTSTART;TZID=Europe/Budapest:20231102T193000
DTEND;TZID=Europe/Budapest:20231102T210000
DTSTAMP:20260423T113010
CREATED:20231015T165746Z
LAST-MODIFIED:20231015T165746Z
UID:30699-1698953400-1698958800@www.43szepitoksk.hu
SUMMARY:Edzés
DESCRIPTION:
URL:https://www.43szepitoksk.hu/event/edzes-862/
LOCATION:III. Kerület TVE Sporttelep\, Kalap utca 2.\, Budapest\, 1037
CATEGORIES:Edzések
END:VEVENT
BEGIN:VEVENT
DTSTART;TZID=Europe/Budapest:20231104T180000
DTEND;TZID=Europe/Budapest:20231104T194500
DTSTAMP:20260423T113010
CREATED:20231016T070450Z
LAST-MODIFIED:20231031T054307Z
UID:30706-1699120800-1699127100@www.43szepitoksk.hu
SUMMARY:BLSZI. 12. forduló: SZENT ISTVÁN SE
DESCRIPTION:  \n 
URL:https://www.43szepitoksk.hu/event/blszi-12-fordulo-szent-istvan-se/
LOCATION:ROKK sporttelep\, Vágóhíd utca 11-13.\, Budapest\, 1097
CATEGORIES:Bajnoki mérkőzések
ATTACH;FMTTYPE=image/jpeg:https://www.43szepitoksk.hu/wp-content/uploads/2023/10/Esemenykep.jpg
END:VEVENT
BEGIN:VEVENT
DTSTART;TZID=Europe/Budapest:20231107T193000
DTEND;TZID=Europe/Budapest:20231107T210000
DTSTAMP:20260423T113010
CREATED:20231023T064154Z
LAST-MODIFIED:20231023T064154Z
UID:30790-1699385400-1699390800@www.43szepitoksk.hu
SUMMARY:Edzés
DESCRIPTION:
URL:https://www.43szepitoksk.hu/event/edzes-864/
LOCATION:III. Kerület TVE Sporttelep\, Kalap utca 2.\, Budapest\, 1037
CATEGORIES:Edzések
END:VEVENT
BEGIN:VEVENT
DTSTART;TZID=Europe/Budapest:20231108T193000
DTEND;TZID=Europe/Budapest:20231108T210000
DTSTAMP:20260423T113010
CREATED:20231023T064300Z
LAST-MODIFIED:20231023T064300Z
UID:30792-1699471800-1699477200@www.43szepitoksk.hu
SUMMARY:Edzés
DESCRIPTION:
URL:https://www.43szepitoksk.hu/event/edzes-865/
LOCATION:III. Kerület TVE Sporttelep\, Kalap utca 2.\, Budapest\, 1037
CATEGORIES:Edzések
END:VEVENT
BEGIN:VEVENT
DTSTART;TZID=Europe/Budapest:20231109T193000
DTEND;TZID=Europe/Budapest:20231109T210000
DTSTAMP:20260423T113010
CREATED:20231023T064346Z
LAST-MODIFIED:20231023T064346Z
UID:30794-1699558200-1699563600@www.43szepitoksk.hu
SUMMARY:Edzés
DESCRIPTION:
URL:https://www.43szepitoksk.hu/event/edzes-866/
LOCATION:III. Kerület TVE Sporttelep\, Kalap utca 2.\, Budapest\, 1037
CATEGORIES:Edzések
END:VEVENT
BEGIN:VEVENT
DTSTART;TZID=Europe/Budapest:20231111T170000
DTEND;TZID=Europe/Budapest:20231111T184500
DTSTAMP:20260423T113010
CREATED:20231023T064520Z
LAST-MODIFIED:20231106T063340Z
UID:30796-1699722000-1699728300@www.43szepitoksk.hu
SUMMARY:BLSZI 13. forduló: PESTSZENTIMREI SK
DESCRIPTION:
URL:https://www.43szepitoksk.hu/event/blszi-13-fordulo-pestszentimrei-sk/
LOCATION:III. Kerület TVE Sporttelep\, Kalap utca 2.\, Budapest\, 1037
CATEGORIES:Bajnoki mérkőzések
ATTACH;FMTTYPE=image/jpeg:https://www.43szepitoksk.hu/wp-content/uploads/2023/10/facebook-esemeny-epitok-psk-1.jpg
END:VEVENT
BEGIN:VEVENT
DTSTART;TZID=Europe/Budapest:20231114T193000
DTEND;TZID=Europe/Budapest:20231114T210000
DTSTAMP:20260423T113010
CREATED:20231023T164434Z
LAST-MODIFIED:20231023T164434Z
UID:30804-1699990200-1699995600@www.43szepitoksk.hu
SUMMARY:Edzés
DESCRIPTION:
URL:https://www.43szepitoksk.hu/event/edzes-867/
LOCATION:III. Kerület TVE Sporttelep\, Kalap utca 2.\, Budapest\, 1037
CATEGORIES:Edzések
END:VEVENT
BEGIN:VEVENT
DTSTART;TZID=Europe/Budapest:20231115T193000
DTEND;TZID=Europe/Budapest:20231115T210000
DTSTAMP:20260423T113010
CREATED:20231023T164503Z
LAST-MODIFIED:20231023T164503Z
UID:30806-1700076600-1700082000@www.43szepitoksk.hu
SUMMARY:Edzés
DESCRIPTION:
URL:https://www.43szepitoksk.hu/event/edzes-868/
LOCATION:III. Kerület TVE Sporttelep\, Kalap utca 2.\, Budapest\, 1037
CATEGORIES:Edzések
END:VEVENT
BEGIN:VEVENT
DTSTART;TZID=Europe/Budapest:20231116T193000
DTEND;TZID=Europe/Budapest:20231116T210000
DTSTAMP:20260423T113010
CREATED:20231023T164535Z
LAST-MODIFIED:20231023T164535Z
UID:30808-1700163000-1700168400@www.43szepitoksk.hu
SUMMARY:Edzés
DESCRIPTION:
URL:https://www.43szepitoksk.hu/event/edzes-869/
LOCATION:III. Kerület TVE Sporttelep\, Kalap utca 2.\, Budapest\, 1037
CATEGORIES:Edzések
END:VEVENT
BEGIN:VEVENT
DTSTART;TZID=Europe/Budapest:20231118T110000
DTEND;TZID=Europe/Budapest:20231118T124500
DTSTAMP:20260423T113010
CREATED:20231023T164733Z
LAST-MODIFIED:20231023T164733Z
UID:30810-1700305200-1700311500@www.43szepitoksk.hu
SUMMARY:BLSZI 14. forduló: CSEPEL UFC
DESCRIPTION:
URL:https://www.43szepitoksk.hu/event/blszi-14-fordulo-csepel-ufc/
LOCATION:Hollandi úti sporttelep\, Hollandi út 8-10.\, Budapest\, 1213
CATEGORIES:Bajnoki mérkőzések
END:VEVENT
BEGIN:VEVENT
DTSTART;TZID=Europe/Budapest:20231121T193000
DTEND;TZID=Europe/Budapest:20231121T210000
DTSTAMP:20260423T113010
CREATED:20231023T164810Z
LAST-MODIFIED:20231023T164810Z
UID:30812-1700595000-1700600400@www.43szepitoksk.hu
SUMMARY:Edzés
DESCRIPTION:
URL:https://www.43szepitoksk.hu/event/edzes-870/
LOCATION:III. Kerület TVE Sporttelep\, Kalap utca 2.\, Budapest\, 1037
CATEGORIES:Edzések
END:VEVENT
BEGIN:VEVENT
DTSTART;TZID=Europe/Budapest:20231122T193000
DTEND;TZID=Europe/Budapest:20231122T210000
DTSTAMP:20260423T113010
CREATED:20231023T164845Z
LAST-MODIFIED:20231023T164845Z
UID:30814-1700681400-1700686800@www.43szepitoksk.hu
SUMMARY:Edzés
DESCRIPTION:
URL:https://www.43szepitoksk.hu/event/edzes-871/
LOCATION:III. Kerület TVE Sporttelep\, Kalap utca 2.\, Budapest\, 1037
CATEGORIES:Edzések
END:VEVENT
BEGIN:VEVENT
DTSTART;TZID=Europe/Budapest:20231123T193000
DTEND;TZID=Europe/Budapest:20231123T210000
DTSTAMP:20260423T113010
CREATED:20231023T164924Z
LAST-MODIFIED:20231023T164924Z
UID:30816-1700767800-1700773200@www.43szepitoksk.hu
SUMMARY:Edzés
DESCRIPTION:
URL:https://www.43szepitoksk.hu/event/edzes-872/
LOCATION:III. Kerület TVE Sporttelep\, Kalap utca 2.\, Budapest\, 1037
CATEGORIES:Edzések
END:VEVENT
BEGIN:VEVENT
DTSTART;TZID=Europe/Budapest:20231125T180000
DTEND;TZID=Europe/Budapest:20231125T194500
DTSTAMP:20260423T113010
CREATED:20231023T165229Z
LAST-MODIFIED:20231124T074456Z
UID:30820-1700935200-1700941500@www.43szepitoksk.hu
SUMMARY:BLSZI 15. forduló: SZABADKIKÖTŐ SPORT KFT.
DESCRIPTION:
URL:https://www.43szepitoksk.hu/event/blszi-15-fordulo-szabadkikoto-sport-kft/
LOCATION:III. Kerület TVE Sporttelep\, Kalap utca 2.\, Budapest\, 1037
CATEGORIES:Bajnoki mérkőzések
END:VEVENT
BEGIN:VEVENT
DTSTART;TZID=Europe/Budapest:20231209T140000
DTEND;TZID=Europe/Budapest:20231209T173000
DTSTAMP:20260423T113010
CREATED:20231126T160206Z
LAST-MODIFIED:20231205T201503Z
UID:31187-1702130400-1702143000@www.43szepitoksk.hu
SUMMARY:BLSZ Téli Teremtorna selejtezők
DESCRIPTION:
URL:https://www.43szepitoksk.hu/event/blsz-teli-teremtorna-selejtezok-3/
LOCATION:Budafoki sporcsarnok\, Promontor utca 89.\, Budapest\, 1222
CATEGORIES:Teremtorna
ATTACH;FMTTYPE=image/jpeg:https://www.43szepitoksk.hu/wp-content/uploads/2023/11/Teremtorna-esemeny.jpg
END:VEVENT
BEGIN:VEVENT
DTSTART;TZID=Europe/Budapest:20240109T193000
DTEND;TZID=Europe/Budapest:20240109T210000
DTSTAMP:20260423T113010
CREATED:20231216T082718Z
LAST-MODIFIED:20231216T082718Z
UID:31254-1704828600-1704834000@www.43szepitoksk.hu
SUMMARY:Edzés
DESCRIPTION:
URL:https://www.43szepitoksk.hu/event/edzes-873/
LOCATION:III. Kerület TVE Sporttelep\, Kalap utca 2.\, Budapest\, 1037
CATEGORIES:Edzések
END:VEVENT
END:VCALENDAR