BEGIN:VCALENDAR
VERSION:2.0
PRODID:-//43. sz. Építők SK - ECPv6.14.0//NONSGML v1.0//EN
CALSCALE:GREGORIAN
METHOD:PUBLISH
X-ORIGINAL-URL:https://www.43szepitoksk.hu
X-WR-CALDESC:Események 43. sz. Építők SK
REFRESH-INTERVAL;VALUE=DURATION:PT1H
X-Robots-Tag:noindex
X-PUBLISHED-TTL:PT1H
BEGIN:VTIMEZONE
TZID:Europe/Budapest
BEGIN:DAYLIGHT
TZOFFSETFROM:+0100
TZOFFSETTO:+0200
TZNAME:CEST
DTSTART:20240331T010000
END:DAYLIGHT
BEGIN:STANDARD
TZOFFSETFROM:+0200
TZOFFSETTO:+0100
TZNAME:CET
DTSTART:20241027T010000
END:STANDARD
END:VTIMEZONE
BEGIN:VEVENT
DTSTART;TZID=Europe/Budapest:20240716T193000
DTEND;TZID=Europe/Budapest:20240716T213000
DTSTAMP:20260423T003001
CREATED:20240503T060156Z
LAST-MODIFIED:20240503T060156Z
UID:32508-1721158200-1721165400@www.43szepitoksk.hu
SUMMARY:Edzés
DESCRIPTION:
URL:https://www.43szepitoksk.hu/event/edzes-933/
LOCATION:III. Kerület TVE Sporttelep\, Kalap utca 2.\, Budapest\, 1037
CATEGORIES:Edzések
END:VEVENT
BEGIN:VEVENT
DTSTART;TZID=Europe/Budapest:20240717T200000
DTEND;TZID=Europe/Budapest:20240717T214500
DTSTAMP:20260423T003001
CREATED:20240503T060252Z
LAST-MODIFIED:20240715T205039Z
UID:32510-1721246400-1721252700@www.43szepitoksk.hu
SUMMARY:Edzőmérkőzés: Bánk Dalnoki LA
DESCRIPTION:
URL:https://www.43szepitoksk.hu/event/edzes-934/
LOCATION:III. Kerület TVE Sporttelep\, Kalap utca 2.\, Budapest\, 1037
CATEGORIES:Edzőmérkőzések
ATTACH;FMTTYPE=image/jpeg:https://www.43szepitoksk.hu/wp-content/uploads/2024/05/91ff7504-890f-4024-9f0d-a92e3b2f32b9.jpg
END:VEVENT
BEGIN:VEVENT
DTSTART;TZID=Europe/Budapest:20240718T193000
DTEND;TZID=Europe/Budapest:20240718T210000
DTSTAMP:20260423T003001
CREATED:20240503T060350Z
LAST-MODIFIED:20240503T060350Z
UID:32512-1721331000-1721336400@www.43szepitoksk.hu
SUMMARY:Edzés
DESCRIPTION:
URL:https://www.43szepitoksk.hu/event/edzes-935/
LOCATION:III. Kerület TVE Sporttelep\, Kalap utca 2.\, Budapest\, 1037
CATEGORIES:Edzések
END:VEVENT
BEGIN:VEVENT
DTSTART;TZID=Europe/Budapest:20240721T100000
DTEND;TZID=Europe/Budapest:20240721T114500
DTSTAMP:20260423T003001
CREATED:20240503T060531Z
LAST-MODIFIED:20240715T204917Z
UID:32514-1721556000-1721562300@www.43szepitoksk.hu
SUMMARY:Edzőmérkőzés: Pénzügyőr SE
DESCRIPTION:
URL:https://www.43szepitoksk.hu/event/edzomerkozes-penzugyor-se-2/
LOCATION:LV Sport Pénzügyőr\, Kőér utca 1/A.\, Budapest\, 1103
CATEGORIES:Edzőmérkőzések
ATTACH;FMTTYPE=image/jpeg:https://www.43szepitoksk.hu/wp-content/uploads/2024/05/5191a8b2-6133-4f87-b0a9-14e4d9f10231.jpg
END:VEVENT
BEGIN:VEVENT
DTSTART;TZID=Europe/Budapest:20240723T190000
DTEND;TZID=Europe/Budapest:20240723T204500
DTSTAMP:20260423T003001
CREATED:20240503T061230Z
LAST-MODIFIED:20240716T163554Z
UID:32520-1721761200-1721767500@www.43szepitoksk.hu
SUMMARY:Edzőmérkőzés: III. Kerület TVE U19
DESCRIPTION:
URL:https://www.43szepitoksk.hu/event/edzomerkozes-iii-kerulet-tve-u19-2/
LOCATION:III. Kerület TVE Sporttelep\, Kalap utca 2.\, Budapest\, 1037
CATEGORIES:Edzőmérkőzések
END:VEVENT
BEGIN:VEVENT
DTSTART;TZID=Europe/Budapest:20240724T193000
DTEND;TZID=Europe/Budapest:20240724T210000
DTSTAMP:20260423T003001
CREATED:20240503T061050Z
LAST-MODIFIED:20240716T163629Z
UID:32516-1721849400-1721854800@www.43szepitoksk.hu
SUMMARY:Edzés
DESCRIPTION:
URL:https://www.43szepitoksk.hu/event/edzes-936/
LOCATION:III. Kerület TVE Sporttelep\, Kalap utca 2.\, Budapest\, 1037
CATEGORIES:Edzések
END:VEVENT
BEGIN:VEVENT
DTSTART;TZID=Europe/Budapest:20240725T193000
DTEND;TZID=Europe/Budapest:20240725T210000
DTSTAMP:20260423T003001
CREATED:20240503T061139Z
LAST-MODIFIED:20240503T061139Z
UID:32518-1721935800-1721941200@www.43szepitoksk.hu
SUMMARY:Edzés
DESCRIPTION:
URL:https://www.43szepitoksk.hu/event/edzes-937/
LOCATION:III. Kerület TVE Sporttelep\, Kalap utca 2.\, Budapest\, 1037
CATEGORIES:Edzések
END:VEVENT
BEGIN:VEVENT
DTSTART;TZID=Europe/Budapest:20240726T180000
DTEND;TZID=Europe/Budapest:20240726T194500
DTSTAMP:20260423T003001
CREATED:20240503T061328Z
LAST-MODIFIED:20240718T070720Z
UID:32522-1722016800-1722023100@www.43szepitoksk.hu
SUMMARY:Edzőmérkőzés: Mészöly FS
DESCRIPTION:
URL:https://www.43szepitoksk.hu/event/edzomerkozes-rksk/
LOCATION:Fehér úti sporttelep\, Fehér út 9.\, Budapest\, 1106
CATEGORIES:Edzőmérkőzések
END:VEVENT
BEGIN:VEVENT
DTSTART;TZID=Europe/Budapest:20240730T190000
DTEND;TZID=Europe/Budapest:20240730T204500
DTSTAMP:20260423T003001
CREATED:20240503T061547Z
LAST-MODIFIED:20240726T050336Z
UID:32526-1722366000-1722372300@www.43szepitoksk.hu
SUMMARY:Edzőmérkőzés: Unione FC
DESCRIPTION:
URL:https://www.43szepitoksk.hu/event/edzomerkozes-unione-fc-4/
LOCATION:III. Kerület TVE Sporttelep\, Kalap utca 2.\, Budapest\, 1037
CATEGORIES:Edzőmérkőzések
END:VEVENT
BEGIN:VEVENT
DTSTART;TZID=Europe/Budapest:20240731T193000
DTEND;TZID=Europe/Budapest:20240731T210000
DTSTAMP:20260423T003001
CREATED:20240503T061457Z
LAST-MODIFIED:20240726T050403Z
UID:32524-1722454200-1722459600@www.43szepitoksk.hu
SUMMARY:Edzés
DESCRIPTION:
URL:https://www.43szepitoksk.hu/event/edzes-938/
LOCATION:III. Kerület TVE Sporttelep\, Kalap utca 2.\, Budapest\, 1037
CATEGORIES:Edzések
END:VEVENT
BEGIN:VEVENT
DTSTART;TZID=Europe/Budapest:20240801T193000
DTEND;TZID=Europe/Budapest:20240801T210000
DTSTAMP:20260423T003001
CREATED:20240503T061631Z
LAST-MODIFIED:20240503T061631Z
UID:32528-1722540600-1722546000@www.43szepitoksk.hu
SUMMARY:Edzés
DESCRIPTION:
URL:https://www.43szepitoksk.hu/event/edzes-939/
LOCATION:III. Kerület TVE Sporttelep\, Kalap utca 2.\, Budapest\, 1037
CATEGORIES:Edzések
END:VEVENT
BEGIN:VEVENT
DTSTART;TZID=Europe/Budapest:20240802T190000
DTEND;TZID=Europe/Budapest:20240802T204500
DTSTAMP:20260423T003001
CREATED:20240503T061728Z
LAST-MODIFIED:20240716T164735Z
UID:32530-1722625200-1722631500@www.43szepitoksk.hu
SUMMARY:Edzőmérkőzés: TFSE
DESCRIPTION:
URL:https://www.43szepitoksk.hu/event/edzomerkozes-gyongyosi-ak-4/
LOCATION:TF sporttelep\, Csörsz utca 2-4.\, Budapest\, 1124
CATEGORIES:Edzőmérkőzések
END:VEVENT
BEGIN:VEVENT
DTSTART;TZID=Europe/Budapest:20240806T193000
DTEND;TZID=Europe/Budapest:20240806T210000
DTSTAMP:20260423T003001
CREATED:20240503T061830Z
LAST-MODIFIED:20240503T061952Z
UID:32532-1722972600-1722978000@www.43szepitoksk.hu
SUMMARY:Edzés
DESCRIPTION:
URL:https://www.43szepitoksk.hu/event/edzes-940/
LOCATION:III. Kerület TVE Sporttelep\, Kalap utca 2.\, Budapest\, 1037
CATEGORIES:Edzések
END:VEVENT
BEGIN:VEVENT
DTSTART;TZID=Europe/Budapest:20240807T193000
DTEND;TZID=Europe/Budapest:20240807T210000
DTSTAMP:20260423T003001
CREATED:20240503T062137Z
LAST-MODIFIED:20240503T062137Z
UID:32534-1723059000-1723064400@www.43szepitoksk.hu
SUMMARY:Edzés
DESCRIPTION:
URL:https://www.43szepitoksk.hu/event/edzes-941/
LOCATION:III. Kerület TVE Sporttelep\, Kalap utca 2.\, Budapest\, 1037
CATEGORIES:Edzések
END:VEVENT
BEGIN:VEVENT
DTSTART;TZID=Europe/Budapest:20240808T193000
DTEND;TZID=Europe/Budapest:20240808T210000
DTSTAMP:20260423T003001
CREATED:20240503T062220Z
LAST-MODIFIED:20240801T163833Z
UID:32536-1723145400-1723150800@www.43szepitoksk.hu
SUMMARY:Edzés
DESCRIPTION:
URL:https://www.43szepitoksk.hu/event/edzes-942/
LOCATION:III. Kerület TVE Sporttelep\, Kalap utca 2.\, Budapest\, 1037
CATEGORIES:Edzések
END:VEVENT
BEGIN:VEVENT
DTSTART;TZID=Europe/Budapest:20240810T100000
DTEND;TZID=Europe/Budapest:20240810T114500
DTSTAMP:20260423T003001
CREATED:20240503T062601Z
LAST-MODIFIED:20240503T062734Z
UID:32539-1723284000-1723290300@www.43szepitoksk.hu
SUMMARY:Edzőmérkőzés: Budakalászi MSE
DESCRIPTION:
URL:https://www.43szepitoksk.hu/event/edzomerkozes-budakalaszi-mse-2/
LOCATION:Budakalászi sporttelep\, Omszk park 3.\, Budakalász\, 2011
CATEGORIES:Edzőmérkőzések
END:VEVENT
BEGIN:VEVENT
DTSTART;TZID=Europe/Budapest:20240813T193000
DTEND;TZID=Europe/Budapest:20240813T210000
DTSTAMP:20260423T003001
CREATED:20240503T062840Z
LAST-MODIFIED:20240503T063054Z
UID:32541-1723577400-1723582800@www.43szepitoksk.hu
SUMMARY:Edzés
DESCRIPTION:
URL:https://www.43szepitoksk.hu/event/edzes-943/
LOCATION:III. Kerület TVE Sporttelep\, Kalap utca 2.\, Budapest\, 1037
CATEGORIES:Edzések
END:VEVENT
BEGIN:VEVENT
DTSTART;TZID=Europe/Budapest:20240814T193000
DTEND;TZID=Europe/Budapest:20240814T210000
DTSTAMP:20260423T003001
CREATED:20240503T062922Z
LAST-MODIFIED:20240503T063113Z
UID:32543-1723663800-1723669200@www.43szepitoksk.hu
SUMMARY:Edzés
DESCRIPTION:
URL:https://www.43szepitoksk.hu/event/edzes-944/
LOCATION:III. Kerület TVE Sporttelep\, Kalap utca 2.\, Budapest\, 1037
CATEGORIES:Edzések
END:VEVENT
BEGIN:VEVENT
DTSTART;TZID=Europe/Budapest:20240815T193000
DTEND;TZID=Europe/Budapest:20240815T210000
DTSTAMP:20260423T003001
CREATED:20240503T063011Z
LAST-MODIFIED:20240503T063011Z
UID:32545-1723750200-1723755600@www.43szepitoksk.hu
SUMMARY:Edzés
DESCRIPTION:
URL:https://www.43szepitoksk.hu/event/edzes-945/
LOCATION:III. Kerület TVE Sporttelep\, Kalap utca 2.\, Budapest\, 1037
CATEGORIES:Edzések
END:VEVENT
BEGIN:VEVENT
DTSTART;TZID=Europe/Budapest:20240817T170000
DTEND;TZID=Europe/Budapest:20240817T184500
DTSTAMP:20260423T003001
CREATED:20240503T063138Z
LAST-MODIFIED:20240807T064251Z
UID:32547-1723914000-1723920300@www.43szepitoksk.hu
SUMMARY:BLSZI 1. forduló: FŐVÁROSI VÍZMŰVEK SK
DESCRIPTION:
URL:https://www.43szepitoksk.hu/event/bajnoki-rajt-4/
LOCATION:III. Kerület TVE Sporttelep\, Kalap utca 2.\, Budapest\, 1037
CATEGORIES:Bajnoki mérkőzések
END:VEVENT
BEGIN:VEVENT
DTSTART;TZID=Europe/Budapest:20240819T083000
DTEND;TZID=Europe/Budapest:20240819T100000
DTSTAMP:20260423T003001
CREATED:20240818T084359Z
LAST-MODIFIED:20240818T084359Z
UID:33335-1724056200-1724061600@www.43szepitoksk.hu
SUMMARY:Edzés
DESCRIPTION:
URL:https://www.43szepitoksk.hu/event/edzes-954/
LOCATION:III. Kerület TVE Sporttelep\, Kalap utca 2.\, Budapest\, 1037
CATEGORIES:Edzések
END:VEVENT
BEGIN:VEVENT
DTSTART;TZID=Europe/Budapest:20240821T193000
DTEND;TZID=Europe/Budapest:20240821T210000
DTSTAMP:20260423T003001
CREATED:20240807T064404Z
LAST-MODIFIED:20240807T064404Z
UID:33180-1724268600-1724274000@www.43szepitoksk.hu
SUMMARY:Edzés
DESCRIPTION:
URL:https://www.43szepitoksk.hu/event/edzes-949/
LOCATION:III. Kerület TVE Sporttelep\, Kalap utca 2.\, Budapest\, 1037
CATEGORIES:Edzések
END:VEVENT
BEGIN:VEVENT
DTSTART;TZID=Europe/Budapest:20240822T193000
DTEND;TZID=Europe/Budapest:20240822T210000
DTSTAMP:20260423T003001
CREATED:20240807T064452Z
LAST-MODIFIED:20240807T064452Z
UID:33182-1724355000-1724360400@www.43szepitoksk.hu
SUMMARY:Edzés
DESCRIPTION:
URL:https://www.43szepitoksk.hu/event/edzes-950/
LOCATION:III. Kerület TVE Sporttelep\, Kalap utca 2.\, Budapest\, 1037
CATEGORIES:Edzések
END:VEVENT
BEGIN:VEVENT
DTSTART;TZID=Europe/Budapest:20240823T190000
DTEND;TZID=Europe/Budapest:20240823T214500
DTSTAMP:20260423T003001
CREATED:20240807T064557Z
LAST-MODIFIED:20240807T064648Z
UID:33184-1724439600-1724449500@www.43szepitoksk.hu
SUMMARY:BLSZI 2. forduló: TFSE
DESCRIPTION:
URL:https://www.43szepitoksk.hu/event/blszi-2-fordulo-tfse/
LOCATION:Dr. Koltai Jenő sportközpont\, Csörsz utca 2-4.\, Budapest\, 1124
CATEGORIES:Bajnoki mérkőzések
END:VEVENT
BEGIN:VEVENT
DTSTART;TZID=Europe/Budapest:20240827T193000
DTEND;TZID=Europe/Budapest:20240827T210000
DTSTAMP:20260423T003001
CREATED:20240807T064834Z
LAST-MODIFIED:20240807T064834Z
UID:33186-1724787000-1724792400@www.43szepitoksk.hu
SUMMARY:Edzés
DESCRIPTION:
URL:https://www.43szepitoksk.hu/event/edzes-951/
LOCATION:III. Kerület TVE Sporttelep\, Kalap utca 2.\, Budapest\, 1037
CATEGORIES:Edzések
END:VEVENT
BEGIN:VEVENT
DTSTART;TZID=Europe/Budapest:20240828T193000
DTEND;TZID=Europe/Budapest:20240828T210000
DTSTAMP:20260423T003001
CREATED:20240807T065025Z
LAST-MODIFIED:20240807T065025Z
UID:33188-1724873400-1724878800@www.43szepitoksk.hu
SUMMARY:Edzés
DESCRIPTION:
URL:https://www.43szepitoksk.hu/event/edzes-952/
LOCATION:III. Kerület TVE Sporttelep\, Kalap utca 2.\, Budapest\, 1037
CATEGORIES:Edzések
END:VEVENT
BEGIN:VEVENT
DTSTART;TZID=Europe/Budapest:20240829T193000
DTEND;TZID=Europe/Budapest:20240829T210000
DTSTAMP:20260423T003001
CREATED:20240807T065134Z
LAST-MODIFIED:20240807T065134Z
UID:33190-1724959800-1724965200@www.43szepitoksk.hu
SUMMARY:Edzés
DESCRIPTION:
URL:https://www.43szepitoksk.hu/event/edzes-953/
LOCATION:III. Kerület TVE Sporttelep\, Kalap utca 2.\, Budapest\, 1037
CATEGORIES:Edzések
END:VEVENT
BEGIN:VEVENT
DTSTART;TZID=Europe/Budapest:20240831T110000
DTEND;TZID=Europe/Budapest:20240831T124500
DTSTAMP:20260423T003001
CREATED:20240807T065415Z
LAST-MODIFIED:20240807T065415Z
UID:33192-1725102000-1725108300@www.43szepitoksk.hu
SUMMARY:BLSZI 3. forduló: BVB AKADÉMIA
DESCRIPTION:
URL:https://www.43szepitoksk.hu/event/blszi-3-fordulo-bvb-akademia/
LOCATION:Gázművek sporttelep\, Sujtás utca 2-4.\, Budapest\, 1031
CATEGORIES:Bajnoki mérkőzések
END:VEVENT
BEGIN:VEVENT
DTSTART;TZID=Europe/Budapest:20240903T193000
DTEND;TZID=Europe/Budapest:20240903T210000
DTSTAMP:20260423T003001
CREATED:20240819T070954Z
LAST-MODIFIED:20240819T070954Z
UID:33354-1725391800-1725397200@www.43szepitoksk.hu
SUMMARY:Edzés
DESCRIPTION:
URL:https://www.43szepitoksk.hu/event/edzes-955/
LOCATION:III. Kerület TVE Sporttelep\, Kalap utca 2.\, Budapest\, 1037
CATEGORIES:Edzések
END:VEVENT
BEGIN:VEVENT
DTSTART;TZID=Europe/Budapest:20240904T193000
DTEND;TZID=Europe/Budapest:20240904T210000
DTSTAMP:20260423T003001
CREATED:20240819T071220Z
LAST-MODIFIED:20240819T071352Z
UID:33356-1725478200-1725483600@www.43szepitoksk.hu
SUMMARY:Edzés
DESCRIPTION:
URL:https://www.43szepitoksk.hu/event/edzes-956/
LOCATION:III. Kerület TVE Sporttelep\, Kalap utca 2.\, Budapest\, 1037
CATEGORIES:Edzések
END:VEVENT
END:VCALENDAR