BEGIN:VCALENDAR
VERSION:2.0
PRODID:-//43. sz. Építők SK - ECPv6.14.0//NONSGML v1.0//EN
CALSCALE:GREGORIAN
METHOD:PUBLISH
X-ORIGINAL-URL:https://www.43szepitoksk.hu
X-WR-CALDESC:Események 43. sz. Építők SK
REFRESH-INTERVAL;VALUE=DURATION:PT1H
X-Robots-Tag:noindex
X-PUBLISHED-TTL:PT1H
BEGIN:VTIMEZONE
TZID:Europe/Budapest
BEGIN:DAYLIGHT
TZOFFSETFROM:+0100
TZOFFSETTO:+0200
TZNAME:CEST
DTSTART:20240331T010000
END:DAYLIGHT
BEGIN:STANDARD
TZOFFSETFROM:+0200
TZOFFSETTO:+0100
TZNAME:CET
DTSTART:20241027T010000
END:STANDARD
BEGIN:DAYLIGHT
TZOFFSETFROM:+0100
TZOFFSETTO:+0200
TZNAME:CEST
DTSTART:20250330T010000
END:DAYLIGHT
BEGIN:STANDARD
TZOFFSETFROM:+0200
TZOFFSETTO:+0100
TZNAME:CET
DTSTART:20251026T010000
END:STANDARD
END:VTIMEZONE
BEGIN:VEVENT
DTSTART;TZID=Europe/Budapest:20241102T110000
DTEND;TZID=Europe/Budapest:20241102T124500
DTSTAMP:20260422T132257
CREATED:20241015T064728Z
LAST-MODIFIED:20241015T064728Z
UID:33961-1730545200-1730551500@www.43szepitoksk.hu
SUMMARY:BLSZI 12. forduló: UNIONE FC
DESCRIPTION:
URL:https://www.43szepitoksk.hu/event/blszi-12-fordulo-unione-fc/
LOCATION:III. Kerület TVE Sporttelep\, Kalap utca 2.\, Budapest\, 1037
CATEGORIES:Bajnoki mérkőzések
END:VEVENT
BEGIN:VEVENT
DTSTART;TZID=Europe/Budapest:20241105T193000
DTEND;TZID=Europe/Budapest:20241105T210000
DTSTAMP:20260422T132257
CREATED:20241021T192527Z
LAST-MODIFIED:20241021T192527Z
UID:34022-1730835000-1730840400@www.43szepitoksk.hu
SUMMARY:Edzés
DESCRIPTION:
URL:https://www.43szepitoksk.hu/event/edzes-982/
LOCATION:III. Kerület TVE Sporttelep\, Kalap utca 2.\, Budapest\, 1037
CATEGORIES:Edzések
END:VEVENT
BEGIN:VEVENT
DTSTART;TZID=Europe/Budapest:20241106T193000
DTEND;TZID=Europe/Budapest:20241106T210000
DTSTAMP:20260422T132257
CREATED:20241021T192626Z
LAST-MODIFIED:20241021T192626Z
UID:34024-1730921400-1730926800@www.43szepitoksk.hu
SUMMARY:Edzés
DESCRIPTION:
URL:https://www.43szepitoksk.hu/event/edzes-983/
LOCATION:III. Kerület TVE Sporttelep\, Kalap utca 2.\, Budapest\, 1037
CATEGORIES:Edzések
END:VEVENT
BEGIN:VEVENT
DTSTART;TZID=Europe/Budapest:20241107T193000
DTEND;TZID=Europe/Budapest:20241107T210000
DTSTAMP:20260422T132257
CREATED:20241021T192653Z
LAST-MODIFIED:20241021T192653Z
UID:34026-1731007800-1731013200@www.43szepitoksk.hu
SUMMARY:Edzés
DESCRIPTION:
URL:https://www.43szepitoksk.hu/event/edzes-984/
LOCATION:III. Kerület TVE Sporttelep\, Kalap utca 2.\, Budapest\, 1037
CATEGORIES:Edzések
END:VEVENT
BEGIN:VEVENT
DTSTART;TZID=Europe/Budapest:20241109T140000
DTEND;TZID=Europe/Budapest:20241109T154500
DTSTAMP:20260422T132257
CREATED:20241021T192835Z
LAST-MODIFIED:20241021T192835Z
UID:34028-1731160800-1731167100@www.43szepitoksk.hu
SUMMARY:BLSZI 13. forduló: II. KERÜLET UFC
DESCRIPTION:
URL:https://www.43szepitoksk.hu/event/blszi-13-fordulo-ii-kerulet-ufc/
LOCATION:Panoráma Sportközpont\, Kolozsvári T. utca 11.\, Budapest\, 1023
CATEGORIES:Bajnoki mérkőzések
END:VEVENT
BEGIN:VEVENT
DTSTART;TZID=Europe/Budapest:20241112T193000
DTEND;TZID=Europe/Budapest:20241112T210000
DTSTAMP:20260422T132257
CREATED:20241021T192913Z
LAST-MODIFIED:20241021T192913Z
UID:34030-1731439800-1731445200@www.43szepitoksk.hu
SUMMARY:Edzés
DESCRIPTION:
URL:https://www.43szepitoksk.hu/event/edzes-985/
LOCATION:III. Kerület TVE Sporttelep\, Kalap utca 2.\, Budapest\, 1037
CATEGORIES:Edzések
END:VEVENT
BEGIN:VEVENT
DTSTART;TZID=Europe/Budapest:20241113T193000
DTEND;TZID=Europe/Budapest:20241113T210000
DTSTAMP:20260422T132257
CREATED:20241021T192946Z
LAST-MODIFIED:20241021T192946Z
UID:34032-1731526200-1731531600@www.43szepitoksk.hu
SUMMARY:Edzés
DESCRIPTION:
URL:https://www.43szepitoksk.hu/event/edzes-986/
LOCATION:III. Kerület TVE Sporttelep\, Kalap utca 2.\, Budapest\, 1037
CATEGORIES:Edzések
END:VEVENT
BEGIN:VEVENT
DTSTART;TZID=Europe/Budapest:20241114T193000
DTEND;TZID=Europe/Budapest:20241114T210000
DTSTAMP:20260422T132257
CREATED:20241021T193011Z
LAST-MODIFIED:20241021T193011Z
UID:34034-1731612600-1731618000@www.43szepitoksk.hu
SUMMARY:Edzés
DESCRIPTION:
URL:https://www.43szepitoksk.hu/event/edzes-987/
LOCATION:III. Kerület TVE Sporttelep\, Kalap utca 2.\, Budapest\, 1037
CATEGORIES:Edzések
END:VEVENT
BEGIN:VEVENT
DTSTART;TZID=Europe/Budapest:20241116T170000
DTEND;TZID=Europe/Budapest:20241116T184500
DTSTAMP:20260422T132257
CREATED:20241021T193126Z
LAST-MODIFIED:20241021T193126Z
UID:34036-1731776400-1731782700@www.43szepitoksk.hu
SUMMARY:BLSZI 14. forduló: BUDAFOKI MTE II
DESCRIPTION:
URL:https://www.43szepitoksk.hu/event/blszi-14-fordulo-budafoki-mte-ii/
LOCATION:III. Kerület TVE Sporttelep\, Kalap utca 2.\, Budapest\, 1037
CATEGORIES:Bajnoki mérkőzések
END:VEVENT
BEGIN:VEVENT
DTSTART;TZID=Europe/Budapest:20241119T193000
DTEND;TZID=Europe/Budapest:20241119T210000
DTSTAMP:20260422T132257
CREATED:20241021T193726Z
LAST-MODIFIED:20241021T193726Z
UID:34048-1732044600-1732050000@www.43szepitoksk.hu
SUMMARY:Edzés
DESCRIPTION:
URL:https://www.43szepitoksk.hu/event/edzes-991/
LOCATION:III. Kerület TVE Sporttelep\, Kalap utca 2.\, Budapest\, 1037
CATEGORIES:Edzések
END:VEVENT
BEGIN:VEVENT
DTSTART;TZID=Europe/Budapest:20241120T193000
DTEND;TZID=Europe/Budapest:20241120T210000
DTSTAMP:20260422T132257
CREATED:20241021T193753Z
LAST-MODIFIED:20241021T193753Z
UID:34050-1732131000-1732136400@www.43szepitoksk.hu
SUMMARY:Edzés
DESCRIPTION:
URL:https://www.43szepitoksk.hu/event/edzes-992/
LOCATION:III. Kerület TVE Sporttelep\, Kalap utca 2.\, Budapest\, 1037
CATEGORIES:Edzések
END:VEVENT
BEGIN:VEVENT
DTSTART;TZID=Europe/Budapest:20241121T193000
DTEND;TZID=Europe/Budapest:20241121T210000
DTSTAMP:20260422T132257
CREATED:20241021T193820Z
LAST-MODIFIED:20241021T193820Z
UID:34052-1732217400-1732222800@www.43szepitoksk.hu
SUMMARY:Edzés
DESCRIPTION:
URL:https://www.43szepitoksk.hu/event/edzes-993/
LOCATION:III. Kerület TVE Sporttelep\, Kalap utca 2.\, Budapest\, 1037
CATEGORIES:Edzések
END:VEVENT
BEGIN:VEVENT
DTSTART;TZID=Europe/Budapest:20241123T110000
DTEND;TZID=Europe/Budapest:20241123T124500
DTSTAMP:20260422T132257
CREATED:20241021T193911Z
LAST-MODIFIED:20241021T193911Z
UID:34054-1732359600-1732365900@www.43szepitoksk.hu
SUMMARY:BLSZI 15. forduló: CSEPEL UFC
DESCRIPTION:
URL:https://www.43szepitoksk.hu/event/blszi-15-fordulo-csepel-ufc/
LOCATION:Hollandi úti sporttelep\, Hollandi út 8-10.\, Budapest\, 1213
CATEGORIES:Bajnoki mérkőzések
END:VEVENT
BEGIN:VEVENT
DTSTART;TZID=Europe/Budapest:20241126T193000
DTEND;TZID=Europe/Budapest:20241126T210000
DTSTAMP:20260422T132257
CREATED:20241021T193158Z
LAST-MODIFIED:20241021T193158Z
UID:34038-1732649400-1732654800@www.43szepitoksk.hu
SUMMARY:Edzés
DESCRIPTION:
URL:https://www.43szepitoksk.hu/event/edzes-988/
LOCATION:III. Kerület TVE Sporttelep\, Kalap utca 2.\, Budapest\, 1037
CATEGORIES:Edzések
END:VEVENT
BEGIN:VEVENT
DTSTART;TZID=Europe/Budapest:20241127T193000
DTEND;TZID=Europe/Budapest:20241127T210000
DTSTAMP:20260422T132257
CREATED:20241021T193229Z
LAST-MODIFIED:20241021T193229Z
UID:34040-1732735800-1732741200@www.43szepitoksk.hu
SUMMARY:Edzés
DESCRIPTION:
URL:https://www.43szepitoksk.hu/event/edzes-989/
LOCATION:III. Kerület TVE Sporttelep\, Kalap utca 2.\, Budapest\, 1037
CATEGORIES:Edzések
END:VEVENT
BEGIN:VEVENT
DTSTART;TZID=Europe/Budapest:20241128T193000
DTEND;TZID=Europe/Budapest:20241128T210000
DTSTAMP:20260422T132257
CREATED:20241021T193259Z
LAST-MODIFIED:20241021T193259Z
UID:34042-1732822200-1732827600@www.43szepitoksk.hu
SUMMARY:Edzés
DESCRIPTION:
URL:https://www.43szepitoksk.hu/event/edzes-990/
LOCATION:III. Kerület TVE Sporttelep\, Kalap utca 2.\, Budapest\, 1037
CATEGORIES:Edzések
END:VEVENT
BEGIN:VEVENT
DTSTART;TZID=Europe/Budapest:20241130T130000
DTEND;TZID=Europe/Budapest:20241130T144500
DTSTAMP:20260422T132257
CREATED:20241021T193642Z
LAST-MODIFIED:20241021T193653Z
UID:34045-1732971600-1732977900@www.43szepitoksk.hu
SUMMARY:BLSZI 5. forduló (halasztott mérkőzés): 1908 SZAC BUDAPEST FC
DESCRIPTION:
URL:https://www.43szepitoksk.hu/event/blszi-5-fordulo-halasztott-merkozes-1908-szav-budapest-fc/
LOCATION:Deák Ferenc „Bamba” Sportcentrum\, Thököly utca 5.\, Budapest\, 1183
END:VEVENT
BEGIN:VEVENT
DTSTART;TZID=Europe/Budapest:20241207T140000
DTEND;TZID=Europe/Budapest:20241207T173000
DTSTAMP:20260422T132257
CREATED:20241118T180705Z
LAST-MODIFIED:20241118T194722Z
UID:34402-1733580000-1733592600@www.43szepitoksk.hu
SUMMARY:BLSZ Téli Teremtorna selejtezők A csoport
DESCRIPTION:43. sz. Építők SK \nKISE \nMészöly \nNimród
URL:https://www.43szepitoksk.hu/event/blsz-teli-teremtorna-selejtezok-a-csoport/
LOCATION:Budafoki sporcsarnok\, Promontor utca 89.\, Budapest\, 1222
CATEGORIES:Kispályás torna
END:VEVENT
BEGIN:VEVENT
DTSTART;TZID=Europe/Budapest:20241213T190000
DTEND;TZID=Europe/Budapest:20241213T190000
DTSTAMP:20260422T132257
CREATED:20241126T095657Z
LAST-MODIFIED:20241126T095715Z
UID:34453-1734116400-1734116400@www.43szepitoksk.hu
SUMMARY:Évzáró Bankett és Év Labdarúgója 2024 Választás
DESCRIPTION:
URL:https://www.43szepitoksk.hu/event/evzaro-bankett-es-ev-labdarugoja-valasztas/
LOCATION:Orange Bike Bisztró\, Római part 27.\, Budapest
CATEGORIES:Bankett
END:VEVENT
BEGIN:VEVENT
DTSTART;TZID=Europe/Budapest:20250107T193000
DTEND;TZID=Europe/Budapest:20250107T210000
DTSTAMP:20260422T132257
CREATED:20241230T100349Z
LAST-MODIFIED:20241230T100349Z
UID:34589-1736278200-1736283600@www.43szepitoksk.hu
SUMMARY:Edzés
DESCRIPTION:
URL:https://www.43szepitoksk.hu/event/edzes-994/
LOCATION:III. Kerület TVE Sporttelep\, Kalap utca 2.\, Budapest\, 1037
CATEGORIES:Edzések
END:VEVENT
BEGIN:VEVENT
DTSTART;TZID=Europe/Budapest:20250108T193000
DTEND;TZID=Europe/Budapest:20250108T210000
DTSTAMP:20260422T132257
CREATED:20241230T100423Z
LAST-MODIFIED:20241230T100423Z
UID:34591-1736364600-1736370000@www.43szepitoksk.hu
SUMMARY:Edzés
DESCRIPTION:
URL:https://www.43szepitoksk.hu/event/edzes-995/
LOCATION:III. Kerület TVE Sporttelep\, Kalap utca 2.\, Budapest\, 1037
CATEGORIES:Edzések
END:VEVENT
BEGIN:VEVENT
DTSTART;TZID=Europe/Budapest:20250109T193000
DTEND;TZID=Europe/Budapest:20250109T210000
DTSTAMP:20260422T132257
CREATED:20241230T100452Z
LAST-MODIFIED:20241230T100452Z
UID:34593-1736451000-1736456400@www.43szepitoksk.hu
SUMMARY:Edzés
DESCRIPTION:
URL:https://www.43szepitoksk.hu/event/edzes-996/
LOCATION:III. Kerület TVE Sporttelep\, Kalap utca 2.\, Budapest\, 1037
CATEGORIES:Edzések
END:VEVENT
BEGIN:VEVENT
DTSTART;TZID=Europe/Budapest:20250114T193000
DTEND;TZID=Europe/Budapest:20250114T210000
DTSTAMP:20260422T132257
CREATED:20241230T100521Z
LAST-MODIFIED:20241230T100521Z
UID:34595-1736883000-1736888400@www.43szepitoksk.hu
SUMMARY:Edzés
DESCRIPTION:
URL:https://www.43szepitoksk.hu/event/edzes-997/
LOCATION:III. Kerület TVE Sporttelep\, Kalap utca 2.\, Budapest\, 1037
CATEGORIES:Edzések
END:VEVENT
BEGIN:VEVENT
DTSTART;TZID=Europe/Budapest:20250115T193000
DTEND;TZID=Europe/Budapest:20250115T210000
DTSTAMP:20260422T132257
CREATED:20241230T100550Z
LAST-MODIFIED:20241230T100550Z
UID:34597-1736969400-1736974800@www.43szepitoksk.hu
SUMMARY:Edzés
DESCRIPTION:
URL:https://www.43szepitoksk.hu/event/edzes-998/
LOCATION:III. Kerület TVE Sporttelep\, Kalap utca 2.\, Budapest\, 1037
CATEGORIES:Edzések
END:VEVENT
BEGIN:VEVENT
DTSTART;TZID=Europe/Budapest:20250115T193000
DTEND;TZID=Europe/Budapest:20250115T211500
DTSTAMP:20260422T132257
CREATED:20250104T134449Z
LAST-MODIFIED:20250115T194423Z
UID:34625-1736969400-1736975700@www.43szepitoksk.hu
SUMMARY:Edzőmérkőzés: Kelen SC U19 ELMARADT!
DESCRIPTION:A pálya használhatatlansága miatt elmaradt!
URL:https://www.43szepitoksk.hu/event/edzomerkozes-kelen-sc-u19/
LOCATION:III. Kerület TVE Sporttelep\, Kalap utca 2.\, Budapest\, 1037
CATEGORIES:Edzőmérkőzések
END:VEVENT
BEGIN:VEVENT
DTSTART;TZID=Europe/Budapest:20250116T193000
DTEND;TZID=Europe/Budapest:20250116T210000
DTSTAMP:20260422T132257
CREATED:20241230T100616Z
LAST-MODIFIED:20241230T100616Z
UID:34599-1737055800-1737061200@www.43szepitoksk.hu
SUMMARY:Edzés
DESCRIPTION:
URL:https://www.43szepitoksk.hu/event/edzes-999/
LOCATION:III. Kerület TVE Sporttelep\, Kalap utca 2.\, Budapest\, 1037
CATEGORIES:Edzések
END:VEVENT
BEGIN:VEVENT
DTSTART;TZID=Europe/Budapest:20250118T110000
DTEND;TZID=Europe/Budapest:20250118T124500
DTSTAMP:20260422T132257
CREATED:20250102T164143Z
LAST-MODIFIED:20250119T090728Z
UID:34617-1737198000-1737204300@www.43szepitoksk.hu
SUMMARY:Edzőmérkőzés: Unione FC
DESCRIPTION:
URL:https://www.43szepitoksk.hu/event/edzomerkozes-unione-fc-5/
LOCATION:III. Kerület TVE Sporttelep\, Kalap utca 2.\, Budapest\, 1037
CATEGORIES:Edzőmérkőzések
ATTACH;FMTTYPE=image/jpeg:https://www.43szepitoksk.hu/wp-content/uploads/2025/01/unione.jpg
END:VEVENT
BEGIN:VEVENT
DTSTART;TZID=Europe/Budapest:20250121T193000
DTEND;TZID=Europe/Budapest:20250121T210000
DTSTAMP:20260422T132257
CREATED:20241230T100643Z
LAST-MODIFIED:20241230T100643Z
UID:34601-1737487800-1737493200@www.43szepitoksk.hu
SUMMARY:Edzés
DESCRIPTION:
URL:https://www.43szepitoksk.hu/event/edzes-1000/
LOCATION:III. Kerület TVE Sporttelep\, Kalap utca 2.\, Budapest\, 1037
CATEGORIES:Edzések
END:VEVENT
BEGIN:VEVENT
DTSTART;TZID=Europe/Budapest:20250122T193000
DTEND;TZID=Europe/Budapest:20250122T210000
DTSTAMP:20260422T132257
CREATED:20241230T100708Z
LAST-MODIFIED:20241230T100708Z
UID:34603-1737574200-1737579600@www.43szepitoksk.hu
SUMMARY:Edzés
DESCRIPTION:
URL:https://www.43szepitoksk.hu/event/edzes-1001/
LOCATION:III. Kerület TVE Sporttelep\, Kalap utca 2.\, Budapest\, 1037
CATEGORIES:Edzések
END:VEVENT
BEGIN:VEVENT
DTSTART;TZID=Europe/Budapest:20250122T193000
DTEND;TZID=Europe/Budapest:20250122T211500
DTSTAMP:20260422T132257
CREATED:20250102T164323Z
LAST-MODIFIED:20250119T090702Z
UID:34619-1737574200-1737580500@www.43szepitoksk.hu
SUMMARY:Edzőmérkőzés: Pestszentimrei SK
DESCRIPTION:
URL:https://www.43szepitoksk.hu/event/edzomerkozes-pestszentimrei-sk/
LOCATION:III. Kerület TVE Sporttelep\, Kalap utca 2.\, Budapest\, 1037
CATEGORIES:Edzőmérkőzések
ATTACH;FMTTYPE=image/jpeg:https://www.43szepitoksk.hu/wp-content/uploads/2025/01/psk.jpg
END:VEVENT
END:VCALENDAR