BEGIN:VCALENDAR
VERSION:2.0
PRODID:-//43. sz. Építők SK - ECPv6.14.0//NONSGML v1.0//EN
CALSCALE:GREGORIAN
METHOD:PUBLISH
X-ORIGINAL-URL:https://www.43szepitoksk.hu
X-WR-CALDESC:Események 43. sz. Építők SK
REFRESH-INTERVAL;VALUE=DURATION:PT1H
X-Robots-Tag:noindex
X-PUBLISHED-TTL:PT1H
BEGIN:VTIMEZONE
TZID:Europe/Budapest
BEGIN:DAYLIGHT
TZOFFSETFROM:+0100
TZOFFSETTO:+0200
TZNAME:CEST
DTSTART:20250330T010000
END:DAYLIGHT
BEGIN:STANDARD
TZOFFSETFROM:+0200
TZOFFSETTO:+0100
TZNAME:CET
DTSTART:20251026T010000
END:STANDARD
END:VTIMEZONE
BEGIN:VEVENT
DTSTART;TZID=Europe/Budapest:20250211T193000
DTEND;TZID=Europe/Budapest:20250211T210000
DTSTAMP:20260422T120401
CREATED:20250109T082317Z
LAST-MODIFIED:20250109T082317Z
UID:34640-1739302200-1739307600@www.43szepitoksk.hu
SUMMARY:Edzés
DESCRIPTION:
URL:https://www.43szepitoksk.hu/event/edzes-1009/
LOCATION:III. Kerület TVE Sporttelep\, Kalap utca 2.\, Budapest\, 1037
CATEGORIES:Edzések
END:VEVENT
BEGIN:VEVENT
DTSTART;TZID=Europe/Budapest:20250212T193000
DTEND;TZID=Europe/Budapest:20250212T210000
DTSTAMP:20260422T120401
CREATED:20250109T082347Z
LAST-MODIFIED:20250109T082353Z
UID:34642-1739388600-1739394000@www.43szepitoksk.hu
SUMMARY:Edzés
DESCRIPTION:
URL:https://www.43szepitoksk.hu/event/edzes-1010/
LOCATION:III. Kerület TVE Sporttelep\, Kalap utca 2.\, Budapest\, 1037
CATEGORIES:Edzések
END:VEVENT
BEGIN:VEVENT
DTSTART;TZID=Europe/Budapest:20250213T193000
DTEND;TZID=Europe/Budapest:20250213T210000
DTSTAMP:20260422T120401
CREATED:20250109T082417Z
LAST-MODIFIED:20250109T082417Z
UID:34644-1739475000-1739480400@www.43szepitoksk.hu
SUMMARY:Edzés
DESCRIPTION:
URL:https://www.43szepitoksk.hu/event/edzes-1011/
LOCATION:III. Kerület TVE Sporttelep\, Kalap utca 2.\, Budapest\, 1037
CATEGORIES:Edzések
END:VEVENT
BEGIN:VEVENT
DTSTART;TZID=Europe/Budapest:20250215T110000
DTEND;TZID=Europe/Budapest:20250215T124500
DTSTAMP:20260422T120401
CREATED:20250113T100555Z
LAST-MODIFIED:20250210T064340Z
UID:34653-1739617200-1739623500@www.43szepitoksk.hu
SUMMARY:BLSZI 16. forduló: VÍZMŰVEK SK
DESCRIPTION:
URL:https://www.43szepitoksk.hu/event/blszi-16-fordulo-vizmuvek-sk/
LOCATION:Fővárosi Vízművek Sporttelep\, Váci út 102.\, Budapest\, 1044
CATEGORIES:Bajnoki mérkőzések
ATTACH;FMTTYPE=image/jpeg:https://www.43szepitoksk.hu/wp-content/uploads/2025/01/esemeny.jpg
END:VEVENT
BEGIN:VEVENT
DTSTART;TZID=Europe/Budapest:20250218T193000
DTEND;TZID=Europe/Budapest:20250218T210000
DTSTAMP:20260422T120401
CREATED:20250202T171709Z
LAST-MODIFIED:20250202T171709Z
UID:34837-1739907000-1739912400@www.43szepitoksk.hu
SUMMARY:Edzés
DESCRIPTION:
URL:https://www.43szepitoksk.hu/event/edzes-1012/
LOCATION:III. Kerület TVE Sporttelep\, Kalap utca 2.\, Budapest\, 1037
CATEGORIES:Edzések
END:VEVENT
BEGIN:VEVENT
DTSTART;TZID=Europe/Budapest:20250219T193000
DTEND;TZID=Europe/Budapest:20250219T210000
DTSTAMP:20260422T120401
CREATED:20250202T171737Z
LAST-MODIFIED:20250202T171737Z
UID:34839-1739993400-1739998800@www.43szepitoksk.hu
SUMMARY:Edzés
DESCRIPTION:
URL:https://www.43szepitoksk.hu/event/edzes-1013/
LOCATION:III. Kerület TVE Sporttelep\, Kalap utca 2.\, Budapest\, 1037
CATEGORIES:Edzések
END:VEVENT
BEGIN:VEVENT
DTSTART;TZID=Europe/Budapest:20250220T193000
DTEND;TZID=Europe/Budapest:20250220T210000
DTSTAMP:20260422T120401
CREATED:20250202T171802Z
LAST-MODIFIED:20250202T171802Z
UID:34841-1740079800-1740085200@www.43szepitoksk.hu
SUMMARY:Edzés
DESCRIPTION:
URL:https://www.43szepitoksk.hu/event/edzes-1014/
LOCATION:III. Kerület TVE Sporttelep\, Kalap utca 2.\, Budapest\, 1037
CATEGORIES:Edzések
END:VEVENT
BEGIN:VEVENT
DTSTART;TZID=Europe/Budapest:20250222T173000
DTEND;TZID=Europe/Budapest:20250222T191500
DTSTAMP:20260422T120401
CREATED:20250202T171915Z
LAST-MODIFIED:20250216T200216Z
UID:34843-1740245400-1740251700@www.43szepitoksk.hu
SUMMARY:BLSZI 17. forduló: TFSE
DESCRIPTION:
URL:https://www.43szepitoksk.hu/event/blszi-17-fordulo-tfse/
LOCATION:III. Kerület TVE Sporttelep\, Kalap utca 2.\, Budapest\, 1037
CATEGORIES:Bajnoki mérkőzések
ATTACH;FMTTYPE=image/jpeg:https://www.43szepitoksk.hu/wp-content/uploads/2025/02/esemeny.jpg
END:VEVENT
BEGIN:VEVENT
DTSTART;TZID=Europe/Budapest:20250225T193000
DTEND;TZID=Europe/Budapest:20250225T210000
DTSTAMP:20260422T120401
CREATED:20250202T172933Z
LAST-MODIFIED:20250202T172933Z
UID:34845-1740511800-1740517200@www.43szepitoksk.hu
SUMMARY:Edzés
DESCRIPTION:
URL:https://www.43szepitoksk.hu/event/edzes-1015/
LOCATION:III. Kerület TVE Sporttelep\, Kalap utca 2.\, Budapest\, 1037
CATEGORIES:Edzések
END:VEVENT
BEGIN:VEVENT
DTSTART;TZID=Europe/Budapest:20250226T193000
DTEND;TZID=Europe/Budapest:20250226T210000
DTSTAMP:20260422T120401
CREATED:20250202T173051Z
LAST-MODIFIED:20250202T173051Z
UID:34847-1740598200-1740603600@www.43szepitoksk.hu
SUMMARY:Edzés
DESCRIPTION:
URL:https://www.43szepitoksk.hu/event/edzes-1016/
LOCATION:III. Kerület TVE Sporttelep\, Kalap utca 2.\, Budapest\, 1037
CATEGORIES:Edzések
END:VEVENT
BEGIN:VEVENT
DTSTART;TZID=Europe/Budapest:20250227T193000
DTEND;TZID=Europe/Budapest:20250227T210000
DTSTAMP:20260422T120401
CREATED:20250202T173117Z
LAST-MODIFIED:20250202T173117Z
UID:34849-1740684600-1740690000@www.43szepitoksk.hu
SUMMARY:Edzés
DESCRIPTION:
URL:https://www.43szepitoksk.hu/event/edzes-1017/
LOCATION:III. Kerület TVE Sporttelep\, Kalap utca 2.\, Budapest\, 1037
CATEGORIES:Edzések
END:VEVENT
BEGIN:VEVENT
DTSTART;TZID=Europe/Budapest:20250301T170000
DTEND;TZID=Europe/Budapest:20250301T184500
DTSTAMP:20260422T120401
CREATED:20250202T173244Z
LAST-MODIFIED:20250224T065732Z
UID:34851-1740848400-1740854700@www.43szepitoksk.hu
SUMMARY:BLSZI 18. forduló: UDSE GÁZGYÁR
DESCRIPTION:
URL:https://www.43szepitoksk.hu/event/blszi-18-fordulo-udse-gazgyar/
LOCATION:III. Kerület TVE Sporttelep\, Kalap utca 2.\, Budapest\, 1037
CATEGORIES:Bajnoki mérkőzések
ATTACH;FMTTYPE=image/jpeg:https://www.43szepitoksk.hu/wp-content/uploads/2025/02/esemeny-1.jpg
END:VEVENT
BEGIN:VEVENT
DTSTART;TZID=Europe/Budapest:20250304T193000
DTEND;TZID=Europe/Budapest:20250304T210000
DTSTAMP:20260422T120401
CREATED:20250209T095512Z
LAST-MODIFIED:20250209T095512Z
UID:34969-1741116600-1741122000@www.43szepitoksk.hu
SUMMARY:Edzés
DESCRIPTION:
URL:https://www.43szepitoksk.hu/event/edzes-1018/
LOCATION:III. Kerület TVE Sporttelep\, Kalap utca 2.\, Budapest\, 1037
CATEGORIES:Edzések
END:VEVENT
BEGIN:VEVENT
DTSTART;TZID=Europe/Budapest:20250305T193000
DTEND;TZID=Europe/Budapest:20250305T210000
DTSTAMP:20260422T120401
CREATED:20250209T095547Z
LAST-MODIFIED:20250209T095547Z
UID:34971-1741203000-1741208400@www.43szepitoksk.hu
SUMMARY:Edzés
DESCRIPTION:
URL:https://www.43szepitoksk.hu/event/edzes-1019/
LOCATION:III. Kerület TVE Sporttelep\, Kalap utca 2.\, Budapest\, 1037
CATEGORIES:Edzések
END:VEVENT
BEGIN:VEVENT
DTSTART;TZID=Europe/Budapest:20250306T193000
DTEND;TZID=Europe/Budapest:20250306T210000
DTSTAMP:20260422T120401
CREATED:20250209T095635Z
LAST-MODIFIED:20250209T095635Z
UID:34973-1741289400-1741294800@www.43szepitoksk.hu
SUMMARY:Edzés
DESCRIPTION:
URL:https://www.43szepitoksk.hu/event/edzes-1020/
LOCATION:III. Kerület TVE Sporttelep\, Kalap utca 2.\, Budapest\, 1037
CATEGORIES:Edzések
END:VEVENT
BEGIN:VEVENT
DTSTART;TZID=Europe/Budapest:20250308T164500
DTEND;TZID=Europe/Budapest:20250308T183000
DTSTAMP:20260422T120401
CREATED:20250209T095855Z
LAST-MODIFIED:20250307T063049Z
UID:34975-1741452300-1741458600@www.43szepitoksk.hu
SUMMARY:BLSZI 19. forduló: FLOTTA 2001 SE
DESCRIPTION:
URL:https://www.43szepitoksk.hu/event/blszi-19-fordulo-flotta-2001-se/
LOCATION:Vilmos Endre Sportcentrum (volt Malév pálya)\, Nagyszalontai utca 25.\, Budapest\, 1185
CATEGORIES:Bajnoki mérkőzések
ATTACH;FMTTYPE=image/jpeg:https://www.43szepitoksk.hu/wp-content/uploads/2025/02/esemeny-2.jpg
END:VEVENT
BEGIN:VEVENT
DTSTART;TZID=Europe/Budapest:20250311T193000
DTEND;TZID=Europe/Budapest:20250311T210000
DTSTAMP:20260422T120401
CREATED:20250209T095925Z
LAST-MODIFIED:20250209T095925Z
UID:34977-1741721400-1741726800@www.43szepitoksk.hu
SUMMARY:Edzés
DESCRIPTION:
URL:https://www.43szepitoksk.hu/event/edzes-1021/
LOCATION:III. Kerület TVE Sporttelep\, Kalap utca 2.\, Budapest\, 1037
CATEGORIES:Edzések
END:VEVENT
BEGIN:VEVENT
DTSTART;TZID=Europe/Budapest:20250312T193000
DTEND;TZID=Europe/Budapest:20250312T210000
DTSTAMP:20260422T120401
CREATED:20250209T095955Z
LAST-MODIFIED:20250209T095955Z
UID:34979-1741807800-1741813200@www.43szepitoksk.hu
SUMMARY:Edzés
DESCRIPTION:
URL:https://www.43szepitoksk.hu/event/edzes-1022/
LOCATION:III. Kerület TVE Sporttelep\, Kalap utca 2.\, Budapest\, 1037
CATEGORIES:Edzések
END:VEVENT
BEGIN:VEVENT
DTSTART;TZID=Europe/Budapest:20250314T193000
DTEND;TZID=Europe/Budapest:20250314T210000
DTSTAMP:20260422T120401
CREATED:20250209T100045Z
LAST-MODIFIED:20250313T062527Z
UID:34982-1741980600-1741986000@www.43szepitoksk.hu
SUMMARY:Edzés
DESCRIPTION:
URL:https://www.43szepitoksk.hu/event/edzes-1023/
LOCATION:III. Kerület TVE Sporttelep\, Kalap utca 2.\, Budapest\, 1037
CATEGORIES:Edzések
END:VEVENT
BEGIN:VEVENT
DTSTART;TZID=Europe/Budapest:20250316T140000
DTEND;TZID=Europe/Budapest:20250316T154500
DTSTAMP:20260422T120401
CREATED:20250209T100755Z
LAST-MODIFIED:20250313T102217Z
UID:34984-1742133600-1742139900@www.43szepitoksk.hu
SUMMARY:BLSZI 20. forduló: 1908 SZAC BUDAPEST FC
DESCRIPTION:
URL:https://www.43szepitoksk.hu/event/blszi-20-fordulo-1908-szac-budapest-fc/
LOCATION:III. Kerület TVE Sporttelep\, Kalap utca 2.\, Budapest\, 1037
CATEGORIES:Bajnoki mérkőzések
ATTACH;FMTTYPE=image/jpeg:https://www.43szepitoksk.hu/wp-content/uploads/2025/02/Esemeny-3.jpg
END:VEVENT
BEGIN:VEVENT
DTSTART;TZID=Europe/Budapest:20250318T193000
DTEND;TZID=Europe/Budapest:20250318T210000
DTSTAMP:20260422T120401
CREATED:20250209T101645Z
LAST-MODIFIED:20250209T101645Z
UID:34987-1742326200-1742331600@www.43szepitoksk.hu
SUMMARY:Edzés
DESCRIPTION:
URL:https://www.43szepitoksk.hu/event/edzes-1024/
LOCATION:III. Kerület TVE Sporttelep\, Kalap utca 2.\, Budapest\, 1037
CATEGORIES:Edzések
END:VEVENT
BEGIN:VEVENT
DTSTART;TZID=Europe/Budapest:20250319T140000
DTEND;TZID=Europe/Budapest:20250319T154500
DTSTAMP:20260422T120401
CREATED:20250209T101942Z
LAST-MODIFIED:20250318T091657Z
UID:34989-1742392800-1742399100@www.43szepitoksk.hu
SUMMARY:Budapest Kupa 4. forduló: SZENT ISTVÁN SE
DESCRIPTION:
URL:https://www.43szepitoksk.hu/event/edzes-1025/
LOCATION:ROKK sporttelep\, Vágóhíd utca 11-13.\, Budapest\, 1097
CATEGORIES:Kupa mérkőzések
ATTACH;FMTTYPE=image/jpeg:https://www.43szepitoksk.hu/wp-content/uploads/2025/02/Esemeny-4.jpg
END:VEVENT
BEGIN:VEVENT
DTSTART;TZID=Europe/Budapest:20250320T193000
DTEND;TZID=Europe/Budapest:20250320T210000
DTSTAMP:20260422T120401
CREATED:20250209T102848Z
LAST-MODIFIED:20250209T104642Z
UID:34991-1742499000-1742504400@www.43szepitoksk.hu
SUMMARY:Edzés
DESCRIPTION:
URL:https://www.43szepitoksk.hu/event/edzes-1026/
LOCATION:III. Kerület TVE Sporttelep\, Kalap utca 2.\, Budapest\, 1037
CATEGORIES:Edzések
END:VEVENT
BEGIN:VEVENT
DTSTART;TZID=Europe/Budapest:20250322T190000
DTEND;TZID=Europe/Budapest:20250322T204500
DTSTAMP:20260422T120401
CREATED:20250209T104827Z
LAST-MODIFIED:20250318T092041Z
UID:34993-1742670000-1742676300@www.43szepitoksk.hu
SUMMARY:BLSZI 21. forduló: ISSIMO SE
DESCRIPTION:
URL:https://www.43szepitoksk.hu/event/blszi-21-fordulo-issimo-se/
LOCATION:Vasgolyó utcai sporttelep\, Vasgolyó utca 51.\, Budapest\, 1158
CATEGORIES:Bajnoki mérkőzések
ATTACH;FMTTYPE=image/jpeg:https://www.43szepitoksk.hu/wp-content/uploads/2025/02/Esemeny-5.jpg
END:VEVENT
BEGIN:VEVENT
DTSTART;TZID=Europe/Budapest:20250325T193000
DTEND;TZID=Europe/Budapest:20250325T210000
DTSTAMP:20260422T120401
CREATED:20250209T104909Z
LAST-MODIFIED:20250209T104909Z
UID:34995-1742931000-1742936400@www.43szepitoksk.hu
SUMMARY:Edzés
DESCRIPTION:
URL:https://www.43szepitoksk.hu/event/edzes-1027/
LOCATION:III. Kerület TVE Sporttelep\, Kalap utca 2.\, Budapest\, 1037
CATEGORIES:Edzések
END:VEVENT
BEGIN:VEVENT
DTSTART;TZID=Europe/Budapest:20250326T193000
DTEND;TZID=Europe/Budapest:20250326T210000
DTSTAMP:20260422T120401
CREATED:20250209T104939Z
LAST-MODIFIED:20250209T104953Z
UID:34997-1743017400-1743022800@www.43szepitoksk.hu
SUMMARY:Edzés
DESCRIPTION:
URL:https://www.43szepitoksk.hu/event/edzes-1028/
LOCATION:III. Kerület TVE Sporttelep\, Kalap utca 2.\, Budapest\, 1037
CATEGORIES:Edzések
END:VEVENT
BEGIN:VEVENT
DTSTART;TZID=Europe/Budapest:20250327T193000
DTEND;TZID=Europe/Budapest:20250327T210000
DTSTAMP:20260422T120401
CREATED:20250209T105022Z
LAST-MODIFIED:20250209T105022Z
UID:34999-1743103800-1743109200@www.43szepitoksk.hu
SUMMARY:Edzés
DESCRIPTION:
URL:https://www.43szepitoksk.hu/event/edzes-1029/
LOCATION:III. Kerület TVE Sporttelep\, Kalap utca 2.\, Budapest\, 1037
CATEGORIES:Edzések
END:VEVENT
BEGIN:VEVENT
DTSTART;TZID=Europe/Budapest:20250329T170000
DTEND;TZID=Europe/Budapest:20250329T184500
DTSTAMP:20260422T120401
CREATED:20250209T105106Z
LAST-MODIFIED:20250326T072255Z
UID:35001-1743267600-1743273900@www.43szepitoksk.hu
SUMMARY:BLSZI 22. forduló: BUDAI FC
DESCRIPTION:
URL:https://www.43szepitoksk.hu/event/blszi-22-fordulo-budai-fc/
LOCATION:III. Kerület TVE Sporttelep\, Kalap utca 2.\, Budapest\, 1037
CATEGORIES:Edzések
ATTACH;FMTTYPE=image/jpeg:https://www.43szepitoksk.hu/wp-content/uploads/2025/02/Esemeny-6.jpg
END:VEVENT
BEGIN:VEVENT
DTSTART;TZID=Europe/Budapest:20250401T193000
DTEND;TZID=Europe/Budapest:20250401T210000
DTSTAMP:20260422T120401
CREATED:20250224T065946Z
LAST-MODIFIED:20250224T065946Z
UID:35183-1743535800-1743541200@www.43szepitoksk.hu
SUMMARY:Edzés
DESCRIPTION:
URL:https://www.43szepitoksk.hu/event/edzes-1030/
LOCATION:III. Kerület TVE Sporttelep\, Kalap utca 2.\, Budapest\, 1037
CATEGORIES:Edzések
END:VEVENT
BEGIN:VEVENT
DTSTART;TZID=Europe/Budapest:20250402T193000
DTEND;TZID=Europe/Budapest:20250402T210000
DTSTAMP:20260422T120401
CREATED:20250224T070034Z
LAST-MODIFIED:20250224T070034Z
UID:35185-1743622200-1743627600@www.43szepitoksk.hu
SUMMARY:Edzés
DESCRIPTION:
URL:https://www.43szepitoksk.hu/event/edzes-1031/
LOCATION:III. Kerület TVE Sporttelep\, Kalap utca 2.\, Budapest\, 1037
CATEGORIES:Edzések
END:VEVENT
END:VCALENDAR