BEGIN:VCALENDAR
VERSION:2.0
PRODID:-//43. sz. Építők SK - ECPv6.14.0//NONSGML v1.0//EN
CALSCALE:GREGORIAN
METHOD:PUBLISH
X-ORIGINAL-URL:https://www.43szepitoksk.hu
X-WR-CALDESC:Események 43. sz. Építők SK
REFRESH-INTERVAL;VALUE=DURATION:PT1H
X-Robots-Tag:noindex
X-PUBLISHED-TTL:PT1H
BEGIN:VTIMEZONE
TZID:Europe/Budapest
BEGIN:DAYLIGHT
TZOFFSETFROM:+0100
TZOFFSETTO:+0200
TZNAME:CEST
DTSTART:20250330T010000
END:DAYLIGHT
BEGIN:STANDARD
TZOFFSETFROM:+0200
TZOFFSETTO:+0100
TZNAME:CET
DTSTART:20251026T010000
END:STANDARD
END:VTIMEZONE
BEGIN:VEVENT
DTSTART;TZID=Europe/Budapest:20250408T193000
DTEND;TZID=Europe/Budapest:20250408T210000
DTSTAMP:20260422T071607
CREATED:20250303T085939Z
LAST-MODIFIED:20250303T085939Z
UID:35275-1744140600-1744146000@www.43szepitoksk.hu
SUMMARY:Edzés
DESCRIPTION:
URL:https://www.43szepitoksk.hu/event/edzes-1033/
LOCATION:III. Kerület TVE Sporttelep\, Kalap utca 2.\, Budapest\, 1037
CATEGORIES:Edzések
END:VEVENT
BEGIN:VEVENT
DTSTART;TZID=Europe/Budapest:20250409T193000
DTEND;TZID=Europe/Budapest:20250409T210000
DTSTAMP:20260422T071607
CREATED:20250303T090017Z
LAST-MODIFIED:20250303T090017Z
UID:35277-1744227000-1744232400@www.43szepitoksk.hu
SUMMARY:Edzés
DESCRIPTION:
URL:https://www.43szepitoksk.hu/event/edzes-1034/
LOCATION:III. Kerület TVE Sporttelep\, Kalap utca 2.\, Budapest\, 1037
CATEGORIES:Edzések
END:VEVENT
BEGIN:VEVENT
DTSTART;TZID=Europe/Budapest:20250410T193000
DTEND;TZID=Europe/Budapest:20250410T210000
DTSTAMP:20260422T071607
CREATED:20250303T090043Z
LAST-MODIFIED:20250303T090043Z
UID:35279-1744313400-1744318800@www.43szepitoksk.hu
SUMMARY:Edzés
DESCRIPTION:
URL:https://www.43szepitoksk.hu/event/edzes-1035/
LOCATION:III. Kerület TVE Sporttelep\, Kalap utca 2.\, Budapest\, 1037
CATEGORIES:Edzések
END:VEVENT
BEGIN:VEVENT
DTSTART;TZID=Europe/Budapest:20250412T180000
DTEND;TZID=Europe/Budapest:20250412T194500
DTSTAMP:20260422T071607
CREATED:20250303T090128Z
LAST-MODIFIED:20250409T181335Z
UID:35281-1744480800-1744487100@www.43szepitoksk.hu
SUMMARY:BLSZI 24. forduló: REAC
DESCRIPTION:
URL:https://www.43szepitoksk.hu/event/blszi-24-fordulo-reac/
LOCATION:III. Kerület TVE Sporttelep\, Kalap utca 2.\, Budapest\, 1037
CATEGORIES:Bajnoki mérkőzések
ATTACH;FMTTYPE=image/jpeg:https://www.43szepitoksk.hu/wp-content/uploads/2025/03/Esemeny-2.jpg
END:VEVENT
BEGIN:VEVENT
DTSTART;TZID=Europe/Budapest:20250415T193000
DTEND;TZID=Europe/Budapest:20250415T210000
DTSTAMP:20260422T071607
CREATED:20250303T090158Z
LAST-MODIFIED:20250303T090158Z
UID:35283-1744745400-1744750800@www.43szepitoksk.hu
SUMMARY:Edzés
DESCRIPTION:
URL:https://www.43szepitoksk.hu/event/edzes-1036/
LOCATION:III. Kerület TVE Sporttelep\, Kalap utca 2.\, Budapest\, 1037
CATEGORIES:Edzések
END:VEVENT
BEGIN:VEVENT
DTSTART;TZID=Europe/Budapest:20250416T170000
DTEND;TZID=Europe/Budapest:20250416T184500
DTSTAMP:20260422T071607
CREATED:20250303T090226Z
LAST-MODIFIED:20250409T181243Z
UID:35285-1744822800-1744829100@www.43szepitoksk.hu
SUMMARY:Budapest Kupa 5. forduló: REAC
DESCRIPTION:
URL:https://www.43szepitoksk.hu/event/edzes-1037/
LOCATION:Budai II László stadion\, Széchenyi tér 8-10.\, Budapest\, 1151
CATEGORIES:Kupa mérkőzések
ATTACH;FMTTYPE=image/jpeg:https://www.43szepitoksk.hu/wp-content/uploads/2025/03/Esemeny-1.jpg
END:VEVENT
BEGIN:VEVENT
DTSTART;TZID=Europe/Budapest:20250417T193000
DTEND;TZID=Europe/Budapest:20250417T210000
DTSTAMP:20260422T071607
CREATED:20250303T090317Z
LAST-MODIFIED:20250303T090317Z
UID:35288-1744918200-1744923600@www.43szepitoksk.hu
SUMMARY:Edzés
DESCRIPTION:
URL:https://www.43szepitoksk.hu/event/edzes-1038/
LOCATION:III. Kerület TVE Sporttelep\, Kalap utca 2.\, Budapest\, 1037
CATEGORIES:Edzések
END:VEVENT
BEGIN:VEVENT
DTSTART;TZID=Europe/Budapest:20250422T193000
DTEND;TZID=Europe/Budapest:20250422T210000
DTSTAMP:20260422T071607
CREATED:20250303T091237Z
LAST-MODIFIED:20250303T091237Z
UID:35292-1745350200-1745355600@www.43szepitoksk.hu
SUMMARY:Edzés
DESCRIPTION:
URL:https://www.43szepitoksk.hu/event/edzes-1039/
LOCATION:III. Kerület TVE Sporttelep\, Kalap utca 2.\, Budapest\, 1037
CATEGORIES:Edzések
END:VEVENT
BEGIN:VEVENT
DTSTART;TZID=Europe/Budapest:20250423T190000
DTEND;TZID=Europe/Budapest:20250423T204500
DTSTAMP:20260422T071607
CREATED:20250303T091210Z
LAST-MODIFIED:20250418T121421Z
UID:35290-1745434800-1745441100@www.43szepitoksk.hu
SUMMARY:BLSZI 25. forduló: SZABADKIKÖTŐ SPORT KFT.
DESCRIPTION:
URL:https://www.43szepitoksk.hu/event/blszi-24-fordulo-szabadkikoto-sport-kft/
LOCATION:Sport11\, Kánai utca 2.\, Budapest\, 1112
CATEGORIES:Bajnoki mérkőzések
ATTACH;FMTTYPE=image/jpeg:https://www.43szepitoksk.hu/wp-content/uploads/2025/03/Esemeny-3.jpg
END:VEVENT
BEGIN:VEVENT
DTSTART;TZID=Europe/Budapest:20250424T193000
DTEND;TZID=Europe/Budapest:20250424T210000
DTSTAMP:20260422T071607
CREATED:20250303T091307Z
LAST-MODIFIED:20250303T091307Z
UID:35294-1745523000-1745528400@www.43szepitoksk.hu
SUMMARY:Edzés
DESCRIPTION:
URL:https://www.43szepitoksk.hu/event/edzes-1040/
LOCATION:III. Kerület TVE Sporttelep\, Kalap utca 2.\, Budapest\, 1037
CATEGORIES:Edzések
END:VEVENT
BEGIN:VEVENT
DTSTART;TZID=Europe/Budapest:20250426T170000
DTEND;TZID=Europe/Budapest:20250426T184500
DTSTAMP:20260422T071607
CREATED:20250303T091407Z
LAST-MODIFIED:20250418T121454Z
UID:35296-1745686800-1745693100@www.43szepitoksk.hu
SUMMARY:BLSZI 26. forduló: LUDOVIKA SE
DESCRIPTION:
URL:https://www.43szepitoksk.hu/event/blszi-25-fordulo-ludovika-se/
LOCATION:III. Kerület TVE Sporttelep\, Kalap utca 2.\, Budapest\, 1037
CATEGORIES:Bajnoki mérkőzések
ATTACH;FMTTYPE=image/jpeg:https://www.43szepitoksk.hu/wp-content/uploads/2025/03/Esemeny-4.jpg
END:VEVENT
BEGIN:VEVENT
DTSTART;TZID=Europe/Budapest:20250429T200000
DTEND;TZID=Europe/Budapest:20250429T213000
DTSTAMP:20260422T071607
CREATED:20250307T062044Z
LAST-MODIFIED:20250428T063559Z
UID:35316-1745956800-1745962200@www.43szepitoksk.hu
SUMMARY:Edzés
DESCRIPTION:
URL:https://www.43szepitoksk.hu/event/edzes-1041/
LOCATION:III. Kerület TVE Sporttelep\, Kalap utca 2.\, Budapest\, 1037
CATEGORIES:Edzések
END:VEVENT
BEGIN:VEVENT
DTSTART;TZID=Europe/Budapest:20250430T194500
DTEND;TZID=Europe/Budapest:20250430T213000
DTSTAMP:20260422T071607
CREATED:20250307T062239Z
LAST-MODIFIED:20250418T121539Z
UID:35322-1746042300-1746048600@www.43szepitoksk.hu
SUMMARY:BLSZI 27. forduló: UNIONE FC
DESCRIPTION:
URL:https://www.43szepitoksk.hu/event/blszi-27-fordulo-unione-fc/
LOCATION:III. Kerület TVE Sporttelep\, Kalap utca 2.\, Budapest\, 1037
CATEGORIES:Bajnoki mérkőzések
ATTACH;FMTTYPE=image/jpeg:https://www.43szepitoksk.hu/wp-content/uploads/2025/03/Esemeny-5.jpg
END:VEVENT
BEGIN:VEVENT
DTSTART;TZID=Europe/Budapest:20250501T193000
DTEND;TZID=Europe/Budapest:20250501T210000
DTSTAMP:20260422T071607
CREATED:20250307T062150Z
LAST-MODIFIED:20250307T062150Z
UID:35320-1746127800-1746133200@www.43szepitoksk.hu
SUMMARY:Edzés
DESCRIPTION:
URL:https://www.43szepitoksk.hu/event/edzes-1043/
LOCATION:III. Kerület TVE Sporttelep\, Kalap utca 2.\, Budapest\, 1037
CATEGORIES:Edzések
END:VEVENT
BEGIN:VEVENT
DTSTART;TZID=Europe/Budapest:20250506T193000
DTEND;TZID=Europe/Budapest:20250506T210000
DTSTAMP:20260422T071607
CREATED:20250307T062314Z
LAST-MODIFIED:20250307T062314Z
UID:35324-1746559800-1746565200@www.43szepitoksk.hu
SUMMARY:Edzés
DESCRIPTION:
URL:https://www.43szepitoksk.hu/event/edzes-1044/
LOCATION:III. Kerület TVE Sporttelep\, Kalap utca 2.\, Budapest\, 1037
CATEGORIES:Edzések
END:VEVENT
BEGIN:VEVENT
DTSTART;TZID=Europe/Budapest:20250507T193000
DTEND;TZID=Europe/Budapest:20250507T210000
DTSTAMP:20260422T071607
CREATED:20250307T062340Z
LAST-MODIFIED:20250307T062340Z
UID:35326-1746646200-1746651600@www.43szepitoksk.hu
SUMMARY:Edzés
DESCRIPTION:
URL:https://www.43szepitoksk.hu/event/edzes-1045/
LOCATION:III. Kerület TVE Sporttelep\, Kalap utca 2.\, Budapest\, 1037
CATEGORIES:Edzések
END:VEVENT
BEGIN:VEVENT
DTSTART;TZID=Europe/Budapest:20250508T193000
DTEND;TZID=Europe/Budapest:20250508T210000
DTSTAMP:20260422T071607
CREATED:20250307T062122Z
LAST-MODIFIED:20250413T183543Z
UID:35318-1746732600-1746738000@www.43szepitoksk.hu
SUMMARY:Edzés
DESCRIPTION:
URL:https://www.43szepitoksk.hu/event/edzes-1042/
LOCATION:III. Kerület TVE Sporttelep\, Kalap utca 2.\, Budapest\, 1037
CATEGORIES:Edzések
END:VEVENT
BEGIN:VEVENT
DTSTART;TZID=Europe/Budapest:20250510T170000
DTEND;TZID=Europe/Budapest:20250510T184500
DTSTAMP:20260422T071607
CREATED:20250307T062432Z
LAST-MODIFIED:20250504T082821Z
UID:35328-1746896400-1746902700@www.43szepitoksk.hu
SUMMARY:BLSZI 28. forduló: II. KERÜLET UFC
DESCRIPTION:
URL:https://www.43szepitoksk.hu/event/blszi-28-fordulo-ii-kerulet-ufc/
LOCATION:III. Kerület TVE Sporttelep\, Kalap utca 2.\, Budapest\, 1037
CATEGORIES:Bajnoki mérkőzések
ATTACH;FMTTYPE=image/jpeg:https://www.43szepitoksk.hu/wp-content/uploads/2025/03/esemeny-6.jpg
END:VEVENT
BEGIN:VEVENT
DTSTART;TZID=Europe/Budapest:20250513T193000
DTEND;TZID=Europe/Budapest:20250513T210000
DTSTAMP:20260422T071607
CREATED:20250307T062501Z
LAST-MODIFIED:20250307T062501Z
UID:35330-1747164600-1747170000@www.43szepitoksk.hu
SUMMARY:Edzés
DESCRIPTION:
URL:https://www.43szepitoksk.hu/event/edzes-1046/
LOCATION:III. Kerület TVE Sporttelep\, Kalap utca 2.\, Budapest\, 1037
CATEGORIES:Edzések
END:VEVENT
BEGIN:VEVENT
DTSTART;TZID=Europe/Budapest:20250514T193000
DTEND;TZID=Europe/Budapest:20250514T210000
DTSTAMP:20260422T071607
CREATED:20250307T062548Z
LAST-MODIFIED:20250307T062548Z
UID:35332-1747251000-1747256400@www.43szepitoksk.hu
SUMMARY:Edzés
DESCRIPTION:
URL:https://www.43szepitoksk.hu/event/edzes-1047/
LOCATION:III. Kerület TVE Sporttelep\, Kalap utca 2.\, Budapest\, 1037
CATEGORIES:Edzések
END:VEVENT
BEGIN:VEVENT
DTSTART;TZID=Europe/Budapest:20250515T193000
DTEND;TZID=Europe/Budapest:20250515T210000
DTSTAMP:20260422T071607
CREATED:20250307T062616Z
LAST-MODIFIED:20250307T062640Z
UID:35334-1747337400-1747342800@www.43szepitoksk.hu
SUMMARY:Edzés
DESCRIPTION:
URL:https://www.43szepitoksk.hu/event/edzes-1048/
LOCATION:III. Kerület TVE Sporttelep\, Kalap utca 2.\, Budapest\, 1037
CATEGORIES:Edzések
END:VEVENT
BEGIN:VEVENT
DTSTART;TZID=Europe/Budapest:20250517T110000
DTEND;TZID=Europe/Budapest:20250517T124500
DTSTAMP:20260422T071607
CREATED:20250307T062747Z
LAST-MODIFIED:20250513T062545Z
UID:35336-1747479600-1747485900@www.43szepitoksk.hu
SUMMARY:BLSZI 29. forduló: BUDAFOKI MTE II
DESCRIPTION:
URL:https://www.43szepitoksk.hu/event/blszi-29-fordulo-budafoki-mte-ii/
LOCATION:Budafoki MTE Sporttelep (műfüves pálya)\, Promontor utca 89.\, Budapest\, 1222
CATEGORIES:Bajnoki mérkőzések
ATTACH;FMTTYPE=image/jpeg:https://www.43szepitoksk.hu/wp-content/uploads/2025/03/esemeny-7.jpg
END:VEVENT
BEGIN:VEVENT
DTSTART;TZID=Europe/Budapest:20250520T193000
DTEND;TZID=Europe/Budapest:20250520T210000
DTSTAMP:20260422T071607
CREATED:20250307T062817Z
LAST-MODIFIED:20250307T062817Z
UID:35338-1747769400-1747774800@www.43szepitoksk.hu
SUMMARY:Edzés
DESCRIPTION:
URL:https://www.43szepitoksk.hu/event/edzes-1049/
LOCATION:III. Kerület TVE Sporttelep\, Kalap utca 2.\, Budapest\, 1037
CATEGORIES:Edzések
END:VEVENT
BEGIN:VEVENT
DTSTART;TZID=Europe/Budapest:20250521T193000
DTEND;TZID=Europe/Budapest:20250521T210000
DTSTAMP:20260422T071607
CREATED:20250307T062847Z
LAST-MODIFIED:20250307T062847Z
UID:35340-1747855800-1747861200@www.43szepitoksk.hu
SUMMARY:Edzés
DESCRIPTION:
URL:https://www.43szepitoksk.hu/event/edzes-1050/
LOCATION:III. Kerület TVE Sporttelep\, Kalap utca 2.\, Budapest\, 1037
CATEGORIES:Edzések
END:VEVENT
BEGIN:VEVENT
DTSTART;TZID=Europe/Budapest:20250522T193000
DTEND;TZID=Europe/Budapest:20250522T210000
DTSTAMP:20260422T071607
CREATED:20250307T062913Z
LAST-MODIFIED:20250307T062913Z
UID:35342-1747942200-1747947600@www.43szepitoksk.hu
SUMMARY:Edzés
DESCRIPTION:
URL:https://www.43szepitoksk.hu/event/edzes-1051/
LOCATION:III. Kerület TVE Sporttelep\, Kalap utca 2.\, Budapest\, 1037
CATEGORIES:Edzések
END:VEVENT
BEGIN:VEVENT
DTSTART;TZID=Europe/Budapest:20250524T170000
DTEND;TZID=Europe/Budapest:20250524T184500
DTSTAMP:20260422T071607
CREATED:20250307T063007Z
LAST-MODIFIED:20250307T063007Z
UID:35344-1748106000-1748112300@www.43szepitoksk.hu
SUMMARY:BLSZI 30. forduló: CSEPEL UFC
DESCRIPTION:
URL:https://www.43szepitoksk.hu/event/blszi-30-fordulo-csepel-ufc/
LOCATION:III. Kerület TVE Sporttelep\, Kalap utca 2.\, Budapest\, 1037
CATEGORIES:Bajnoki mérkőzések
END:VEVENT
BEGIN:VEVENT
DTSTART;TZID=Europe/Budapest:20250527T183000
DTEND;TZID=Europe/Budapest:20250527T200000
DTSTAMP:20260422T071607
CREATED:20250428T060053Z
LAST-MODIFIED:20250521T112222Z
UID:36119-1748370600-1748376000@www.43szepitoksk.hu
SUMMARY:Edzés
DESCRIPTION:
URL:https://www.43szepitoksk.hu/event/edzes-1052/
LOCATION:III. Kerület TVE Sporttelep\, Kalap utca 2.\, Budapest\, 1037
CATEGORIES:Edzések
END:VEVENT
BEGIN:VEVENT
DTSTART;TZID=Europe/Budapest:20250528T183000
DTEND;TZID=Europe/Budapest:20250528T200000
DTSTAMP:20260422T071607
CREATED:20250428T060126Z
LAST-MODIFIED:20250521T112203Z
UID:36121-1748457000-1748462400@www.43szepitoksk.hu
SUMMARY:Edzés
DESCRIPTION:
URL:https://www.43szepitoksk.hu/event/edzes-1053/
LOCATION:III. Kerület TVE Sporttelep\, Kalap utca 2.\, Budapest\, 1037
CATEGORIES:Edzések
END:VEVENT
BEGIN:VEVENT
DTSTART;TZID=Europe/Budapest:20250530T180000
DTEND;TZID=Europe/Budapest:20250530T193000
DTSTAMP:20260422T071607
CREATED:20250428T060207Z
LAST-MODIFIED:20250522T143933Z
UID:36123-1748628000-1748633400@www.43szepitoksk.hu
SUMMARY:Edzés
DESCRIPTION:
URL:https://www.43szepitoksk.hu/event/edzes-1054/
LOCATION:III. Kerület TVE Sporttelep\, Kalap utca 2.\, Budapest\, 1037
CATEGORIES:Edzések
END:VEVENT
BEGIN:VEVENT
DTSTART;TZID=Europe/Budapest:20250531T170000
DTEND;TZID=Europe/Budapest:20250531T184500
DTSTAMP:20260422T071607
CREATED:20250428T060318Z
LAST-MODIFIED:20250428T060318Z
UID:36125-1748710800-1748717100@www.43szepitoksk.hu
SUMMARY:Budapest Kupa Döntő: TFSE
DESCRIPTION:
URL:https://www.43szepitoksk.hu/event/budapest-kupa-donto-tfse/
LOCATION:Budafoki MTE stadion\, Promontor utca 89.\, Budapest\, 1222
CATEGORIES:Kupa mérkőzések
ATTACH;FMTTYPE=image/jpeg:https://www.43szepitoksk.hu/wp-content/uploads/2025/04/Budapest-kupa-kek-3.jpg
END:VEVENT
END:VCALENDAR