BEGIN:VCALENDAR
VERSION:2.0
PRODID:-//43. sz. Építők SK - ECPv6.14.0//NONSGML v1.0//EN
CALSCALE:GREGORIAN
METHOD:PUBLISH
X-ORIGINAL-URL:https://www.43szepitoksk.hu
X-WR-CALDESC:Események 43. sz. Építők SK
REFRESH-INTERVAL;VALUE=DURATION:PT1H
X-Robots-Tag:noindex
X-PUBLISHED-TTL:PT1H
BEGIN:VTIMEZONE
TZID:Europe/Budapest
BEGIN:DAYLIGHT
TZOFFSETFROM:+0100
TZOFFSETTO:+0200
TZNAME:CEST
DTSTART:20250330T010000
END:DAYLIGHT
BEGIN:STANDARD
TZOFFSETFROM:+0200
TZOFFSETTO:+0100
TZNAME:CET
DTSTART:20251026T010000
END:STANDARD
END:VTIMEZONE
BEGIN:VEVENT
DTSTART;TZID=Europe/Budapest:20250528T183000
DTEND;TZID=Europe/Budapest:20250528T200000
DTSTAMP:20260422T042411
CREATED:20250428T060126Z
LAST-MODIFIED:20250521T112203Z
UID:36121-1748457000-1748462400@www.43szepitoksk.hu
SUMMARY:Edzés
DESCRIPTION:
URL:https://www.43szepitoksk.hu/event/edzes-1053/
LOCATION:III. Kerület TVE Sporttelep\, Kalap utca 2.\, Budapest\, 1037
CATEGORIES:Edzések
END:VEVENT
BEGIN:VEVENT
DTSTART;TZID=Europe/Budapest:20250530T180000
DTEND;TZID=Europe/Budapest:20250530T193000
DTSTAMP:20260422T042411
CREATED:20250428T060207Z
LAST-MODIFIED:20250522T143933Z
UID:36123-1748628000-1748633400@www.43szepitoksk.hu
SUMMARY:Edzés
DESCRIPTION:
URL:https://www.43szepitoksk.hu/event/edzes-1054/
LOCATION:III. Kerület TVE Sporttelep\, Kalap utca 2.\, Budapest\, 1037
CATEGORIES:Edzések
END:VEVENT
BEGIN:VEVENT
DTSTART;TZID=Europe/Budapest:20250531T170000
DTEND;TZID=Europe/Budapest:20250531T184500
DTSTAMP:20260422T042411
CREATED:20250428T060318Z
LAST-MODIFIED:20250428T060318Z
UID:36125-1748710800-1748717100@www.43szepitoksk.hu
SUMMARY:Budapest Kupa Döntő: TFSE
DESCRIPTION:
URL:https://www.43szepitoksk.hu/event/budapest-kupa-donto-tfse/
LOCATION:Budafoki MTE stadion\, Promontor utca 89.\, Budapest\, 1222
CATEGORIES:Kupa mérkőzések
ATTACH;FMTTYPE=image/jpeg:https://www.43szepitoksk.hu/wp-content/uploads/2025/04/Budapest-kupa-kek-3.jpg
END:VEVENT
BEGIN:VEVENT
DTSTART;TZID=Europe/Budapest:20250605T190000
DTEND;TZID=Europe/Budapest:20250605T230000
DTSTAMP:20260422T042411
CREATED:20250521T084338Z
LAST-MODIFIED:20250521T084506Z
UID:36355-1749150000-1749164400@www.43szepitoksk.hu
SUMMARY:Szezonzáró!
DESCRIPTION:
URL:https://www.43szepitoksk.hu/event/szezonzaro/
LOCATION:Pasarét Club Étterem\, Pasaréti út 11-13.\, Budapest\, 1026
CATEGORIES:Bankett
ATTACH;FMTTYPE=image/jpeg:https://www.43szepitoksk.hu/wp-content/uploads/2025/05/pasaretclub_1.jpg
END:VEVENT
BEGIN:VEVENT
DTSTART;TZID=Europe/Budapest:20250715T193000
DTEND;TZID=Europe/Budapest:20250715T210000
DTSTAMP:20260422T042411
CREATED:20250607T095634Z
LAST-MODIFIED:20250607T095634Z
UID:36640-1752607800-1752613200@www.43szepitoksk.hu
SUMMARY:Edzés
DESCRIPTION:
URL:https://www.43szepitoksk.hu/event/edzes-1055/
LOCATION:III. Kerület TVE Sporttelep\, Kalap utca 2.\, Budapest\, 1037
CATEGORIES:Edzések
END:VEVENT
BEGIN:VEVENT
DTSTART;TZID=Europe/Budapest:20250716T193000
DTEND;TZID=Europe/Budapest:20250716T210000
DTSTAMP:20260422T042411
CREATED:20250607T095707Z
LAST-MODIFIED:20250607T095707Z
UID:36642-1752694200-1752699600@www.43szepitoksk.hu
SUMMARY:Edzés
DESCRIPTION:
URL:https://www.43szepitoksk.hu/event/edzes-1056/
LOCATION:III. Kerület TVE Sporttelep\, Kalap utca 2.\, Budapest\, 1037
CATEGORIES:Edzések
END:VEVENT
BEGIN:VEVENT
DTSTART;TZID=Europe/Budapest:20250717T193000
DTEND;TZID=Europe/Budapest:20250717T210000
DTSTAMP:20260422T042411
CREATED:20250607T095744Z
LAST-MODIFIED:20250607T101845Z
UID:36644-1752780600-1752786000@www.43szepitoksk.hu
SUMMARY:Edzés
DESCRIPTION:
URL:https://www.43szepitoksk.hu/event/edzes-1057/
LOCATION:III. Kerület TVE Sporttelep\, Kalap utca 2.\, Budapest\, 1037
CATEGORIES:Edzések
END:VEVENT
BEGIN:VEVENT
DTSTART;TZID=Europe/Budapest:20250718T193000
DTEND;TZID=Europe/Budapest:20250718T210000
DTSTAMP:20260422T042411
CREATED:20250623T173433Z
LAST-MODIFIED:20250623T173433Z
UID:36706-1752867000-1752872400@www.43szepitoksk.hu
SUMMARY:Edzés
DESCRIPTION:
URL:https://www.43szepitoksk.hu/event/edzes-1058/
LOCATION:III. Kerület TVE Sporttelep\, Kalap utca 2.\, Budapest\, 1037
CATEGORIES:Edzések
END:VEVENT
BEGIN:VEVENT
DTSTART;TZID=Europe/Budapest:20250722T193000
DTEND;TZID=Europe/Budapest:20250722T210000
DTSTAMP:20260422T042411
CREATED:20250623T173511Z
LAST-MODIFIED:20250623T173511Z
UID:36708-1753212600-1753218000@www.43szepitoksk.hu
SUMMARY:Edzés
DESCRIPTION:
URL:https://www.43szepitoksk.hu/event/edzes-1059/
LOCATION:III. Kerület TVE Sporttelep\, Kalap utca 2.\, Budapest\, 1037
CATEGORIES:Edzések
END:VEVENT
BEGIN:VEVENT
DTSTART;TZID=Europe/Budapest:20250723T190000
DTEND;TZID=Europe/Budapest:20250723T204500
DTSTAMP:20260422T042411
CREATED:20250623T173944Z
LAST-MODIFIED:20250714T152409Z
UID:36710-1753297200-1753303500@www.43szepitoksk.hu
SUMMARY:Edzőmérkőzés: Aranyszarvas SE
DESCRIPTION:
URL:https://www.43szepitoksk.hu/event/edzomerkozes-aranyszarvas-se/
LOCATION:Kincsem Lovaspark\, Sőregi út 1.\, Tápiószentmárton\, 2711
CATEGORIES:Edzőmérkőzések
END:VEVENT
BEGIN:VEVENT
DTSTART;TZID=Europe/Budapest:20250724T193000
DTEND;TZID=Europe/Budapest:20250724T210000
DTSTAMP:20260422T042411
CREATED:20250623T174021Z
LAST-MODIFIED:20250623T174021Z
UID:36712-1753385400-1753390800@www.43szepitoksk.hu
SUMMARY:Edzés
DESCRIPTION:
URL:https://www.43szepitoksk.hu/event/edzes-1060/
LOCATION:III. Kerület TVE Sporttelep\, Kalap utca 2.\, Budapest\, 1037
CATEGORIES:Edzések
END:VEVENT
BEGIN:VEVENT
DTSTART;TZID=Europe/Budapest:20250725T193000
DTEND;TZID=Europe/Budapest:20250725T210000
DTSTAMP:20260422T042411
CREATED:20250623T174140Z
LAST-MODIFIED:20250623T174219Z
UID:36714-1753471800-1753477200@www.43szepitoksk.hu
SUMMARY:Edzés
DESCRIPTION:
URL:https://www.43szepitoksk.hu/event/edzes-1061/
LOCATION:III. Kerület TVE Sporttelep\, Kalap utca 2.\, Budapest\, 1037
CATEGORIES:Edzések
END:VEVENT
BEGIN:VEVENT
DTSTART;TZID=Europe/Budapest:20250726T100000
DTEND;TZID=Europe/Budapest:20250726T114500
DTSTAMP:20260422T042411
CREATED:20250623T174313Z
LAST-MODIFIED:20250724T064239Z
UID:36716-1753524000-1753530300@www.43szepitoksk.hu
SUMMARY:Edzőmérkőzés: Maglód-HelloParks
DESCRIPTION:
URL:https://www.43szepitoksk.hu/event/edzomerkozes-maglodi-tc/
LOCATION:Kertész Károly Stadion\, József Attila krt. 6.\, Maglód\, 2234
CATEGORIES:Edzőmérkőzések
END:VEVENT
BEGIN:VEVENT
DTSTART;TZID=Europe/Budapest:20250729T183000
DTEND;TZID=Europe/Budapest:20250729T200000
DTSTAMP:20260422T042411
CREATED:20250623T174500Z
LAST-MODIFIED:20250728T085928Z
UID:36718-1753813800-1753819200@www.43szepitoksk.hu
SUMMARY:Edzés
DESCRIPTION:
URL:https://www.43szepitoksk.hu/event/edzes-1062/
LOCATION:III. Kerület TVE Sporttelep\, Kalap utca 2.\, Budapest\, 1037
CATEGORIES:Edzések
END:VEVENT
BEGIN:VEVENT
DTSTART;TZID=Europe/Budapest:20250730T190000
DTEND;TZID=Europe/Budapest:20250730T204500
DTSTAMP:20260422T042411
CREATED:20250623T174605Z
LAST-MODIFIED:20250623T174605Z
UID:36720-1753902000-1753908300@www.43szepitoksk.hu
SUMMARY:Edzőmérkőzés: Unione FC
DESCRIPTION:
URL:https://www.43szepitoksk.hu/event/edzomerkozes-unione-fc-6/
LOCATION:III. Kerület TVE Sporttelep\, Kalap utca 2.\, Budapest\, 1037
CATEGORIES:Edzőmérkőzések
END:VEVENT
BEGIN:VEVENT
DTSTART;TZID=Europe/Budapest:20250731T183000
DTEND;TZID=Europe/Budapest:20250731T200000
DTSTAMP:20260422T042411
CREATED:20250623T174642Z
LAST-MODIFIED:20250728T085952Z
UID:36722-1753986600-1753992000@www.43szepitoksk.hu
SUMMARY:Edzés
DESCRIPTION:
URL:https://www.43szepitoksk.hu/event/edzes-1063/
LOCATION:III. Kerület TVE Sporttelep\, Kalap utca 2.\, Budapest\, 1037
CATEGORIES:Edzések
END:VEVENT
BEGIN:VEVENT
DTSTART;TZID=Europe/Budapest:20250801T183000
DTEND;TZID=Europe/Budapest:20250801T200000
DTSTAMP:20260422T042411
CREATED:20250623T174716Z
LAST-MODIFIED:20250728T085841Z
UID:36724-1754073000-1754078400@www.43szepitoksk.hu
SUMMARY:Edzés
DESCRIPTION:
URL:https://www.43szepitoksk.hu/event/edzes-1064/
LOCATION:III. Kerület TVE Sporttelep\, Kalap utca 2.\, Budapest\, 1037
CATEGORIES:Edzések
END:VEVENT
BEGIN:VEVENT
DTSTART;TZID=Europe/Budapest:20250803T163000
DTEND;TZID=Europe/Budapest:20250803T181500
DTSTAMP:20260422T042411
CREATED:20250712T063836Z
LAST-MODIFIED:20250714T152137Z
UID:36787-1754238600-1754244900@www.43szepitoksk.hu
SUMMARY:Mol Magyar Kupa 1. forduló: Mártély SK
DESCRIPTION:
URL:https://www.43szepitoksk.hu/event/mol-magyar-kupa-1-fordulo-martely-sk/
LOCATION:Mártélyi sportpálya\, Tisza utca\, Mártély\, 6636
CATEGORIES:Kupa mérkőzések
ATTACH;FMTTYPE=image/jpeg:https://www.43szepitoksk.hu/wp-content/uploads/2025/07/Beharangozo.jpg
END:VEVENT
BEGIN:VEVENT
DTSTART;TZID=Europe/Budapest:20250805T183000
DTEND;TZID=Europe/Budapest:20250805T200000
DTSTAMP:20260422T042411
CREATED:20250623T174755Z
LAST-MODIFIED:20250731T170647Z
UID:36726-1754418600-1754424000@www.43szepitoksk.hu
SUMMARY:Edzés
DESCRIPTION:
URL:https://www.43szepitoksk.hu/event/edzes-1065/
LOCATION:III. Kerület TVE Sporttelep\, Kalap utca 2.\, Budapest\, 1037
CATEGORIES:Edzések
END:VEVENT
BEGIN:VEVENT
DTSTART;TZID=Europe/Budapest:20250806T193000
DTEND;TZID=Europe/Budapest:20250806T210000
DTSTAMP:20260422T042411
CREATED:20250623T174938Z
LAST-MODIFIED:20250804T195743Z
UID:36730-1754508600-1754514000@www.43szepitoksk.hu
SUMMARY:Edzés
DESCRIPTION:
URL:https://www.43szepitoksk.hu/event/edzes-1067/
LOCATION:III. Kerület TVE Sporttelep\, Kalap utca 2.\, Budapest\, 1037
CATEGORIES:Edzések
END:VEVENT
BEGIN:VEVENT
DTSTART;TZID=Europe/Budapest:20250807T190000
DTEND;TZID=Europe/Budapest:20250807T204500
DTSTAMP:20260422T042411
CREATED:20250623T175104Z
LAST-MODIFIED:20250804T184052Z
UID:36732-1754593200-1754599500@www.43szepitoksk.hu
SUMMARY:Edzőmérkőzés: Budakalász MSE
DESCRIPTION:
URL:https://www.43szepitoksk.hu/event/edzomerkozes-budakalasz-mse-2/
LOCATION:Budakalászi sporttelep\, Omszk park 3.\, Budakalász\, 2011
CATEGORIES:Edzőmérkőzések
END:VEVENT
BEGIN:VEVENT
DTSTART;TZID=Europe/Budapest:20250808T183000
DTEND;TZID=Europe/Budapest:20250808T200000
DTSTAMP:20260422T042411
CREATED:20250623T174831Z
LAST-MODIFIED:20250804T184243Z
UID:36728-1754677800-1754683200@www.43szepitoksk.hu
SUMMARY:Edzés
DESCRIPTION:
URL:https://www.43szepitoksk.hu/event/edzes-1066/
LOCATION:III. Kerület TVE Sporttelep\, Kalap utca 2.\, Budapest\, 1037
CATEGORIES:Edzések
END:VEVENT
BEGIN:VEVENT
DTSTART;TZID=Europe/Budapest:20250809T130000
DTEND;TZID=Europe/Budapest:20250809T144500
DTSTAMP:20260422T042411
CREATED:20250623T175210Z
LAST-MODIFIED:20250731T170903Z
UID:36734-1754744400-1754750700@www.43szepitoksk.hu
SUMMARY:Edzőmérkőzés: III. Kerület TVE U19
DESCRIPTION:
URL:https://www.43szepitoksk.hu/event/edzomerkozes-iii-kerulet-tve-u19-4/
LOCATION:III. Kerület TVE Sporttelep\, Kalap utca 2.\, Budapest\, 1037
CATEGORIES:Edzőmérkőzések
END:VEVENT
BEGIN:VEVENT
DTSTART;TZID=Europe/Budapest:20250812T190000
DTEND;TZID=Europe/Budapest:20250812T203000
DTSTAMP:20260422T042411
CREATED:20250623T175253Z
LAST-MODIFIED:20250811T065258Z
UID:36736-1755025200-1755030600@www.43szepitoksk.hu
SUMMARY:Edzés
DESCRIPTION:
URL:https://www.43szepitoksk.hu/event/edzes-1068/
LOCATION:Gázművek sporttelep\, Sujtás utca 2-4.\, Budapest\, 1031
CATEGORIES:Edzések
END:VEVENT
BEGIN:VEVENT
DTSTART;TZID=Europe/Budapest:20250813T184500
DTEND;TZID=Europe/Budapest:20250813T203000
DTSTAMP:20260422T042411
CREATED:20250623T175351Z
LAST-MODIFIED:20250623T175724Z
UID:36738-1755110700-1755117000@www.43szepitoksk.hu
SUMMARY:Edzőmérkőzés: Vác VLSE
DESCRIPTION:
URL:https://www.43szepitoksk.hu/event/edzomerkozes-vac-vse/
LOCATION:Vác Városi Stadion\, Stadion utca 2.\, Vác
CATEGORIES:Edzőmérkőzések
END:VEVENT
BEGIN:VEVENT
DTSTART;TZID=Europe/Budapest:20250814T190000
DTEND;TZID=Europe/Budapest:20250814T203000
DTSTAMP:20260422T042411
CREATED:20250623T175428Z
LAST-MODIFIED:20250811T065221Z
UID:36740-1755198000-1755203400@www.43szepitoksk.hu
SUMMARY:Edzés
DESCRIPTION:
URL:https://www.43szepitoksk.hu/event/edzes-1069/
LOCATION:Gázművek sporttelep\, Sujtás utca 2-4.\, Budapest\, 1031
CATEGORIES:Edzések
END:VEVENT
BEGIN:VEVENT
DTSTART;TZID=Europe/Budapest:20250815T190000
DTEND;TZID=Europe/Budapest:20250815T203000
DTSTAMP:20260422T042411
CREATED:20250623T175505Z
LAST-MODIFIED:20250811T065333Z
UID:36742-1755284400-1755289800@www.43szepitoksk.hu
SUMMARY:Edzés
DESCRIPTION:
URL:https://www.43szepitoksk.hu/event/edzes-1070/
LOCATION:Gázművek sporttelep\, Sujtás utca 2-4.\, Budapest\, 1031
CATEGORIES:Edzések
END:VEVENT
BEGIN:VEVENT
DTSTART;TZID=Europe/Budapest:20250816T110000
DTEND;TZID=Europe/Budapest:20250816T124500
DTSTAMP:20260422T042411
CREATED:20250807T064828Z
LAST-MODIFIED:20250811T065554Z
UID:37098-1755342000-1755348300@www.43szepitoksk.hu
SUMMARY:BLSZI 1. forduló: REAC
DESCRIPTION:
URL:https://www.43szepitoksk.hu/event/blszi-1-fordulo-reac/
LOCATION:Gázművek sporttelep\, Sujtás utca 2-4.\, Budapest\, 1031
CATEGORIES:Bajnoki mérkőzések
ATTACH;FMTTYPE=image/jpeg:https://www.43szepitoksk.hu/wp-content/uploads/2025/08/esemeny.jpg
END:VEVENT
BEGIN:VEVENT
DTSTART;TZID=Europe/Budapest:20250819T190000
DTEND;TZID=Europe/Budapest:20250819T203000
DTSTAMP:20260422T042411
CREATED:20250807T064937Z
LAST-MODIFIED:20250811T065453Z
UID:37100-1755630000-1755635400@www.43szepitoksk.hu
SUMMARY:Edzés
DESCRIPTION:
URL:https://www.43szepitoksk.hu/event/edzes-1071/
LOCATION:Gázművek sporttelep\, Sujtás utca 2-4.\, Budapest\, 1031
CATEGORIES:Edzések
END:VEVENT
BEGIN:VEVENT
DTSTART;TZID=Europe/Budapest:20250821T190000
DTEND;TZID=Europe/Budapest:20250821T203000
DTSTAMP:20260422T042411
CREATED:20250807T065135Z
LAST-MODIFIED:20250811T065526Z
UID:37104-1755802800-1755808200@www.43szepitoksk.hu
SUMMARY:Edzés
DESCRIPTION:
URL:https://www.43szepitoksk.hu/event/edzes-1073/
LOCATION:Gázművek sporttelep\, Sujtás utca 2-4.\, Budapest\, 1031
CATEGORIES:Edzések
END:VEVENT
END:VCALENDAR